BEGIN:VCALENDAR
VERSION:2.0
PRODID:-//Flathead County Library - ECPv6.15.20//NONSGML v1.0//EN
CALSCALE:GREGORIAN
METHOD:PUBLISH
X-WR-CALNAME:Flathead County Library
X-ORIGINAL-URL:https://flatheadcountylibrary.org
X-WR-CALDESC:Events for Flathead County Library
REFRESH-INTERVAL;VALUE=DURATION:PT1H
X-Robots-Tag:noindex
X-PUBLISHED-TTL:PT1H
BEGIN:VTIMEZONE
TZID:America/Denver
BEGIN:DAYLIGHT
TZOFFSETFROM:-0700
TZOFFSETTO:-0600
TZNAME:MDT
DTSTART:20240310T090000
END:DAYLIGHT
BEGIN:STANDARD
TZOFFSETFROM:-0600
TZOFFSETTO:-0700
TZNAME:MST
DTSTART:20241103T080000
END:STANDARD
BEGIN:DAYLIGHT
TZOFFSETFROM:-0700
TZOFFSETTO:-0600
TZNAME:MDT
DTSTART:20250309T090000
END:DAYLIGHT
BEGIN:STANDARD
TZOFFSETFROM:-0600
TZOFFSETTO:-0700
TZNAME:MST
DTSTART:20251102T080000
END:STANDARD
BEGIN:DAYLIGHT
TZOFFSETFROM:-0700
TZOFFSETTO:-0600
TZNAME:MDT
DTSTART:20260308T090000
END:DAYLIGHT
BEGIN:STANDARD
TZOFFSETFROM:-0600
TZOFFSETTO:-0700
TZNAME:MST
DTSTART:20261101T080000
END:STANDARD
END:VTIMEZONE
BEGIN:VEVENT
DTSTART;VALUE=DATE:20250421
DTEND;VALUE=DATE:20250427
DTSTAMP:20260424T072455
CREATED:20250324T201318Z
LAST-MODIFIED:20250324T201318Z
UID:10003578-1745193600-1745711999@flatheadcountylibrary.org
SUMMARY:Community Watercolor Earth Mosaic
DESCRIPTION:What’s your most favorite thing about Earth? Bring it to life with watercolors and add it to our community mosaic! Paint the ocean’s waves\, a serene lake\, majestic mountains\, your favorite animal\, or the endless sky. Let your creativity shine!
URL:https://flatheadcountylibrary.org/event/community-watercolor-earth-mosaic/
LOCATION:Columbia Falls Library\, 130 6th Street West #C\, Columbia Falls\, MT\, 59912\, United States
CATEGORIES:Adult Program
END:VEVENT
BEGIN:VEVENT
DTSTART;VALUE=DATE:20250423
DTEND;VALUE=DATE:20250424
DTSTAMP:20260424T072455
CREATED:20250304T204144Z
LAST-MODIFIED:20250304T205306Z
UID:10003410-1745366400-1745452799@flatheadcountylibrary.org
SUMMARY:Switch Days - Kalispell
DESCRIPTION:Bring your friends or come solo and battle it out on the Nintendo Switch in our Teen Zone.
URL:https://flatheadcountylibrary.org/event/switch-days-kalispell/2025-04-23/
LOCATION:Kalispell Library\, 247 1st Ave East\, Kalispell\, MT\, 59901\, United States
CATEGORIES:Teen Program
END:VEVENT
BEGIN:VEVENT
DTSTART;TZID=America/Denver:20250423T110000
DTEND;TZID=America/Denver:20250423T120000
DTSTAMP:20260424T072455
CREATED:20250301T005721Z
LAST-MODIFIED:20250327T165219Z
UID:10001580-1745406000-1745409600@flatheadcountylibrary.org
SUMMARY:Baby Storytime - Kalispell
DESCRIPTION:Make connections with other parents and learn fun techniques for using books\, songs\, and rhymes at home. Rhythm and repetition will get your little one recognizing and requesting favorite songs. Especially for ages birth to 24 months.
URL:https://flatheadcountylibrary.org/event/baby-storytime-kalispell/2025-04-23/
LOCATION:Kalispell Library\, 247 1st Ave East\, Kalispell\, MT\, 59901\, United States
CATEGORIES:Storytime
END:VEVENT
BEGIN:VEVENT
DTSTART;TZID=America/Denver:20250423T140000
DTEND;TZID=America/Denver:20250423T170000
DTSTAMP:20260424T072455
CREATED:20250304T002412Z
LAST-MODIFIED:20250327T163001Z
UID:10002101-1745416800-1745427600@flatheadcountylibrary.org
SUMMARY:Kids Wednesday Workshop - Kalispell
DESCRIPTION:Join us every Wednesday for hands-on exploration\, including LEGO Club and STEAM Space (science\, technology\, engineering\, art\, and math activities). We’ll create art\, play games\, construct new worlds with LEGOs\, tackle an engineering challenge or learn a new craft. Especially for kids in grades K-5. Must be accompanied by an adult.
URL:https://flatheadcountylibrary.org/event/kids-wednesday-workshop-kalispell/2025-04-23/
LOCATION:Kalispell Library\, 247 1st Ave East\, Kalispell\, MT\, 59901\, United States
CATEGORIES:Kids Program,Storytime
END:VEVENT
BEGIN:VEVENT
DTSTART;TZID=America/Denver:20250423T140000
DTEND;TZID=America/Denver:20250423T170000
DTSTAMP:20260424T072455
CREATED:20250304T002718Z
LAST-MODIFIED:20250327T162805Z
UID:10002362-1745416800-1745427600@flatheadcountylibrary.org
SUMMARY:Kids Wednesday Workshop - Columbia Falls
DESCRIPTION:Join us every Wednesday for hands-on exploration\, including LEGO Club and STEAM Space (science\, technology\, engineering\, art\, and math activities). We’ll create art\, play games\, construct new worlds with LEGOs\, tackle an engineering challenge or learn a new craft. Especially for kids in grades K-5. Must be accompanied by an adult.
URL:https://flatheadcountylibrary.org/event/kids-wednesday-workshop-columbia-falls/2025-04-23/
LOCATION:Columbia Falls Library\, 130 6th Street West #C\, Columbia Falls\, MT\, 59912\, United States
CATEGORIES:Kids Program
END:VEVENT
BEGIN:VEVENT
DTSTART;TZID=America/Denver:20250423T153000
DTEND;TZID=America/Denver:20250423T173000
DTSTAMP:20260424T072455
CREATED:20250304T003348Z
LAST-MODIFIED:20250327T162619Z
UID:10003606-1745422200-1745429400@flatheadcountylibrary.org
SUMMARY:Kids Wednesday Workshop - Bigfork
DESCRIPTION:Join us every Wednesday for hands-on exploration\, including LEGO Club and STEAM Space (science\, technology\, engineering\, art\, and math activities). We’ll create art\, play games\, construct new worlds with LEGOs\, tackle an engineering challenge or learn a new craft. Especially for kids in grades K-5. Must be accompanied by an adult.
URL:https://flatheadcountylibrary.org/event/kids-wednesday-workshop-bigfork/2025-04-23/
LOCATION:Bigfork Library\, 186 Bridge Street\, Bigfork\, MT\, 59911\, United States
CATEGORIES:Kids Program
END:VEVENT
BEGIN:VEVENT
DTSTART;TZID=America/Denver:20250423T160000
DTEND;TZID=America/Denver:20250423T173000
DTSTAMP:20260424T072455
CREATED:20250304T202826Z
LAST-MODIFIED:20250327T170737Z
UID:10002773-1745424000-1745429400@flatheadcountylibrary.org
SUMMARY:Challenge Accepted (Grades 6-12)
DESCRIPTION:Card games\, Switch showdowns\, and awesome challenges!  Bring your best game\, relax\, get creative\, and discover something new! Walk-ins are welcome!
URL:https://flatheadcountylibrary.org/event/challenge-accepted/2025-04-23/
LOCATION:Kalispell Library\, 247 1st Ave East\, Kalispell\, MT\, 59901\, United States
CATEGORIES:Teen Program
END:VEVENT
END:VCALENDAR