BEGIN:VCALENDAR
VERSION:2.0
PRODID:-//Flathead County Library - ECPv6.15.20//NONSGML v1.0//EN
CALSCALE:GREGORIAN
METHOD:PUBLISH
X-ORIGINAL-URL:https://flatheadcountylibrary.org
X-WR-CALDESC:Events for Flathead County Library
REFRESH-INTERVAL;VALUE=DURATION:PT1H
X-Robots-Tag:noindex
X-PUBLISHED-TTL:PT1H
BEGIN:VTIMEZONE
TZID:America/Denver
BEGIN:DAYLIGHT
TZOFFSETFROM:-0700
TZOFFSETTO:-0600
TZNAME:MDT
DTSTART:20240310T090000
END:DAYLIGHT
BEGIN:STANDARD
TZOFFSETFROM:-0600
TZOFFSETTO:-0700
TZNAME:MST
DTSTART:20241103T080000
END:STANDARD
BEGIN:DAYLIGHT
TZOFFSETFROM:-0700
TZOFFSETTO:-0600
TZNAME:MDT
DTSTART:20250309T090000
END:DAYLIGHT
BEGIN:STANDARD
TZOFFSETFROM:-0600
TZOFFSETTO:-0700
TZNAME:MST
DTSTART:20251102T080000
END:STANDARD
BEGIN:DAYLIGHT
TZOFFSETFROM:-0700
TZOFFSETTO:-0600
TZNAME:MDT
DTSTART:20260308T090000
END:DAYLIGHT
BEGIN:STANDARD
TZOFFSETFROM:-0600
TZOFFSETTO:-0700
TZNAME:MST
DTSTART:20261101T080000
END:STANDARD
END:VTIMEZONE
BEGIN:VEVENT
DTSTART;VALUE=DATE:20250421
DTEND;VALUE=DATE:20250427
DTSTAMP:20260424T072545
CREATED:20250324T201318Z
LAST-MODIFIED:20250324T201318Z
UID:10003578-1745193600-1745711999@flatheadcountylibrary.org
SUMMARY:Community Watercolor Earth Mosaic
DESCRIPTION:What’s your most favorite thing about Earth? Bring it to life with watercolors and add it to our community mosaic! Paint the ocean’s waves\, a serene lake\, majestic mountains\, your favorite animal\, or the endless sky. Let your creativity shine!
URL:https://flatheadcountylibrary.org/event/community-watercolor-earth-mosaic/
LOCATION:Columbia Falls Library\, 130 6th Street West #C\, Columbia Falls\, MT\, 59912\, United States
CATEGORIES:Adult Program
END:VEVENT
BEGIN:VEVENT
DTSTART;VALUE=DATE:20250424
DTEND;VALUE=DATE:20250425
DTSTAMP:20260424T072545
CREATED:20250304T204144Z
LAST-MODIFIED:20250304T205306Z
UID:10003411-1745452800-1745539199@flatheadcountylibrary.org
SUMMARY:Switch Days - Kalispell
DESCRIPTION:Bring your friends or come solo and battle it out on the Nintendo Switch in our Teen Zone.
URL:https://flatheadcountylibrary.org/event/switch-days-kalispell/2025-04-24/
LOCATION:Kalispell Library\, 247 1st Ave East\, Kalispell\, MT\, 59901\, United States
CATEGORIES:Teen Program
END:VEVENT
BEGIN:VEVENT
DTSTART;TZID=America/Denver:20250424T090000
DTEND;TZID=America/Denver:20250424T120000
DTSTAMP:20260424T072545
CREATED:20250327T161555Z
LAST-MODIFIED:20250327T161555Z
UID:10003596-1745485200-1745496000@flatheadcountylibrary.org
SUMMARY:Library Board Meeting
DESCRIPTION:All meetings of the Board of Trustees are open to the public. Regular meetings are scheduled for the fourth Thursday of each month. This meeting will take place in the South Campus Conference Room (2nd Floor).
URL:https://flatheadcountylibrary.org/event/library-board-meeting-2/
LOCATION:South Campus Conference Room\, 40 11th St. W\, Kalispell\, 59901\, United States
CATEGORIES:Board Meeting
END:VEVENT
BEGIN:VEVENT
DTSTART;TZID=America/Denver:20250424T110000
DTEND;TZID=America/Denver:20250424T120000
DTSTAMP:20260424T072545
CREATED:20250301T005214Z
LAST-MODIFIED:20250327T164844Z
UID:10001058-1745492400-1745496000@flatheadcountylibrary.org
SUMMARY:Preschool Storytime - Columbia Falls
DESCRIPTION:Enjoy longer stories and musical activities that promote listening skills and following directions. Following storytime\, children can explore activities that highlight math\, art\, dramatic play and science. Especially for ages 4 and 5.
URL:https://flatheadcountylibrary.org/event/preschool-storytime-columbia-falls/2025-04-24/
LOCATION:Columbia Falls Library\, 130 6th Street West #C\, Columbia Falls\, MT\, 59912\, United States
CATEGORIES:Storytime
END:VEVENT
BEGIN:VEVENT
DTSTART;TZID=America/Denver:20250424T110000
DTEND;TZID=America/Denver:20250424T120000
DTSTAMP:20260424T072545
CREATED:20250301T005419Z
LAST-MODIFIED:20250327T165035Z
UID:10001319-1745492400-1745496000@flatheadcountylibrary.org
SUMMARY:Preschool Storytime - Bigfork
DESCRIPTION:Enjoy longer stories and musical activities that promote listening skills and following directions. Following storytime\, children can explore activities that highlight math\, art\, dramatic play and science. Especially for ages 4 and 5.
URL:https://flatheadcountylibrary.org/event/preschool-storytime-bigfork/2025-04-24/
LOCATION:Bigfork Library\, 186 Bridge Street\, Bigfork\, MT\, 59911\, United States
CATEGORIES:Storytime
END:VEVENT
END:VCALENDAR