BEGIN:VCALENDAR
VERSION:2.0
PRODID:-//Flathead County Library - ECPv6.15.20//NONSGML v1.0//EN
CALSCALE:GREGORIAN
METHOD:PUBLISH
X-ORIGINAL-URL:https://flatheadcountylibrary.org
X-WR-CALDESC:Events for Flathead County Library
REFRESH-INTERVAL;VALUE=DURATION:PT1H
X-Robots-Tag:noindex
X-PUBLISHED-TTL:PT1H
BEGIN:VTIMEZONE
TZID:America/Denver
BEGIN:DAYLIGHT
TZOFFSETFROM:-0700
TZOFFSETTO:-0600
TZNAME:MDT
DTSTART:20240310T090000
END:DAYLIGHT
BEGIN:STANDARD
TZOFFSETFROM:-0600
TZOFFSETTO:-0700
TZNAME:MST
DTSTART:20241103T080000
END:STANDARD
BEGIN:DAYLIGHT
TZOFFSETFROM:-0700
TZOFFSETTO:-0600
TZNAME:MDT
DTSTART:20250309T090000
END:DAYLIGHT
BEGIN:STANDARD
TZOFFSETFROM:-0600
TZOFFSETTO:-0700
TZNAME:MST
DTSTART:20251102T080000
END:STANDARD
BEGIN:DAYLIGHT
TZOFFSETFROM:-0700
TZOFFSETTO:-0600
TZNAME:MDT
DTSTART:20260308T090000
END:DAYLIGHT
BEGIN:STANDARD
TZOFFSETFROM:-0600
TZOFFSETTO:-0700
TZNAME:MST
DTSTART:20261101T080000
END:STANDARD
END:VTIMEZONE
BEGIN:VEVENT
DTSTART;VALUE=DATE:20250603
DTEND;VALUE=DATE:20250812
DTSTAMP:20260422T072244
CREATED:20250516T211852Z
LAST-MODIFIED:20250528T143516Z
UID:10003642-1748908800-1754956799@flatheadcountylibrary.org
SUMMARY:Kids Summer Reading Experience
DESCRIPTION:Reading and exploring are combined to keep your summer busy and fun! Pick up a gameboard to challenge your reading adventure at home and join us weekly at the library for STEAM inspired activities!  June 3 – August 11: See schedule for details. \n\n Sponsored By: Don K Family Foundation\, Glacier Grins\, Kalispell Parks & Recreation\, Glacier Bank\, Freedom Bank\, Town Pump\, & Columbia Falls Ace
URL:https://flatheadcountylibrary.org/event/kids-summer-reading-experience/
LOCATION:Kalispell Library\, 247 1st Ave East\, Kalispell\, MT\, 59901\, United States
CATEGORIES:Kids Program
END:VEVENT
BEGIN:VEVENT
DTSTART;VALUE=DATE:20250603
DTEND;VALUE=DATE:20250831
DTSTAMP:20260422T072244
CREATED:20250516T213506Z
LAST-MODIFIED:20250528T143622Z
UID:10003755-1748908800-1756598399@flatheadcountylibrary.org
SUMMARY:Teen Summer Reading Experience Game Board
DESCRIPTION:Grab a Teen Summer Experience Gameboard at any Flathead County Library location to begin your summer quest! As part of Summer Experience 2025\, the gameboard invites teens to read\, explore\, and create. Flip through the gameboard’s pages to find the Reading Challenge\, interactive map\, and summer schedule of Teen Workshops\, including info on a special edition of our Crafternoons program. Finish the gameboard any time over the summer to claim your prizes! \n\n Sponsored By: Don K Family Foundation\, Glacier Grins\, Glacier Bank\, Freedom Bank\, Town Pump\, Columbia Falls Ace\, & Cinemark
URL:https://flatheadcountylibrary.org/event/teen-summer-reading-experience-game-board/
LOCATION:Kalispell Library\, 247 1st Ave East\, Kalispell\, MT\, 59901\, United States
CATEGORIES:Teen Program
END:VEVENT
BEGIN:VEVENT
DTSTART;VALUE=DATE:20250721
DTEND;VALUE=DATE:20250727
DTSTAMP:20260422T072244
CREATED:20250623T150524Z
LAST-MODIFIED:20250623T150524Z
UID:10003858-1753056000-1753574399@flatheadcountylibrary.org
SUMMARY:Mini Portable Painting Kit
DESCRIPTION:Stop in to the Columbia Falls branch library to build your own tiny set for painting miniature works of art on the go! Fill your portable tin with a wooden canvas\, variety of paint colors\, and a mini brush while supplies last.
URL:https://flatheadcountylibrary.org/event/mini-portable-painting-kit/
LOCATION:Columbia Falls Library\, 130 6th Street West #C\, Columbia Falls\, MT\, 59912\, United States
CATEGORIES:Adult Program
END:VEVENT
BEGIN:VEVENT
DTSTART;TZID=America/Denver:20250724T110000
DTEND;TZID=America/Denver:20250724T120000
DTSTAMP:20260422T072244
CREATED:20250516T212416Z
LAST-MODIFIED:20250527T165707Z
UID:10003851-1753354800-1753358400@flatheadcountylibrary.org
SUMMARY:Early Learners (3-5) - Kalispell
DESCRIPTION:Reading and exploring are combined to keep your summer busy and fun! Join us weekly at the library for STEAM inspired activities! Ages 3-5 and caregivers.
URL:https://flatheadcountylibrary.org/event/early-learners-3-5-kalispell/2025-07-24/
LOCATION:Kalispell Library\, 247 1st Ave East\, Kalispell\, MT\, 59901\, United States
CATEGORIES:Kids Program,Storytime
END:VEVENT
BEGIN:VEVENT
DTSTART;TZID=America/Denver:20250724T110000
DTEND;TZID=America/Denver:20250724T120000
DTSTAMP:20260422T072245
CREATED:20250516T212553Z
LAST-MODIFIED:20250516T212553Z
UID:10003680-1753354800-1753358400@flatheadcountylibrary.org
SUMMARY:Early Learners (3-5) - Columbia Falls
DESCRIPTION:Reading and exploring are combined to keep your summer busy and fun! Join us weekly at the library for STEAM inspired activities! Ages 3-5 and caregivers.
URL:https://flatheadcountylibrary.org/event/early-learners-3-5-columbia-falls/2025-07-24/
LOCATION:Columbia Falls Library\, 130 6th Street West #C\, Columbia Falls\, MT\, 59912\, United States
CATEGORIES:Kids Program,Storytime
END:VEVENT
BEGIN:VEVENT
DTSTART;TZID=America/Denver:20250724T110000
DTEND;TZID=America/Denver:20250724T120000
DTSTAMP:20260422T072245
CREATED:20250516T212654Z
LAST-MODIFIED:20250516T212724Z
UID:10003694-1753354800-1753358400@flatheadcountylibrary.org
SUMMARY:Early Learners (3-5) - Bigfork
DESCRIPTION:Reading and exploring are combined to keep your summer busy and fun! Join us weekly at the library for STEAM inspired activities! Ages 3-5 and caregivers.
URL:https://flatheadcountylibrary.org/event/early-learners-3-5-columbia-falls-2/2025-07-24/
LOCATION:Bigfork Library\, 186 Bridge Street\, Bigfork\, MT\, 59911\, United States
CATEGORIES:Kids Program,Storytime
END:VEVENT
BEGIN:VEVENT
DTSTART;TZID=America/Denver:20250724T153000
DTEND;TZID=America/Denver:20250724T170000
DTSTAMP:20260422T072245
CREATED:20250623T151421Z
LAST-MODIFIED:20250623T151421Z
UID:10003862-1753371000-1753376400@flatheadcountylibrary.org
SUMMARY:Teen Summer Workshop: Batik Dyeing
DESCRIPTION:Create your own unique pattern of flowing colors using ink and wax. Learn a modern way to do the ancient dyeing traditions of Batik. Space limited. Seats available first come\, first served. \n\n Earl Bennett Conference Room (1035 1st Avenue West\, Kalispell): Thursday July 24\, 3:30-5pm; Columbia Falls Teen Zone: Friday July 11\, 3:30-5pm
URL:https://flatheadcountylibrary.org/event/teen-summer-workshop-batik-dyeing/
LOCATION:Earl Bennett Conference Room\, 1035 1st Ave W\, Kalispell\, MT\, 59901\, United States
CATEGORIES:Teen Program
END:VEVENT
BEGIN:VEVENT
DTSTART;TZID=America/Denver:20250724T183000
DTEND;TZID=America/Denver:20250724T203000
DTSTAMP:20260422T072245
CREATED:20250625T161923Z
LAST-MODIFIED:20250625T161923Z
UID:10003866-1753381800-1753389000@flatheadcountylibrary.org
SUMMARY:Library Board Meeting
DESCRIPTION:All meetings of the Board of Trustees are open to the public. Regular meetings are scheduled for the fourth Thursday of each month. This meeting will take place in the South Campus Conference Room (2nd Floor).
URL:https://flatheadcountylibrary.org/event/library-board-meeting-5/
LOCATION:South Campus Conference Room\, 40 11th St. W\, Kalispell\, 59901\, United States
CATEGORIES:Board Meeting
END:VEVENT
END:VCALENDAR