BEGIN:VCALENDAR
VERSION:2.0
PRODID:-//Flathead County Library - ECPv6.15.20//NONSGML v1.0//EN
CALSCALE:GREGORIAN
METHOD:PUBLISH
X-WR-CALNAME:Flathead County Library
X-ORIGINAL-URL:https://flatheadcountylibrary.org
X-WR-CALDESC:Events for Flathead County Library
REFRESH-INTERVAL;VALUE=DURATION:PT1H
X-Robots-Tag:noindex
X-PUBLISHED-TTL:PT1H
BEGIN:VTIMEZONE
TZID:America/Denver
BEGIN:DAYLIGHT
TZOFFSETFROM:-0700
TZOFFSETTO:-0600
TZNAME:MDT
DTSTART:20240310T090000
END:DAYLIGHT
BEGIN:STANDARD
TZOFFSETFROM:-0600
TZOFFSETTO:-0700
TZNAME:MST
DTSTART:20241103T080000
END:STANDARD
BEGIN:DAYLIGHT
TZOFFSETFROM:-0700
TZOFFSETTO:-0600
TZNAME:MDT
DTSTART:20250309T090000
END:DAYLIGHT
BEGIN:STANDARD
TZOFFSETFROM:-0600
TZOFFSETTO:-0700
TZNAME:MST
DTSTART:20251102T080000
END:STANDARD
BEGIN:DAYLIGHT
TZOFFSETFROM:-0700
TZOFFSETTO:-0600
TZNAME:MDT
DTSTART:20260308T090000
END:DAYLIGHT
BEGIN:STANDARD
TZOFFSETFROM:-0600
TZOFFSETTO:-0700
TZNAME:MST
DTSTART:20261101T080000
END:STANDARD
END:VTIMEZONE
BEGIN:VEVENT
DTSTART;VALUE=DATE:20250603
DTEND;VALUE=DATE:20250812
DTSTAMP:20260422T055024
CREATED:20250516T211852Z
LAST-MODIFIED:20250528T143516Z
UID:10003642-1748908800-1754956799@flatheadcountylibrary.org
SUMMARY:Kids Summer Reading Experience
DESCRIPTION:Reading and exploring are combined to keep your summer busy and fun! Pick up a gameboard to challenge your reading adventure at home and join us weekly at the library for STEAM inspired activities!  June 3 – August 11: See schedule for details. \n\n Sponsored By: Don K Family Foundation\, Glacier Grins\, Kalispell Parks & Recreation\, Glacier Bank\, Freedom Bank\, Town Pump\, & Columbia Falls Ace
URL:https://flatheadcountylibrary.org/event/kids-summer-reading-experience/
LOCATION:Kalispell Library\, 247 1st Ave East\, Kalispell\, MT\, 59901\, United States
CATEGORIES:Kids Program
END:VEVENT
BEGIN:VEVENT
DTSTART;VALUE=DATE:20250603
DTEND;VALUE=DATE:20250831
DTSTAMP:20260422T055024
CREATED:20250516T213506Z
LAST-MODIFIED:20250528T143622Z
UID:10003755-1748908800-1756598399@flatheadcountylibrary.org
SUMMARY:Teen Summer Reading Experience Game Board
DESCRIPTION:Grab a Teen Summer Experience Gameboard at any Flathead County Library location to begin your summer quest! As part of Summer Experience 2025\, the gameboard invites teens to read\, explore\, and create. Flip through the gameboard’s pages to find the Reading Challenge\, interactive map\, and summer schedule of Teen Workshops\, including info on a special edition of our Crafternoons program. Finish the gameboard any time over the summer to claim your prizes! \n\n Sponsored By: Don K Family Foundation\, Glacier Grins\, Glacier Bank\, Freedom Bank\, Town Pump\, Columbia Falls Ace\, & Cinemark
URL:https://flatheadcountylibrary.org/event/teen-summer-reading-experience-game-board/
LOCATION:Kalispell Library\, 247 1st Ave East\, Kalispell\, MT\, 59901\, United States
CATEGORIES:Teen Program
END:VEVENT
BEGIN:VEVENT
DTSTART;TZID=America/Denver:20250730T110000
DTEND;TZID=America/Denver:20250730T120000
DTSTAMP:20260422T055024
CREATED:20250527T165520Z
LAST-MODIFIED:20250527T165520Z
UID:10003844-1753873200-1753876800@flatheadcountylibrary.org
SUMMARY:Baby & Toddler Storytime (0-3) - Kalispell Depot Park
DESCRIPTION:Weekly in Depot Park. Make connections with other parents and learn fun techniques for using books\, songs\, and rhymes at home. Rhythm and repetition will get your little one recognizing and requesting favorite songs. Especially for ages birth – 3.
URL:https://flatheadcountylibrary.org/event/baby-toddler-storytime-0-3-kalispell-depot-park/2025-07-30/
LOCATION:Depot Park Kalispell\, 15 Depot Pk\, Kalispell\, 59901\, United States
CATEGORIES:Storytime
END:VEVENT
BEGIN:VEVENT
DTSTART;TZID=America/Denver:20250730T110000
DTEND;TZID=America/Denver:20250730T130000
DTSTAMP:20260422T055024
CREATED:20250516T213240Z
LAST-MODIFIED:20250516T213240Z
UID:10003745-1753873200-1753880400@flatheadcountylibrary.org
SUMMARY:Summer Reading Experience Kids (6-10) - Columbia Falls
DESCRIPTION:Reading and exploring are combined to keep your summer busy and fun! Join us weekly at the library for STEAM inspired activities! Kids ages 6-10 and caregivers.
URL:https://flatheadcountylibrary.org/event/summer-reading-experience-kids-6-10-columbia-falls/2025-07-30/
LOCATION:Columbia Falls Library\, 130 6th Street West #C\, Columbia Falls\, MT\, 59912\, United States
CATEGORIES:Kids Program
END:VEVENT
BEGIN:VEVENT
DTSTART;TZID=America/Denver:20250730T110000
DTEND;TZID=America/Denver:20250730T130000
DTSTAMP:20260422T055024
CREATED:20250516T213313Z
LAST-MODIFIED:20250516T213313Z
UID:10003753-1753873200-1753880400@flatheadcountylibrary.org
SUMMARY:Summer Reading Experience Kids (6-10) - Bigfork
DESCRIPTION:Reading and exploring are combined to keep your summer busy and fun! Join us weekly at the library for STEAM inspired activities! Kids ages 6-10 and caregivers.
URL:https://flatheadcountylibrary.org/event/summer-reading-experience-kids-6-10-bigfork/2025-07-30/
LOCATION:Bigfork Library\, 186 Bridge Street\, Bigfork\, MT\, 59911\, United States
CATEGORIES:Kids Program
END:VEVENT
BEGIN:VEVENT
DTSTART;TZID=America/Denver:20250730T140000
DTEND;TZID=America/Denver:20250730T160000
DTSTAMP:20260422T055024
CREATED:20250516T213030Z
LAST-MODIFIED:20250516T213030Z
UID:10003713-1753884000-1753891200@flatheadcountylibrary.org
SUMMARY:Summer Reading Experience Kids (6-10) - Kalispell
DESCRIPTION:Reading and exploring are combined to keep your summer busy and fun! Join us weekly at the library for STEAM inspired activities! Kids ages 6-10 and caregivers.
URL:https://flatheadcountylibrary.org/event/summer-reading-experience-kids-6-10-kalispell/2025-07-30/
LOCATION:Kalispell Library\, 247 1st Ave East\, Kalispell\, MT\, 59901\, United States
CATEGORIES:Kids Program
END:VEVENT
BEGIN:VEVENT
DTSTART;TZID=America/Denver:20250730T153000
DTEND;TZID=America/Denver:20250730T170000
DTSTAMP:20260422T055024
CREATED:20250623T151250Z
LAST-MODIFIED:20250623T151250Z
UID:10003861-1753889400-1753894800@flatheadcountylibrary.org
SUMMARY:Teen Summer Workshop: Bento Boxes
DESCRIPTION:This Summer Experience we’re dishing up the perfect snack: Bento Boxes. Bento boxes are a lunch tradition originating from Japan. This program will feature cooking and designing your own take-home bento box! Space limited. Seats available first come\, first served.\nNote: Our Bento Boxes will feature Japanese recipes. Ingredients include wheat\, sesame\, soy\, eggs\, and fish.  \n\n Earl Bennett Conference Room (1035 1st Avenue West\, Kalispell): Thursday July 10\, 3:30-5pm ; Bigfork Arnlund Community Room: Friday July 18\, 3:30-5pm; Kalispell Teen Zone: Wednesday July 30\, 3:30-5pm
URL:https://flatheadcountylibrary.org/event/teen-summer-workshop-bento-boxes-3/
LOCATION:Kalispell Library\, 247 1st Ave East\, Kalispell\, MT\, 59901\, United States
CATEGORIES:Teen Program
END:VEVENT
END:VCALENDAR