BEGIN:VCALENDAR
VERSION:2.0
PRODID:-//Flathead County Library - ECPv6.15.20//NONSGML v1.0//EN
CALSCALE:GREGORIAN
METHOD:PUBLISH
X-ORIGINAL-URL:https://flatheadcountylibrary.org
X-WR-CALDESC:Events for Flathead County Library
REFRESH-INTERVAL;VALUE=DURATION:PT1H
X-Robots-Tag:noindex
X-PUBLISHED-TTL:PT1H
BEGIN:VTIMEZONE
TZID:America/Denver
BEGIN:DAYLIGHT
TZOFFSETFROM:-0700
TZOFFSETTO:-0600
TZNAME:MDT
DTSTART:20240310T090000
END:DAYLIGHT
BEGIN:STANDARD
TZOFFSETFROM:-0600
TZOFFSETTO:-0700
TZNAME:MST
DTSTART:20241103T080000
END:STANDARD
BEGIN:DAYLIGHT
TZOFFSETFROM:-0700
TZOFFSETTO:-0600
TZNAME:MDT
DTSTART:20250309T090000
END:DAYLIGHT
BEGIN:STANDARD
TZOFFSETFROM:-0600
TZOFFSETTO:-0700
TZNAME:MST
DTSTART:20251102T080000
END:STANDARD
BEGIN:DAYLIGHT
TZOFFSETFROM:-0700
TZOFFSETTO:-0600
TZNAME:MDT
DTSTART:20260308T090000
END:DAYLIGHT
BEGIN:STANDARD
TZOFFSETFROM:-0600
TZOFFSETTO:-0700
TZNAME:MST
DTSTART:20261101T080000
END:STANDARD
END:VTIMEZONE
BEGIN:VEVENT
DTSTART;VALUE=DATE:20250922
DTEND;VALUE=DATE:20250928
DTSTAMP:20260420T123442
CREATED:20250813T212822Z
LAST-MODIFIED:20250910T204746Z
UID:10003943-1758499200-1759017599@flatheadcountylibrary.org
SUMMARY:Tea Towel Stenciling Zone
DESCRIPTION:Design your own one-of-a-kind tea towel using bird stencils and fabric paint! Whether you’re a seasoned crafter or simply curious to try something new\, this is the perfect chance to explore your creativity.
URL:https://flatheadcountylibrary.org/event/tea-towel-stenciling-zone/
LOCATION:Columbia Falls Library\, 130 6th Street West #C\, Columbia Falls\, MT\, 59912\, United States
CATEGORIES:Adult Program
END:VEVENT
BEGIN:VEVENT
DTSTART;TZID=America/Denver:20250923T103000
DTEND;TZID=America/Denver:20250923T123000
DTSTAMP:20260420T123442
CREATED:20250813T211801Z
LAST-MODIFIED:20251011T215725Z
UID:10003921-1758623400-1758630600@flatheadcountylibrary.org
SUMMARY:Genealogy Class
DESCRIPTION:Join instructors from Kalispell’s FamilySearch Center for genealogy classes geared toward individuals and families aged 13 and older. Learn personal researching skills\, connect with family history groups\, and get expert help navigating genealogical sites. This program will repeat every 1st and 3rd Tuesday in Kalispell and every 2nd and 4th Tuesday in Bigfork.
URL:https://flatheadcountylibrary.org/event/genealogy-class-4/2025-09-23/
LOCATION:Bigfork Library\, 186 Bridge Street\, Bigfork\, MT\, 59911\, United States
CATEGORIES:Adult Program
END:VEVENT
BEGIN:VEVENT
DTSTART;TZID=America/Denver:20250923T110000
DTEND;TZID=America/Denver:20250923T120000
DTSTAMP:20260420T123442
CREATED:20250813T220157Z
LAST-MODIFIED:20250813T220157Z
UID:10004137-1758625200-1758628800@flatheadcountylibrary.org
SUMMARY:Toddler Storytime - Bigfork
DESCRIPTION:Sing\, dance\, read and explore while also building social and emotional skills. This fun and interactive program is for toddlers who love to move! Caregiver participation encouraged. Especially for ages 2-4.
URL:https://flatheadcountylibrary.org/event/toddler-storytime-bigfork-2/2025-09-23/
LOCATION:Bigfork Library\, 186 Bridge Street\, Bigfork\, MT\, 59911\, United States
CATEGORIES:Storytime
END:VEVENT
BEGIN:VEVENT
DTSTART;TZID=America/Denver:20250923T110000
DTEND;TZID=America/Denver:20250923T120000
DTSTAMP:20260420T123442
CREATED:20250813T220322Z
LAST-MODIFIED:20250813T220322Z
UID:10004165-1758625200-1758628800@flatheadcountylibrary.org
SUMMARY:Toddler Storytime - Columbia Falls
DESCRIPTION:Sing\, dance\, read and explore while also building social and emotional skills. This fun and interactive program is for toddlers who love to move! Caregiver participation encouraged. Especially for ages 2-4.
URL:https://flatheadcountylibrary.org/event/toddler-storytime-columbia-falls-2/2025-09-23/
LOCATION:Columbia Falls Library\, 130 6th Street West #C\, Columbia Falls\, MT\, 59912\, United States
CATEGORIES:Storytime
END:VEVENT
BEGIN:VEVENT
DTSTART;TZID=America/Denver:20250923T110000
DTEND;TZID=America/Denver:20250923T120000
DTSTAMP:20260420T123442
CREATED:20250813T220519Z
LAST-MODIFIED:20250813T220519Z
UID:10004220-1758625200-1758628800@flatheadcountylibrary.org
SUMMARY:Preschool Storytime - Kalispell
DESCRIPTION:Enjoy longer stories and musical activities that promote listening skills and following directions. Following storytime\, children can explore activities that highlight math\, art\, dramatic play and science. Especially for ages 4 and 5.
URL:https://flatheadcountylibrary.org/event/preschool-storytime-kalispell-2/2025-09-23/
LOCATION:Kalispell Library\, 247 1st Ave East\, Kalispell\, MT\, 59901\, United States
CATEGORIES:Storytime
END:VEVENT
BEGIN:VEVENT
DTSTART;TZID=America/Denver:20250923T180000
DTEND;TZID=America/Denver:20250923T193000
DTSTAMP:20260420T123442
CREATED:20250813T212951Z
LAST-MODIFIED:20250813T212951Z
UID:10003944-1758650400-1758655800@flatheadcountylibrary.org
SUMMARY:Doug Follett- Glacier’s Poet Documentary Screening
DESCRIPTION:The Columbia Falls Historical Society’s first documentary video from their oral history project is titled “Doug Follett – Glacier’s Poet.” In this new 2025 documentary video\, Doug talks about his family’s history and connection to both the Great Northern Railroad and Glacier National Park. He also reads his many poems written about the many places he loved.
URL:https://flatheadcountylibrary.org/event/doug-follett-glaciers-poet-documentary-screening/
LOCATION:Columbia Falls Library\, 130 6th Street West #C\, Columbia Falls\, MT\, 59912\, United States
CATEGORIES:Adult Program
END:VEVENT
END:VCALENDAR