BEGIN:VCALENDAR
VERSION:2.0
PRODID:-//Flathead County Library - ECPv6.15.20//NONSGML v1.0//EN
CALSCALE:GREGORIAN
METHOD:PUBLISH
X-WR-CALNAME:Flathead County Library
X-ORIGINAL-URL:https://flatheadcountylibrary.org
X-WR-CALDESC:Events for Flathead County Library
REFRESH-INTERVAL;VALUE=DURATION:PT1H
X-Robots-Tag:noindex
X-PUBLISHED-TTL:PT1H
BEGIN:VTIMEZONE
TZID:America/Denver
BEGIN:DAYLIGHT
TZOFFSETFROM:-0700
TZOFFSETTO:-0600
TZNAME:MDT
DTSTART:20240310T090000
END:DAYLIGHT
BEGIN:STANDARD
TZOFFSETFROM:-0600
TZOFFSETTO:-0700
TZNAME:MST
DTSTART:20241103T080000
END:STANDARD
BEGIN:DAYLIGHT
TZOFFSETFROM:-0700
TZOFFSETTO:-0600
TZNAME:MDT
DTSTART:20250309T090000
END:DAYLIGHT
BEGIN:STANDARD
TZOFFSETFROM:-0600
TZOFFSETTO:-0700
TZNAME:MST
DTSTART:20251102T080000
END:STANDARD
BEGIN:DAYLIGHT
TZOFFSETFROM:-0700
TZOFFSETTO:-0600
TZNAME:MDT
DTSTART:20260308T090000
END:DAYLIGHT
BEGIN:STANDARD
TZOFFSETFROM:-0600
TZOFFSETTO:-0700
TZNAME:MST
DTSTART:20261101T080000
END:STANDARD
END:VTIMEZONE
BEGIN:VEVENT
DTSTART;VALUE=DATE:20250922
DTEND;VALUE=DATE:20250928
DTSTAMP:20260420T123440
CREATED:20250813T212822Z
LAST-MODIFIED:20250910T204746Z
UID:10003943-1758499200-1759017599@flatheadcountylibrary.org
SUMMARY:Tea Towel Stenciling Zone
DESCRIPTION:Design your own one-of-a-kind tea towel using bird stencils and fabric paint! Whether you’re a seasoned crafter or simply curious to try something new\, this is the perfect chance to explore your creativity.
URL:https://flatheadcountylibrary.org/event/tea-towel-stenciling-zone/
LOCATION:Columbia Falls Library\, 130 6th Street West #C\, Columbia Falls\, MT\, 59912\, United States
CATEGORIES:Adult Program
END:VEVENT
BEGIN:VEVENT
DTSTART;TZID=America/Denver:20250924T110000
DTEND;TZID=America/Denver:20250924T120000
DTSTAMP:20260420T123440
CREATED:20250813T215744Z
LAST-MODIFIED:20250813T215744Z
UID:10004065-1758711600-1758715200@flatheadcountylibrary.org
SUMMARY:Baby Storytime - Kalispell
DESCRIPTION:Make connections with other parents and learn fun techniques for using books\, songs\, and rhymes at home. Rhythm and repetition will get your little one recognizing and requesting favorite songs. Especially for ages birth to 24 months.
URL:https://flatheadcountylibrary.org/event/baby-storytime-kalispell-2/2025-09-24/
LOCATION:Kalispell Library\, 247 1st Ave East\, Kalispell\, MT\, 59901\, United States
CATEGORIES:Storytime
END:VEVENT
BEGIN:VEVENT
DTSTART;TZID=America/Denver:20250924T120000
DTEND;TZID=America/Denver:20250924T140000
DTSTAMP:20260420T123440
CREATED:20250818T210344Z
LAST-MODIFIED:20250910T203936Z
UID:10004311-1758715200-1758722400@flatheadcountylibrary.org
SUMMARY:Creative Aging with Allyson Norwood Bush
DESCRIPTION:What does Creative Aging mean to you? Join a small group of adults (ages 55+) for an inspiring art journey taught by Art Therapist Allyson Norwood Bush. This free 6-week course is designed to awaken your creativity and nourish your whole self—body\, mind\, and spirit. You’ll explore hands-on projects that encourage self-expression\, spark imagination\, and foster connection. Sign up online at bit.ly/creative-aging-1 to secure your spot. Please plan to commit to all six classes when you sign up. Wednesdays\, Sep. 10 – Oct. 15\, 12-2pm
URL:https://flatheadcountylibrary.org/event/creative-aging-with-allyson-norwood-bush/2025-09-24/
LOCATION:Bigfork Library\, 186 Bridge Street\, Bigfork\, MT\, 59911\, United States
CATEGORIES:Adult Program
END:VEVENT
BEGIN:VEVENT
DTSTART;TZID=America/Denver:20250924T140000
DTEND;TZID=America/Denver:20250924T153000
DTSTAMP:20260420T123440
CREATED:20250813T221258Z
LAST-MODIFIED:20250910T203429Z
UID:10004301-1758722400-1758727800@flatheadcountylibrary.org
SUMMARY:Challenge Accepted (Grades 6-12)
DESCRIPTION:Do you have what it takes to win an engineering\, tech\, or gaming challenge? See us once a month to get competitive\, get creative\, and discover something new! 
URL:https://flatheadcountylibrary.org/event/challenge-accepted-grades-6-12/2025-09-24/
LOCATION:Kalispell Library\, 247 1st Ave East\, Kalispell\, MT\, 59901\, United States
CATEGORIES:Teen Program
END:VEVENT
BEGIN:VEVENT
DTSTART;TZID=America/Denver:20250924T140000
DTEND;TZID=America/Denver:20250924T160000
DTSTAMP:20260420T123440
CREATED:20250813T215309Z
LAST-MODIFIED:20250813T215309Z
UID:10004009-1758722400-1758729600@flatheadcountylibrary.org
SUMMARY:Kids Wednesday Workshop - Columbia Falls
DESCRIPTION:Join us every Wednesday for hands-on exploration\, including LEGO Club and STEAM Space (science\, technology\, engineering\, art\, and math activities). We’ll create art\, play games\, construct new worlds with LEGOs\, tackle an engineering challenge or learn a new craft. Especially for kids in grades K-5. Must be accompanied by an adult.
URL:https://flatheadcountylibrary.org/event/kids-wednesday-workshop-columbia-falls-2/2025-09-24/
LOCATION:Columbia Falls Library\, 130 6th Street West #C\, Columbia Falls\, MT\, 59912\, United States
CATEGORIES:Kids Program
END:VEVENT
BEGIN:VEVENT
DTSTART;TZID=America/Denver:20250924T140000
DTEND;TZID=America/Denver:20250924T170000
DTSTAMP:20260420T123440
CREATED:20250813T215359Z
LAST-MODIFIED:20250813T215359Z
UID:10004037-1758722400-1758733200@flatheadcountylibrary.org
SUMMARY:Kids Wednesday Workshop - Kalispell
DESCRIPTION:Join us every Wednesday for hands-on exploration\, including LEGO Club and STEAM Space (science\, technology\, engineering\, art\, and math activities). We’ll create art\, play games\, construct new worlds with LEGOs\, tackle an engineering challenge or learn a new craft. Especially for kids in grades K-5. Must be accompanied by an adult.
URL:https://flatheadcountylibrary.org/event/kids-wednesday-workshop-kalispell-2/2025-09-24/
LOCATION:Kalispell Library\, 247 1st Ave East\, Kalispell\, MT\, 59901\, United States
CATEGORIES:Kids Program
END:VEVENT
BEGIN:VEVENT
DTSTART;TZID=America/Denver:20250924T153000
DTEND;TZID=America/Denver:20250924T173000
DTSTAMP:20260420T123440
CREATED:20250813T215213Z
LAST-MODIFIED:20250813T215213Z
UID:10003981-1758727800-1758735000@flatheadcountylibrary.org
SUMMARY:Kids Wednesday Workshop - Bigfork
DESCRIPTION:Join us every Wednesday for hands-on exploration\, including LEGO Club and STEAM Space (science\, technology\, engineering\, art\, and math activities). We’ll create art\, play games\, construct new worlds with LEGOs\, tackle an engineering challenge or learn a new craft. Especially for kids in grades K-5. Must be accompanied by an adult.
URL:https://flatheadcountylibrary.org/event/kids-wednesday-workshop-bigfork-2/2025-09-24/
LOCATION:Bigfork Library\, 186 Bridge Street\, Bigfork\, MT\, 59911\, United States
CATEGORIES:Kids Program
END:VEVENT
END:VCALENDAR