BEGIN:VCALENDAR
VERSION:2.0
PRODID:-//Flathead County Library - ECPv6.15.20//NONSGML v1.0//EN
CALSCALE:GREGORIAN
METHOD:PUBLISH
X-ORIGINAL-URL:https://flatheadcountylibrary.org
X-WR-CALDESC:Events for Flathead County Library
REFRESH-INTERVAL;VALUE=DURATION:PT1H
X-Robots-Tag:noindex
X-PUBLISHED-TTL:PT1H
BEGIN:VTIMEZONE
TZID:America/Denver
BEGIN:DAYLIGHT
TZOFFSETFROM:-0700
TZOFFSETTO:-0600
TZNAME:MDT
DTSTART:20240310T090000
END:DAYLIGHT
BEGIN:STANDARD
TZOFFSETFROM:-0600
TZOFFSETTO:-0700
TZNAME:MST
DTSTART:20241103T080000
END:STANDARD
BEGIN:DAYLIGHT
TZOFFSETFROM:-0700
TZOFFSETTO:-0600
TZNAME:MDT
DTSTART:20250309T090000
END:DAYLIGHT
BEGIN:STANDARD
TZOFFSETFROM:-0600
TZOFFSETTO:-0700
TZNAME:MST
DTSTART:20251102T080000
END:STANDARD
BEGIN:DAYLIGHT
TZOFFSETFROM:-0700
TZOFFSETTO:-0600
TZNAME:MDT
DTSTART:20260308T090000
END:DAYLIGHT
BEGIN:STANDARD
TZOFFSETFROM:-0600
TZOFFSETTO:-0700
TZNAME:MST
DTSTART:20261101T080000
END:STANDARD
END:VTIMEZONE
BEGIN:VEVENT
DTSTART;TZID=America/Denver:20251014T103000
DTEND;TZID=America/Denver:20251014T123000
DTSTAMP:20260420T085422
CREATED:20250813T211801Z
LAST-MODIFIED:20251011T215725Z
UID:10003922-1760437800-1760445000@flatheadcountylibrary.org
SUMMARY:Genealogy Class
DESCRIPTION:Join instructors from Kalispell’s FamilySearch Center for genealogy classes geared toward individuals and families aged 13 and older. Learn personal researching skills\, connect with family history groups\, and get expert help navigating genealogical sites. This program will repeat every 1st and 3rd Tuesday in Kalispell and every 2nd and 4th Tuesday in Bigfork.
URL:https://flatheadcountylibrary.org/event/genealogy-class-4/2025-10-14/
LOCATION:Bigfork Library\, 186 Bridge Street\, Bigfork\, MT\, 59911\, United States
CATEGORIES:Adult Program
END:VEVENT
BEGIN:VEVENT
DTSTART;TZID=America/Denver:20251014T110000
DTEND;TZID=America/Denver:20251014T120000
DTSTAMP:20260420T085422
CREATED:20250813T220157Z
LAST-MODIFIED:20250813T220157Z
UID:10004140-1760439600-1760443200@flatheadcountylibrary.org
SUMMARY:Toddler Storytime - Bigfork
DESCRIPTION:Sing\, dance\, read and explore while also building social and emotional skills. This fun and interactive program is for toddlers who love to move! Caregiver participation encouraged. Especially for ages 2-4.
URL:https://flatheadcountylibrary.org/event/toddler-storytime-bigfork-2/2025-10-14/
LOCATION:Bigfork Library\, 186 Bridge Street\, Bigfork\, MT\, 59911\, United States
CATEGORIES:Storytime
END:VEVENT
BEGIN:VEVENT
DTSTART;TZID=America/Denver:20251014T110000
DTEND;TZID=America/Denver:20251014T120000
DTSTAMP:20260420T085422
CREATED:20250813T220322Z
LAST-MODIFIED:20250813T220322Z
UID:10004168-1760439600-1760443200@flatheadcountylibrary.org
SUMMARY:Toddler Storytime - Columbia Falls
DESCRIPTION:Sing\, dance\, read and explore while also building social and emotional skills. This fun and interactive program is for toddlers who love to move! Caregiver participation encouraged. Especially for ages 2-4.
URL:https://flatheadcountylibrary.org/event/toddler-storytime-columbia-falls-2/2025-10-14/
LOCATION:Columbia Falls Library\, 130 6th Street West #C\, Columbia Falls\, MT\, 59912\, United States
CATEGORIES:Storytime
END:VEVENT
BEGIN:VEVENT
DTSTART;TZID=America/Denver:20251014T110000
DTEND;TZID=America/Denver:20251014T120000
DTSTAMP:20260420T085422
CREATED:20250813T220519Z
LAST-MODIFIED:20250813T220519Z
UID:10004223-1760439600-1760443200@flatheadcountylibrary.org
SUMMARY:Preschool Storytime - Kalispell
DESCRIPTION:Enjoy longer stories and musical activities that promote listening skills and following directions. Following storytime\, children can explore activities that highlight math\, art\, dramatic play and science. Especially for ages 4 and 5.
URL:https://flatheadcountylibrary.org/event/preschool-storytime-kalispell-2/2025-10-14/
LOCATION:Kalispell Library\, 247 1st Ave East\, Kalispell\, MT\, 59901\, United States
CATEGORIES:Storytime
END:VEVENT
BEGIN:VEVENT
DTSTART;TZID=America/Denver:20251014T150000
DTEND;TZID=America/Denver:20251014T160000
DTSTAMP:20260420T085422
CREATED:20250306T204205Z
LAST-MODIFIED:20251016T223023Z
UID:10003871-1760454000-1760457600@flatheadcountylibrary.org
SUMMARY:Friends of the Library Book Club
DESCRIPTION:Meet with other book enthusiasts on the 2nd Tuesday of the month at 3pm in the Meeting Room at Flathead County Library Kalispell.
URL:https://flatheadcountylibrary.org/event/friends-of-the-library-book-club/2025-10-14/
LOCATION:Kalispell Library\, 247 1st Ave East\, Kalispell\, MT\, 59901\, United States
CATEGORIES:Book Club
END:VEVENT
BEGIN:VEVENT
DTSTART;TZID=America/Denver:20251014T160000
DTEND;TZID=America/Denver:20251014T173000
DTSTAMP:20260420T085422
CREATED:20250910T204515Z
LAST-MODIFIED:20250910T204515Z
UID:10004334-1760457600-1760463000@flatheadcountylibrary.org
SUMMARY:Pumpkin Pillow Workshop
DESCRIPTION:Join library staff\, Lisa Bartholomew\, to learn how to hand knit your very own pumpkin pillow that’s as cute as it is cozy! Space is limited\, first come\, first served.
URL:https://flatheadcountylibrary.org/event/pumpkin-pillow-workshop/
LOCATION:Columbia Falls Library\, 130 6th Street West #C\, Columbia Falls\, MT\, 59912\, United States
CATEGORIES:Adult Program
END:VEVENT
END:VCALENDAR