BEGIN:VCALENDAR
VERSION:2.0
PRODID:-//Flathead County Library - ECPv6.15.20//NONSGML v1.0//EN
CALSCALE:GREGORIAN
METHOD:PUBLISH
X-ORIGINAL-URL:https://flatheadcountylibrary.org
X-WR-CALDESC:Events for Flathead County Library
REFRESH-INTERVAL;VALUE=DURATION:PT1H
X-Robots-Tag:noindex
X-PUBLISHED-TTL:PT1H
BEGIN:VTIMEZONE
TZID:America/Denver
BEGIN:DAYLIGHT
TZOFFSETFROM:-0700
TZOFFSETTO:-0600
TZNAME:MDT
DTSTART:20240310T090000
END:DAYLIGHT
BEGIN:STANDARD
TZOFFSETFROM:-0600
TZOFFSETTO:-0700
TZNAME:MST
DTSTART:20241103T080000
END:STANDARD
BEGIN:DAYLIGHT
TZOFFSETFROM:-0700
TZOFFSETTO:-0600
TZNAME:MDT
DTSTART:20250309T090000
END:DAYLIGHT
BEGIN:STANDARD
TZOFFSETFROM:-0600
TZOFFSETTO:-0700
TZNAME:MST
DTSTART:20251102T080000
END:STANDARD
BEGIN:DAYLIGHT
TZOFFSETFROM:-0700
TZOFFSETTO:-0600
TZNAME:MDT
DTSTART:20260308T090000
END:DAYLIGHT
BEGIN:STANDARD
TZOFFSETFROM:-0600
TZOFFSETTO:-0700
TZNAME:MST
DTSTART:20261101T080000
END:STANDARD
END:VTIMEZONE
BEGIN:VEVENT
DTSTART;TZID=America/Denver:20251016T110000
DTEND;TZID=America/Denver:20251016T120000
DTSTAMP:20260420T085329
CREATED:20250813T220732Z
LAST-MODIFIED:20250813T220732Z
UID:10004251-1760612400-1760616000@flatheadcountylibrary.org
SUMMARY:Preschool Storytime - Bigfork
DESCRIPTION:Enjoy longer stories and musical activities that promote listening skills and following directions. Following storytime\, children can explore activities that highlight math\, art\, dramatic play and science. Especially for ages 4 and 5.
URL:https://flatheadcountylibrary.org/event/preschool-storytime-bigfork-2/2025-10-16/
LOCATION:Bigfork Library\, 186 Bridge Street\, Bigfork\, MT\, 59911\, United States
CATEGORIES:Storytime
END:VEVENT
BEGIN:VEVENT
DTSTART;TZID=America/Denver:20251016T110000
DTEND;TZID=America/Denver:20251016T120000
DTSTAMP:20260420T085329
CREATED:20250813T220945Z
LAST-MODIFIED:20250813T220945Z
UID:10004279-1760612400-1760616000@flatheadcountylibrary.org
SUMMARY:Preschool Storytime - Columbia Falls
DESCRIPTION:Enjoy longer stories and musical activities that promote listening skills and following directions. Following storytime\, children can explore activities that highlight math\, art\, dramatic play and science. Especially for ages 4 and 5.
URL:https://flatheadcountylibrary.org/event/preschool-storytime-columbia-falls-2/2025-10-16/
LOCATION:Columbia Falls Library\, 130 6th Street West #C\, Columbia Falls\, MT\, 59912\, United States
CATEGORIES:Storytime
END:VEVENT
BEGIN:VEVENT
DTSTART;TZID=America/Denver:20251016T110000
DTEND;TZID=America/Denver:20251016T120000
DTSTAMP:20260420T085329
CREATED:20251016T161122Z
LAST-MODIFIED:20251016T161122Z
UID:10004402-1760612400-1760616000@flatheadcountylibrary.org
SUMMARY:Baroque Music Concert
DESCRIPTION:Experience tunes & tales performed on period instruments in a light-hearted program with the duo of Sonata Tramontana as they present “Earworms (and Maggots) Galore”. Carrie Krause\, baroque violin & John Lenti\, lute and baroque guitar\, share greatest hits from 17th century England from fiddle tunes to courtly sonatas. Exhibition of their touring concert program will take place at the Bigfork Library\, with a more contemplative program with instrument demonstration at the Kalispell Library the following day. Join Carrie and John at the Library for a truly unique musical adventure!  \n\n After-hours at the Bigfork Library: Oct. 15\, 6:30-7:30pm  \n Midmorning on the Second Floor of the Kalispell Library: Oct. 16\, 11 am
URL:https://flatheadcountylibrary.org/event/baroque-music-concert-3/
LOCATION:Kalispell Library\, 247 1st Ave East\, Kalispell\, MT\, 59901\, United States
CATEGORIES:Adult Program
END:VEVENT
END:VCALENDAR