BEGIN:VCALENDAR
VERSION:2.0
PRODID:-//Flathead County Library - ECPv6.15.20//NONSGML v1.0//EN
CALSCALE:GREGORIAN
METHOD:PUBLISH
X-ORIGINAL-URL:https://flatheadcountylibrary.org
X-WR-CALDESC:Events for Flathead County Library
REFRESH-INTERVAL;VALUE=DURATION:PT1H
X-Robots-Tag:noindex
X-PUBLISHED-TTL:PT1H
BEGIN:VTIMEZONE
TZID:America/Denver
BEGIN:DAYLIGHT
TZOFFSETFROM:-0700
TZOFFSETTO:-0600
TZNAME:MDT
DTSTART:20240310T090000
END:DAYLIGHT
BEGIN:STANDARD
TZOFFSETFROM:-0600
TZOFFSETTO:-0700
TZNAME:MST
DTSTART:20241103T080000
END:STANDARD
BEGIN:DAYLIGHT
TZOFFSETFROM:-0700
TZOFFSETTO:-0600
TZNAME:MDT
DTSTART:20250309T090000
END:DAYLIGHT
BEGIN:STANDARD
TZOFFSETFROM:-0600
TZOFFSETTO:-0700
TZNAME:MST
DTSTART:20251102T080000
END:STANDARD
BEGIN:DAYLIGHT
TZOFFSETFROM:-0700
TZOFFSETTO:-0600
TZNAME:MDT
DTSTART:20260308T090000
END:DAYLIGHT
BEGIN:STANDARD
TZOFFSETFROM:-0600
TZOFFSETTO:-0700
TZNAME:MST
DTSTART:20261101T080000
END:STANDARD
END:VTIMEZONE
BEGIN:VEVENT
DTSTART;VALUE=DATE:20251020
DTEND;VALUE=DATE:20251026
DTSTAMP:20260420T101245
CREATED:20250910T204733Z
LAST-MODIFIED:20250910T204733Z
UID:10004336-1760918400-1761436799@flatheadcountylibrary.org
SUMMARY:Mexican Paper Flower Hair Pin Zone
DESCRIPTION:Choose your colors\, then trim\, fold\, and shape your paper to make a beautiful flower pin! During all open hours at the Columbia Falls Library!
URL:https://flatheadcountylibrary.org/event/mexican-paper-flower-hair-pin-zone/
LOCATION:Columbia Falls Library\, 130 6th Street West #C\, Columbia Falls\, MT\, 59912\, United States
CATEGORIES:Adult Program
END:VEVENT
BEGIN:VEVENT
DTSTART;TZID=America/Denver:20251022T110000
DTEND;TZID=America/Denver:20251022T120000
DTSTAMP:20260420T101245
CREATED:20250813T215744Z
LAST-MODIFIED:20250813T215744Z
UID:10004069-1761130800-1761134400@flatheadcountylibrary.org
SUMMARY:Baby Storytime - Kalispell
DESCRIPTION:Make connections with other parents and learn fun techniques for using books\, songs\, and rhymes at home. Rhythm and repetition will get your little one recognizing and requesting favorite songs. Especially for ages birth to 24 months.
URL:https://flatheadcountylibrary.org/event/baby-storytime-kalispell-2/2025-10-22/
LOCATION:Kalispell Library\, 247 1st Ave East\, Kalispell\, MT\, 59901\, United States
CATEGORIES:Storytime
END:VEVENT
BEGIN:VEVENT
DTSTART;TZID=America/Denver:20251022T140000
DTEND;TZID=America/Denver:20251022T153000
DTSTAMP:20260420T101245
CREATED:20250813T221258Z
LAST-MODIFIED:20250910T203429Z
UID:10004319-1761141600-1761147000@flatheadcountylibrary.org
SUMMARY:Challenge Accepted (Grades 6-12)
DESCRIPTION:Do you have what it takes to win an engineering\, tech\, or gaming challenge? See us once a month to get competitive\, get creative\, and discover something new! 
URL:https://flatheadcountylibrary.org/event/challenge-accepted-grades-6-12/2025-10-22/
LOCATION:Kalispell Library\, 247 1st Ave East\, Kalispell\, MT\, 59901\, United States
CATEGORIES:Teen Program
END:VEVENT
BEGIN:VEVENT
DTSTART;TZID=America/Denver:20251022T140000
DTEND;TZID=America/Denver:20251022T160000
DTSTAMP:20260420T101245
CREATED:20250813T215309Z
LAST-MODIFIED:20250813T215309Z
UID:10004013-1761141600-1761148800@flatheadcountylibrary.org
SUMMARY:Kids Wednesday Workshop - Columbia Falls
DESCRIPTION:Join us every Wednesday for hands-on exploration\, including LEGO Club and STEAM Space (science\, technology\, engineering\, art\, and math activities). We’ll create art\, play games\, construct new worlds with LEGOs\, tackle an engineering challenge or learn a new craft. Especially for kids in grades K-5. Must be accompanied by an adult.
URL:https://flatheadcountylibrary.org/event/kids-wednesday-workshop-columbia-falls-2/2025-10-22/
LOCATION:Columbia Falls Library\, 130 6th Street West #C\, Columbia Falls\, MT\, 59912\, United States
CATEGORIES:Kids Program
END:VEVENT
BEGIN:VEVENT
DTSTART;TZID=America/Denver:20251022T140000
DTEND;TZID=America/Denver:20251022T170000
DTSTAMP:20260420T101245
CREATED:20250813T215359Z
LAST-MODIFIED:20250813T215359Z
UID:10004041-1761141600-1761152400@flatheadcountylibrary.org
SUMMARY:Kids Wednesday Workshop - Kalispell
DESCRIPTION:Join us every Wednesday for hands-on exploration\, including LEGO Club and STEAM Space (science\, technology\, engineering\, art\, and math activities). We’ll create art\, play games\, construct new worlds with LEGOs\, tackle an engineering challenge or learn a new craft. Especially for kids in grades K-5. Must be accompanied by an adult.
URL:https://flatheadcountylibrary.org/event/kids-wednesday-workshop-kalispell-2/2025-10-22/
LOCATION:Kalispell Library\, 247 1st Ave East\, Kalispell\, MT\, 59901\, United States
CATEGORIES:Kids Program
END:VEVENT
BEGIN:VEVENT
DTSTART;TZID=America/Denver:20251022T153000
DTEND;TZID=America/Denver:20251022T173000
DTSTAMP:20260420T101245
CREATED:20250813T215213Z
LAST-MODIFIED:20250813T215213Z
UID:10003985-1761147000-1761154200@flatheadcountylibrary.org
SUMMARY:Kids Wednesday Workshop - Bigfork
DESCRIPTION:Join us every Wednesday for hands-on exploration\, including LEGO Club and STEAM Space (science\, technology\, engineering\, art\, and math activities). We’ll create art\, play games\, construct new worlds with LEGOs\, tackle an engineering challenge or learn a new craft. Especially for kids in grades K-5. Must be accompanied by an adult.
URL:https://flatheadcountylibrary.org/event/kids-wednesday-workshop-bigfork-2/2025-10-22/
LOCATION:Bigfork Library\, 186 Bridge Street\, Bigfork\, MT\, 59911\, United States
CATEGORIES:Kids Program
END:VEVENT
END:VCALENDAR