BEGIN:VCALENDAR
VERSION:2.0
PRODID:-//Flathead County Library - ECPv6.15.20//NONSGML v1.0//EN
CALSCALE:GREGORIAN
METHOD:PUBLISH
X-WR-CALNAME:Flathead County Library
X-ORIGINAL-URL:https://flatheadcountylibrary.org
X-WR-CALDESC:Events for Flathead County Library
REFRESH-INTERVAL;VALUE=DURATION:PT1H
X-Robots-Tag:noindex
X-PUBLISHED-TTL:PT1H
BEGIN:VTIMEZONE
TZID:America/Denver
BEGIN:DAYLIGHT
TZOFFSETFROM:-0700
TZOFFSETTO:-0600
TZNAME:MDT
DTSTART:20240310T090000
END:DAYLIGHT
BEGIN:STANDARD
TZOFFSETFROM:-0600
TZOFFSETTO:-0700
TZNAME:MST
DTSTART:20241103T080000
END:STANDARD
BEGIN:DAYLIGHT
TZOFFSETFROM:-0700
TZOFFSETTO:-0600
TZNAME:MDT
DTSTART:20250309T090000
END:DAYLIGHT
BEGIN:STANDARD
TZOFFSETFROM:-0600
TZOFFSETTO:-0700
TZNAME:MST
DTSTART:20251102T080000
END:STANDARD
BEGIN:DAYLIGHT
TZOFFSETFROM:-0700
TZOFFSETTO:-0600
TZNAME:MDT
DTSTART:20260308T090000
END:DAYLIGHT
BEGIN:STANDARD
TZOFFSETFROM:-0600
TZOFFSETTO:-0700
TZNAME:MST
DTSTART:20261101T080000
END:STANDARD
END:VTIMEZONE
BEGIN:VEVENT
DTSTART;TZID=America/Denver:20251105T110000
DTEND;TZID=America/Denver:20251105T120000
DTSTAMP:20260420T062629
CREATED:20250813T215744Z
LAST-MODIFIED:20250813T215744Z
UID:10004071-1762340400-1762344000@flatheadcountylibrary.org
SUMMARY:Baby Storytime - Kalispell
DESCRIPTION:Make connections with other parents and learn fun techniques for using books\, songs\, and rhymes at home. Rhythm and repetition will get your little one recognizing and requesting favorite songs. Especially for ages birth to 24 months.
URL:https://flatheadcountylibrary.org/event/baby-storytime-kalispell-2/2025-11-05/
LOCATION:Kalispell Library\, 247 1st Ave East\, Kalispell\, MT\, 59901\, United States
CATEGORIES:Storytime
END:VEVENT
BEGIN:VEVENT
DTSTART;TZID=America/Denver:20251105T140000
DTEND;TZID=America/Denver:20251105T160000
DTSTAMP:20260420T062629
CREATED:20250813T215309Z
LAST-MODIFIED:20250813T215309Z
UID:10004015-1762351200-1762358400@flatheadcountylibrary.org
SUMMARY:Kids Wednesday Workshop - Columbia Falls
DESCRIPTION:Join us every Wednesday for hands-on exploration\, including LEGO Club and STEAM Space (science\, technology\, engineering\, art\, and math activities). We’ll create art\, play games\, construct new worlds with LEGOs\, tackle an engineering challenge or learn a new craft. Especially for kids in grades K-5. Must be accompanied by an adult.
URL:https://flatheadcountylibrary.org/event/kids-wednesday-workshop-columbia-falls-2/2025-11-05/
LOCATION:Columbia Falls Library\, 130 6th Street West #C\, Columbia Falls\, MT\, 59912\, United States
CATEGORIES:Kids Program
END:VEVENT
BEGIN:VEVENT
DTSTART;TZID=America/Denver:20251105T140000
DTEND;TZID=America/Denver:20251105T170000
DTSTAMP:20260420T062629
CREATED:20250813T215359Z
LAST-MODIFIED:20250813T215359Z
UID:10004043-1762351200-1762362000@flatheadcountylibrary.org
SUMMARY:Kids Wednesday Workshop - Kalispell
DESCRIPTION:Join us every Wednesday for hands-on exploration\, including LEGO Club and STEAM Space (science\, technology\, engineering\, art\, and math activities). We’ll create art\, play games\, construct new worlds with LEGOs\, tackle an engineering challenge or learn a new craft. Especially for kids in grades K-5. Must be accompanied by an adult.
URL:https://flatheadcountylibrary.org/event/kids-wednesday-workshop-kalispell-2/2025-11-05/
LOCATION:Kalispell Library\, 247 1st Ave East\, Kalispell\, MT\, 59901\, United States
CATEGORIES:Kids Program
END:VEVENT
BEGIN:VEVENT
DTSTART;TZID=America/Denver:20251105T140000
DTEND;TZID=America/Denver:20251105T170000
DTSTAMP:20260420T062629
CREATED:20251018T200105Z
LAST-MODIFIED:20251018T200105Z
UID:10004430-1762351200-1762362000@flatheadcountylibrary.org
SUMMARY:Wednesday Workshop: Wild Explorers (Grades K-5)
DESCRIPTION:Join us for Wild Explorers\, an exciting hands-on workshop where kids dive into the wonders of the natural world with the help of special guest experts from the Glacier Institute–members of our local outdoor education community.
URL:https://flatheadcountylibrary.org/event/wednesday-workshop-wild-explorers-grades-k-5/
LOCATION:Kalispell Library\, 247 1st Ave East\, Kalispell\, MT\, 59901\, United States
CATEGORIES:Kids Program
END:VEVENT
BEGIN:VEVENT
DTSTART;TZID=America/Denver:20251105T143000
DTEND;TZID=America/Denver:20251105T160000
DTSTAMP:20260420T062629
CREATED:20251018T193101Z
LAST-MODIFIED:20251018T193101Z
UID:10004427-1762353000-1762358400@flatheadcountylibrary.org
SUMMARY:Fandom (GRADES 6-12)
DESCRIPTION:Come chill with us in the Teen Zone on the 1st Wednesday of every month. We’ll watch anime\, create unique merchandise\, and totally geek out. This Wednesday we’ll watch anime\, create unique merchandise\, and make onigiri! Geek out with us while chowing down on a delicious Japanese snack!
URL:https://flatheadcountylibrary.org/event/fandom-grades-6-12-2/
LOCATION:Kalispell Library\, 247 1st Ave East\, Kalispell\, MT\, 59901\, United States
CATEGORIES:Teen Program
END:VEVENT
BEGIN:VEVENT
DTSTART;TZID=America/Denver:20251105T153000
DTEND;TZID=America/Denver:20251105T173000
DTSTAMP:20260420T062629
CREATED:20250813T215213Z
LAST-MODIFIED:20250813T215213Z
UID:10003987-1762356600-1762363800@flatheadcountylibrary.org
SUMMARY:Kids Wednesday Workshop - Bigfork
DESCRIPTION:Join us every Wednesday for hands-on exploration\, including LEGO Club and STEAM Space (science\, technology\, engineering\, art\, and math activities). We’ll create art\, play games\, construct new worlds with LEGOs\, tackle an engineering challenge or learn a new craft. Especially for kids in grades K-5. Must be accompanied by an adult.
URL:https://flatheadcountylibrary.org/event/kids-wednesday-workshop-bigfork-2/2025-11-05/
LOCATION:Bigfork Library\, 186 Bridge Street\, Bigfork\, MT\, 59911\, United States
CATEGORIES:Kids Program
END:VEVENT
END:VCALENDAR