BEGIN:VCALENDAR
VERSION:2.0
PRODID:-//Flathead County Library - ECPv6.15.20//NONSGML v1.0//EN
CALSCALE:GREGORIAN
METHOD:PUBLISH
X-ORIGINAL-URL:https://flatheadcountylibrary.org
X-WR-CALDESC:Events for Flathead County Library
REFRESH-INTERVAL;VALUE=DURATION:PT1H
X-Robots-Tag:noindex
X-PUBLISHED-TTL:PT1H
BEGIN:VTIMEZONE
TZID:America/Denver
BEGIN:DAYLIGHT
TZOFFSETFROM:-0700
TZOFFSETTO:-0600
TZNAME:MDT
DTSTART:20240310T090000
END:DAYLIGHT
BEGIN:STANDARD
TZOFFSETFROM:-0600
TZOFFSETTO:-0700
TZNAME:MST
DTSTART:20241103T080000
END:STANDARD
BEGIN:DAYLIGHT
TZOFFSETFROM:-0700
TZOFFSETTO:-0600
TZNAME:MDT
DTSTART:20250309T090000
END:DAYLIGHT
BEGIN:STANDARD
TZOFFSETFROM:-0600
TZOFFSETTO:-0700
TZNAME:MST
DTSTART:20251102T080000
END:STANDARD
BEGIN:DAYLIGHT
TZOFFSETFROM:-0700
TZOFFSETTO:-0600
TZNAME:MDT
DTSTART:20260308T090000
END:DAYLIGHT
BEGIN:STANDARD
TZOFFSETFROM:-0600
TZOFFSETTO:-0700
TZNAME:MST
DTSTART:20261101T080000
END:STANDARD
END:VTIMEZONE
BEGIN:VEVENT
DTSTART;TZID=America/Denver:20251106T110000
DTEND;TZID=America/Denver:20251106T120000
DTSTAMP:20260420T062750
CREATED:20250813T220732Z
LAST-MODIFIED:20250813T220732Z
UID:10004254-1762426800-1762430400@flatheadcountylibrary.org
SUMMARY:Preschool Storytime - Bigfork
DESCRIPTION:Enjoy longer stories and musical activities that promote listening skills and following directions. Following storytime\, children can explore activities that highlight math\, art\, dramatic play and science. Especially for ages 4 and 5.
URL:https://flatheadcountylibrary.org/event/preschool-storytime-bigfork-2/2025-11-06/
LOCATION:Bigfork Library\, 186 Bridge Street\, Bigfork\, MT\, 59911\, United States
CATEGORIES:Storytime
END:VEVENT
BEGIN:VEVENT
DTSTART;TZID=America/Denver:20251106T110000
DTEND;TZID=America/Denver:20251106T120000
DTSTAMP:20260420T062750
CREATED:20250813T220945Z
LAST-MODIFIED:20250813T220945Z
UID:10004282-1762426800-1762430400@flatheadcountylibrary.org
SUMMARY:Preschool Storytime - Columbia Falls
DESCRIPTION:Enjoy longer stories and musical activities that promote listening skills and following directions. Following storytime\, children can explore activities that highlight math\, art\, dramatic play and science. Especially for ages 4 and 5.
URL:https://flatheadcountylibrary.org/event/preschool-storytime-columbia-falls-2/2025-11-06/
LOCATION:Columbia Falls Library\, 130 6th Street West #C\, Columbia Falls\, MT\, 59912\, United States
CATEGORIES:Storytime
END:VEVENT
BEGIN:VEVENT
DTSTART;TZID=America/Denver:20251106T150000
DTEND;TZID=America/Denver:20251106T170000
DTSTAMP:20260420T062750
CREATED:20250923T181905Z
LAST-MODIFIED:20251011T212709Z
UID:10004350-1762441200-1762448400@flatheadcountylibrary.org
SUMMARY:Seed Cleaning & Packing Party
DESCRIPTION:Join our friends from Land to Hand for another round of seed cleaning and seed packing parties at the library! Volunteers of all ages and abilities are welcome as we either separate and clean seeds or label and spoon seeds into envelopes. Stop by these family-friendly events and help us restock the Columbia Falls Library’s seed library and save seeds for next year’s Free the Seeds event.
URL:https://flatheadcountylibrary.org/event/seed-cleaning-packing-party-2/
LOCATION:Kalispell Library\, 247 1st Ave East\, Kalispell\, MT\, 59901\, United States
CATEGORIES:Adult Program
END:VEVENT
END:VCALENDAR