BEGIN:VCALENDAR
VERSION:2.0
PRODID:-//Flathead County Library - ECPv6.15.20//NONSGML v1.0//EN
CALSCALE:GREGORIAN
METHOD:PUBLISH
X-WR-CALNAME:Flathead County Library
X-ORIGINAL-URL:https://flatheadcountylibrary.org
X-WR-CALDESC:Events for Flathead County Library
REFRESH-INTERVAL;VALUE=DURATION:PT1H
X-Robots-Tag:noindex
X-PUBLISHED-TTL:PT1H
BEGIN:VTIMEZONE
TZID:America/Denver
BEGIN:DAYLIGHT
TZOFFSETFROM:-0700
TZOFFSETTO:-0600
TZNAME:MDT
DTSTART:20240310T090000
END:DAYLIGHT
BEGIN:STANDARD
TZOFFSETFROM:-0600
TZOFFSETTO:-0700
TZNAME:MST
DTSTART:20241103T080000
END:STANDARD
BEGIN:DAYLIGHT
TZOFFSETFROM:-0700
TZOFFSETTO:-0600
TZNAME:MDT
DTSTART:20250309T090000
END:DAYLIGHT
BEGIN:STANDARD
TZOFFSETFROM:-0600
TZOFFSETTO:-0700
TZNAME:MST
DTSTART:20251102T080000
END:STANDARD
BEGIN:DAYLIGHT
TZOFFSETFROM:-0700
TZOFFSETTO:-0600
TZNAME:MDT
DTSTART:20260308T090000
END:DAYLIGHT
BEGIN:STANDARD
TZOFFSETFROM:-0600
TZOFFSETTO:-0700
TZNAME:MST
DTSTART:20261101T080000
END:STANDARD
END:VTIMEZONE
BEGIN:VEVENT
DTSTART;TZID=America/Denver:20251113T110000
DTEND;TZID=America/Denver:20251113T120000
DTSTAMP:20260420T101237
CREATED:20250813T220732Z
LAST-MODIFIED:20250813T220732Z
UID:10004255-1763031600-1763035200@flatheadcountylibrary.org
SUMMARY:Preschool Storytime - Bigfork
DESCRIPTION:Enjoy longer stories and musical activities that promote listening skills and following directions. Following storytime\, children can explore activities that highlight math\, art\, dramatic play and science. Especially for ages 4 and 5.
URL:https://flatheadcountylibrary.org/event/preschool-storytime-bigfork-2/2025-11-13/
LOCATION:Bigfork Library\, 186 Bridge Street\, Bigfork\, MT\, 59911\, United States
CATEGORIES:Storytime
END:VEVENT
BEGIN:VEVENT
DTSTART;TZID=America/Denver:20251113T110000
DTEND;TZID=America/Denver:20251113T120000
DTSTAMP:20260420T101237
CREATED:20250813T220945Z
LAST-MODIFIED:20250813T220945Z
UID:10004283-1763031600-1763035200@flatheadcountylibrary.org
SUMMARY:Preschool Storytime - Columbia Falls
DESCRIPTION:Enjoy longer stories and musical activities that promote listening skills and following directions. Following storytime\, children can explore activities that highlight math\, art\, dramatic play and science. Especially for ages 4 and 5.
URL:https://flatheadcountylibrary.org/event/preschool-storytime-columbia-falls-2/2025-11-13/
LOCATION:Columbia Falls Library\, 130 6th Street West #C\, Columbia Falls\, MT\, 59912\, United States
CATEGORIES:Storytime
END:VEVENT
BEGIN:VEVENT
DTSTART;TZID=America/Denver:20251113T110000
DTEND;TZID=America/Denver:20251113T120000
DTSTAMP:20260420T101237
CREATED:20251018T191139Z
LAST-MODIFIED:20251018T191139Z
UID:10004425-1763031600-1763035200@flatheadcountylibrary.org
SUMMARY:Symphony Storytime
DESCRIPTION:Young children are invited to hear the Glacier Symphony Orchestra Chorale woodwind quintet perform excerpts of Dan Brown’s Wild Symphony.
URL:https://flatheadcountylibrary.org/event/symphony-storytime-2/
LOCATION:Bigfork Library\, 186 Bridge Street\, Bigfork\, MT\, 59911\, United States
CATEGORIES:Kids Program
END:VEVENT
BEGIN:VEVENT
DTSTART;TZID=America/Denver:20251113T150000
DTEND;TZID=America/Denver:20251113T160000
DTSTAMP:20260420T101237
CREATED:20251105T212407Z
LAST-MODIFIED:20251105T212407Z
UID:10004625-1763046000-1763049600@flatheadcountylibrary.org
SUMMARY:Friends of the Library Book Club
DESCRIPTION:Meet with other book enthusiasts at 3pm in the Meeting Room at Flathead County Library Kalispell. November’s book club meets on a Thursday due to a library closure on Veteran’s Day.  \n\n See this month’s book  HERE.
URL:https://flatheadcountylibrary.org/event/friends-of-the-library-book-club-3/
LOCATION:Kalispell Library\, 247 1st Ave East\, Kalispell\, MT\, 59901\, United States
CATEGORIES:Book Club
END:VEVENT
END:VCALENDAR