BEGIN:VCALENDAR
VERSION:2.0
PRODID:-//Flathead County Library - ECPv6.15.20//NONSGML v1.0//EN
CALSCALE:GREGORIAN
METHOD:PUBLISH
X-ORIGINAL-URL:https://flatheadcountylibrary.org
X-WR-CALDESC:Events for Flathead County Library
REFRESH-INTERVAL;VALUE=DURATION:PT1H
X-Robots-Tag:noindex
X-PUBLISHED-TTL:PT1H
BEGIN:VTIMEZONE
TZID:America/Denver
BEGIN:DAYLIGHT
TZOFFSETFROM:-0700
TZOFFSETTO:-0600
TZNAME:MDT
DTSTART:20240310T090000
END:DAYLIGHT
BEGIN:STANDARD
TZOFFSETFROM:-0600
TZOFFSETTO:-0700
TZNAME:MST
DTSTART:20241103T080000
END:STANDARD
BEGIN:DAYLIGHT
TZOFFSETFROM:-0700
TZOFFSETTO:-0600
TZNAME:MDT
DTSTART:20250309T090000
END:DAYLIGHT
BEGIN:STANDARD
TZOFFSETFROM:-0600
TZOFFSETTO:-0700
TZNAME:MST
DTSTART:20251102T080000
END:STANDARD
BEGIN:DAYLIGHT
TZOFFSETFROM:-0700
TZOFFSETTO:-0600
TZNAME:MDT
DTSTART:20260308T090000
END:DAYLIGHT
BEGIN:STANDARD
TZOFFSETFROM:-0600
TZOFFSETTO:-0700
TZNAME:MST
DTSTART:20261101T080000
END:STANDARD
BEGIN:DAYLIGHT
TZOFFSETFROM:-0700
TZOFFSETTO:-0600
TZNAME:MDT
DTSTART:20270314T090000
END:DAYLIGHT
BEGIN:STANDARD
TZOFFSETFROM:-0600
TZOFFSETTO:-0700
TZNAME:MST
DTSTART:20271107T080000
END:STANDARD
END:VTIMEZONE
BEGIN:VEVENT
DTSTART;VALUE=DATE:20251201
DTEND;VALUE=DATE:20260301
DTSTAMP:20260420T051240
CREATED:20251106T224204Z
LAST-MODIFIED:20251224T000719Z
UID:10004535-1764547200-1772323199@flatheadcountylibrary.org
SUMMARY:Cooking Bingo
DESCRIPTION:Bingo continues this winter with a cooking theme! Pick up a Cooking Bingo board at any library location this winter and challenge yourself try different recipes\, techniques\, and foods. Get a bingo and win a collectible sticker.
URL:https://flatheadcountylibrary.org/event/cooking-bingo/
LOCATION:Bigfork Library\, 186 Bridge Street\, Bigfork\, MT\, 59911\, United States
END:VEVENT
BEGIN:VEVENT
DTSTART;TZID=America/Denver:20251201T110000
DTEND;TZID=America/Denver:20251201T120000
DTSTAMP:20260420T051240
CREATED:20250813T220413Z
LAST-MODIFIED:20250813T220413Z
UID:10004202-1764586800-1764590400@flatheadcountylibrary.org
SUMMARY:Toddler Storytime - Kalispell
DESCRIPTION:Sing\, dance\, read and explore while also building social and emotional skills. This fun and interactive program is for toddlers who love to move! Caregiver participation encouraged. Especially for ages 2-4.
URL:https://flatheadcountylibrary.org/event/toddler-storytime-kalispell/2025-12-01/
LOCATION:Kalispell Library\, 247 1st Ave East\, Kalispell\, MT\, 59901\, United States
CATEGORIES:Storytime
END:VEVENT
BEGIN:VEVENT
DTSTART;TZID=America/Denver:20251201T110000
DTEND;TZID=America/Denver:20251201T150000
DTSTAMP:20260420T051240
CREATED:20251107T212151Z
LAST-MODIFIED:20251107T212151Z
UID:10004626-1764586800-1764601200@flatheadcountylibrary.org
SUMMARY:AARP Smart Driver Course
DESCRIPTION:Get up to speed with the latest driving strategies\, auto safety features\, and new state and local traffic laws in this course designed especially for drivers age 50 and older. All drivers welcome. Upon completion of the course\, you may be eligible to receive auto insurance discounts. Registration is required. To register call: (406)758-2445; $20 for AARP members\, $25 for non-members
URL:https://flatheadcountylibrary.org/event/aarp-smart-driver-course-2/
LOCATION:Kalispell Library\, 247 1st Ave East\, Kalispell\, MT\, 59901\, United States
CATEGORIES:Adult Program
END:VEVENT
END:VCALENDAR