BEGIN:VCALENDAR
VERSION:2.0
PRODID:-//Flathead County Library - ECPv6.15.20//NONSGML v1.0//EN
CALSCALE:GREGORIAN
METHOD:PUBLISH
X-ORIGINAL-URL:https://flatheadcountylibrary.org
X-WR-CALDESC:Events for Flathead County Library
REFRESH-INTERVAL;VALUE=DURATION:PT1H
X-Robots-Tag:noindex
X-PUBLISHED-TTL:PT1H
BEGIN:VTIMEZONE
TZID:America/Denver
BEGIN:DAYLIGHT
TZOFFSETFROM:-0700
TZOFFSETTO:-0600
TZNAME:MDT
DTSTART:20240310T090000
END:DAYLIGHT
BEGIN:STANDARD
TZOFFSETFROM:-0600
TZOFFSETTO:-0700
TZNAME:MST
DTSTART:20241103T080000
END:STANDARD
BEGIN:DAYLIGHT
TZOFFSETFROM:-0700
TZOFFSETTO:-0600
TZNAME:MDT
DTSTART:20250309T090000
END:DAYLIGHT
BEGIN:STANDARD
TZOFFSETFROM:-0600
TZOFFSETTO:-0700
TZNAME:MST
DTSTART:20251102T080000
END:STANDARD
BEGIN:DAYLIGHT
TZOFFSETFROM:-0700
TZOFFSETTO:-0600
TZNAME:MDT
DTSTART:20260308T090000
END:DAYLIGHT
BEGIN:STANDARD
TZOFFSETFROM:-0600
TZOFFSETTO:-0700
TZNAME:MST
DTSTART:20261101T080000
END:STANDARD
BEGIN:DAYLIGHT
TZOFFSETFROM:-0700
TZOFFSETTO:-0600
TZNAME:MDT
DTSTART:20270314T090000
END:DAYLIGHT
BEGIN:STANDARD
TZOFFSETFROM:-0600
TZOFFSETTO:-0700
TZNAME:MST
DTSTART:20271107T080000
END:STANDARD
END:VTIMEZONE
BEGIN:VEVENT
DTSTART;VALUE=DATE:20251201
DTEND;VALUE=DATE:20260301
DTSTAMP:20260420T051257
CREATED:20251106T224204Z
LAST-MODIFIED:20251224T000719Z
UID:10004535-1764547200-1772323199@flatheadcountylibrary.org
SUMMARY:Cooking Bingo
DESCRIPTION:Bingo continues this winter with a cooking theme! Pick up a Cooking Bingo board at any library location this winter and challenge yourself try different recipes\, techniques\, and foods. Get a bingo and win a collectible sticker.
URL:https://flatheadcountylibrary.org/event/cooking-bingo/
LOCATION:Bigfork Library\, 186 Bridge Street\, Bigfork\, MT\, 59911\, United States
END:VEVENT
BEGIN:VEVENT
DTSTART;TZID=America/Denver:20251212T110000
DTEND;TZID=America/Denver:20251212T120000
DTSTAMP:20260420T051257
CREATED:20250813T215836Z
LAST-MODIFIED:20250813T215836Z
UID:10004104-1765537200-1765540800@flatheadcountylibrary.org
SUMMARY:Baby Storytime - Columbia Falls
DESCRIPTION:Make connections with other parents and learn fun techniques for using books\, songs\, and rhymes at home. Rhythm and repetition will get your little one recognizing and requesting favorite songs. Especially for ages birth to 24 months.
URL:https://flatheadcountylibrary.org/event/baby-storytime-columbia-falls-2/2025-12-12/
LOCATION:Columbia Falls Library\, 130 6th Street West #C\, Columbia Falls\, MT\, 59912\, United States
CATEGORIES:Storytime
END:VEVENT
BEGIN:VEVENT
DTSTART;TZID=America/Denver:20251212T110000
DTEND;TZID=America/Denver:20251212T120000
DTSTAMP:20260420T051257
CREATED:20250813T220024Z
LAST-MODIFIED:20251218T223422Z
UID:10004120-1765537200-1765540800@flatheadcountylibrary.org
SUMMARY:Baby Storytime-Bigfork
DESCRIPTION:Make connections with other parents and learn fun techniques for using books\, songs\, and rhymes at home. Rhythm and repetition will get your little one recognizing and requesting favorite songs. Especially for ages birth to 24 months.
URL:https://flatheadcountylibrary.org/event/baby-storytime-bigfork/2025-12-12/
LOCATION:Bigfork Library\, 186 Bridge Street\, Bigfork\, MT\, 59911\, United States
CATEGORIES:Storytime
END:VEVENT
BEGIN:VEVENT
DTSTART;TZID=America/Denver:20251212T150000
DTEND;TZID=America/Denver:20251212T170000
DTSTAMP:20260420T051257
CREATED:20251106T223750Z
LAST-MODIFIED:20251106T223750Z
UID:10004441-1765551600-1765558800@flatheadcountylibrary.org
SUMMARY:The Art of Giving (Grades 6-12)
DESCRIPTION:Learn the joy of gift giving! In this workshop\, teens will get creative by making their own greeting cards and help us spread cheer by making paper snowflakes that will be shared with seniors this holiday season. In addition\, at the Kalispell and Bigfork locations\, make a memorable gift of hot cocoa in a jar to give to someone you love.
URL:https://flatheadcountylibrary.org/event/the-art-of-giving-grades-6-12-3/
LOCATION:Columbia Falls Library\, 130 6th Street West #C\, Columbia Falls\, MT\, 59912\, United States
CATEGORIES:Teen Program
END:VEVENT
END:VCALENDAR