BEGIN:VCALENDAR
VERSION:2.0
PRODID:-//Flathead County Library - ECPv6.15.20//NONSGML v1.0//EN
CALSCALE:GREGORIAN
METHOD:PUBLISH
X-WR-CALNAME:Flathead County Library
X-ORIGINAL-URL:https://flatheadcountylibrary.org
X-WR-CALDESC:Events for Flathead County Library
REFRESH-INTERVAL;VALUE=DURATION:PT1H
X-Robots-Tag:noindex
X-PUBLISHED-TTL:PT1H
BEGIN:VTIMEZONE
TZID:America/Denver
BEGIN:DAYLIGHT
TZOFFSETFROM:-0700
TZOFFSETTO:-0600
TZNAME:MDT
DTSTART:20240310T090000
END:DAYLIGHT
BEGIN:STANDARD
TZOFFSETFROM:-0600
TZOFFSETTO:-0700
TZNAME:MST
DTSTART:20241103T080000
END:STANDARD
BEGIN:DAYLIGHT
TZOFFSETFROM:-0700
TZOFFSETTO:-0600
TZNAME:MDT
DTSTART:20250309T090000
END:DAYLIGHT
BEGIN:STANDARD
TZOFFSETFROM:-0600
TZOFFSETTO:-0700
TZNAME:MST
DTSTART:20251102T080000
END:STANDARD
BEGIN:DAYLIGHT
TZOFFSETFROM:-0700
TZOFFSETTO:-0600
TZNAME:MDT
DTSTART:20260308T090000
END:DAYLIGHT
BEGIN:STANDARD
TZOFFSETFROM:-0600
TZOFFSETTO:-0700
TZNAME:MST
DTSTART:20261101T080000
END:STANDARD
BEGIN:DAYLIGHT
TZOFFSETFROM:-0700
TZOFFSETTO:-0600
TZNAME:MDT
DTSTART:20270314T090000
END:DAYLIGHT
BEGIN:STANDARD
TZOFFSETFROM:-0600
TZOFFSETTO:-0700
TZNAME:MST
DTSTART:20271107T080000
END:STANDARD
END:VTIMEZONE
BEGIN:VEVENT
DTSTART;VALUE=DATE:20251201
DTEND;VALUE=DATE:20260301
DTSTAMP:20260420T034506
CREATED:20251106T224204Z
LAST-MODIFIED:20251224T000719Z
UID:10004535-1764547200-1772323199@flatheadcountylibrary.org
SUMMARY:Cooking Bingo
DESCRIPTION:Bingo continues this winter with a cooking theme! Pick up a Cooking Bingo board at any library location this winter and challenge yourself try different recipes\, techniques\, and foods. Get a bingo and win a collectible sticker.
URL:https://flatheadcountylibrary.org/event/cooking-bingo/
LOCATION:Bigfork Library\, 186 Bridge Street\, Bigfork\, MT\, 59911\, United States
END:VEVENT
BEGIN:VEVENT
DTSTART;TZID=America/Denver:20260108T110000
DTEND;TZID=America/Denver:20260108T120000
DTSTAMP:20260420T034506
CREATED:20251219T184936Z
LAST-MODIFIED:20251219T184936Z
UID:10004911-1767870000-1767873600@flatheadcountylibrary.org
SUMMARY:Preschool Storytime-Columbia Falls
DESCRIPTION:Enjoy longer stories and musical activities that promote listening skills and following directions. Following storytime\, children can explore activities that highlight math\, art\, dramatic play\, and science. Especially for ages 4 and 5.
URL:https://flatheadcountylibrary.org/event/preschool-storytime-columbia-falls-3/2026-01-08/
LOCATION:Columbia Falls Library\, 130 6th Street West #C\, Columbia Falls\, MT\, 59912\, United States
CATEGORIES:Storytime
END:VEVENT
BEGIN:VEVENT
DTSTART;TZID=America/Denver:20260108T110000
DTEND;TZID=America/Denver:20260108T120000
DTSTAMP:20260420T034506
CREATED:20251219T185353Z
LAST-MODIFIED:20251219T185353Z
UID:10004923-1767870000-1767873600@flatheadcountylibrary.org
SUMMARY:Preschool Storytime-Bigfork
DESCRIPTION:Enjoy longer stories and musical activities that promote listening skills and following directions. Following storytime\, children can explore activities that highlight math\, art\, dramatic play\, and science. Especially for ages 4 and 5.
URL:https://flatheadcountylibrary.org/event/preschool-storytime-bigfork-3/2026-01-08/
LOCATION:Bigfork Library\, 186 Bridge Street\, Bigfork\, MT\, 59911\, United States
CATEGORIES:Storytime
END:VEVENT
BEGIN:VEVENT
DTSTART;TZID=America/Denver:20260108T110000
DTEND;TZID=America/Denver:20260108T150000
DTSTAMP:20260420T034506
CREATED:20251204T212321Z
LAST-MODIFIED:20251204T212321Z
UID:10004635-1767870000-1767884400@flatheadcountylibrary.org
SUMMARY:AARP Smart Driver Course
DESCRIPTION:Get up to speed with the latest driving strategies\, auto safety features\, and new state and local traffic laws in this course designed especially for drivers age 50 and older. All drivers welcome. Upon completion of the course\, you may be eligible to receive auto insurance discounts. Registration is required.   To register call: (406)758-2445; $20 for AARP members\, $25 for non-members
URL:https://flatheadcountylibrary.org/event/aarp-smart-driver-course-3/
LOCATION:Bigfork Library\, 186 Bridge Street\, Bigfork\, MT\, 59911\, United States
CATEGORIES:Adult Program
END:VEVENT
END:VCALENDAR