BEGIN:VCALENDAR
VERSION:2.0
PRODID:-//Flathead County Library - ECPv6.15.20//NONSGML v1.0//EN
CALSCALE:GREGORIAN
METHOD:PUBLISH
X-ORIGINAL-URL:https://flatheadcountylibrary.org
X-WR-CALDESC:Events for Flathead County Library
REFRESH-INTERVAL;VALUE=DURATION:PT1H
X-Robots-Tag:noindex
X-PUBLISHED-TTL:PT1H
BEGIN:VTIMEZONE
TZID:America/Denver
BEGIN:DAYLIGHT
TZOFFSETFROM:-0700
TZOFFSETTO:-0600
TZNAME:MDT
DTSTART:20240310T090000
END:DAYLIGHT
BEGIN:STANDARD
TZOFFSETFROM:-0600
TZOFFSETTO:-0700
TZNAME:MST
DTSTART:20241103T080000
END:STANDARD
BEGIN:DAYLIGHT
TZOFFSETFROM:-0700
TZOFFSETTO:-0600
TZNAME:MDT
DTSTART:20250309T090000
END:DAYLIGHT
BEGIN:STANDARD
TZOFFSETFROM:-0600
TZOFFSETTO:-0700
TZNAME:MST
DTSTART:20251102T080000
END:STANDARD
BEGIN:DAYLIGHT
TZOFFSETFROM:-0700
TZOFFSETTO:-0600
TZNAME:MDT
DTSTART:20260308T090000
END:DAYLIGHT
BEGIN:STANDARD
TZOFFSETFROM:-0600
TZOFFSETTO:-0700
TZNAME:MST
DTSTART:20261101T080000
END:STANDARD
BEGIN:DAYLIGHT
TZOFFSETFROM:-0700
TZOFFSETTO:-0600
TZNAME:MDT
DTSTART:20270314T090000
END:DAYLIGHT
BEGIN:STANDARD
TZOFFSETFROM:-0600
TZOFFSETTO:-0700
TZNAME:MST
DTSTART:20271107T080000
END:STANDARD
END:VTIMEZONE
BEGIN:VEVENT
DTSTART;VALUE=DATE:20251201
DTEND;VALUE=DATE:20260301
DTSTAMP:20260420T080117
CREATED:20251106T224204Z
LAST-MODIFIED:20251224T000719Z
UID:10004535-1764547200-1772323199@flatheadcountylibrary.org
SUMMARY:Cooking Bingo
DESCRIPTION:Bingo continues this winter with a cooking theme! Pick up a Cooking Bingo board at any library location this winter and challenge yourself try different recipes\, techniques\, and foods. Get a bingo and win a collectible sticker.
URL:https://flatheadcountylibrary.org/event/cooking-bingo/
LOCATION:Bigfork Library\, 186 Bridge Street\, Bigfork\, MT\, 59911\, United States
END:VEVENT
BEGIN:VEVENT
DTSTART;TZID=America/Denver:20260120T080000
DTEND;TZID=America/Denver:20260120T170000
DTSTAMP:20260420T080117
CREATED:20251219T184552Z
LAST-MODIFIED:20251219T184552Z
UID:10004900-1768896000-1768928400@flatheadcountylibrary.org
SUMMARY:Preschool Storytime-Kalispell
DESCRIPTION:Enjoy longer stories and musical activities that promote listening skills and following directions. Following storytime\, children can explore activities that highlight math\, art\, dramatic play\, and science. Especially for ages 4 and 5.
URL:https://flatheadcountylibrary.org/event/preschool-storytime-kalispell-3/2026-01-20/
LOCATION:Kalispell Library\, 247 1st Ave East\, Kalispell\, MT\, 59901\, United States
CATEGORIES:Storytime
END:VEVENT
BEGIN:VEVENT
DTSTART;TZID=America/Denver:20260120T103000
DTEND;TZID=America/Denver:20260120T123000
DTSTAMP:20260420T080117
CREATED:20251204T212438Z
LAST-MODIFIED:20251204T212438Z
UID:10004630-1768905000-1768912200@flatheadcountylibrary.org
SUMMARY:Genealogy Class
DESCRIPTION:Join instructors from Kalispell’s FamilySearch Center for genealogy classes geared toward individuals and families aged 13 and older. Learn personal researching skills\, connect with family history groups\, and get expert help navigating genealogical sites. This program will repeat every 1st and 3rd Tuesday in Kalispell.
URL:https://flatheadcountylibrary.org/event/genealogy-class-6/2026-01-20/
LOCATION:Kalispell Library\, 247 1st Ave East\, Kalispell\, MT\, 59901\, United States
CATEGORIES:Adult Program
END:VEVENT
BEGIN:VEVENT
DTSTART;TZID=America/Denver:20260120T110000
DTEND;TZID=America/Denver:20260120T120000
DTSTAMP:20260420T080117
CREATED:20251219T182851Z
LAST-MODIFIED:20251219T182851Z
UID:10004850-1768906800-1768910400@flatheadcountylibrary.org
SUMMARY:Toddler Storytime-Columbia Falls
DESCRIPTION:Sing\, dance\, read and explore while also building social and emotional skills. This fun and interactive program is for toddlers who love to move! Caregiver participation encouraged. Especially for ages 2-4.
URL:https://flatheadcountylibrary.org/event/toddler-storytime-columbia-falls-3/2026-01-20/
LOCATION:Columbia Falls Library\, 130 6th Street West #C\, Columbia Falls\, MT\, 59912\, United States
CATEGORIES:Storytime
END:VEVENT
BEGIN:VEVENT
DTSTART;TZID=America/Denver:20260120T110000
DTEND;TZID=America/Denver:20260120T120000
DTSTAMP:20260420T080117
CREATED:20251219T183306Z
LAST-MODIFIED:20251219T183318Z
UID:10004863-1768906800-1768910400@flatheadcountylibrary.org
SUMMARY:Toddler Storytime-Bigfork
DESCRIPTION:Sing\, dance\, read and explore while also building social and emotional skills. This fun and interactive program is for toddlers who love to move! Caregiver participation encouraged. Especially for ages 2-4.
URL:https://flatheadcountylibrary.org/event/toddler-storytime-bigfork-3/2026-01-20/
LOCATION:Bigfork Library\, 186 Bridge Street\, Bigfork\, MT\, 59911\, United States
CATEGORIES:Storytime
END:VEVENT
END:VCALENDAR