BEGIN:VCALENDAR
VERSION:2.0
PRODID:-//Flathead County Library - ECPv6.15.20//NONSGML v1.0//EN
CALSCALE:GREGORIAN
METHOD:PUBLISH
X-WR-CALNAME:Flathead County Library
X-ORIGINAL-URL:https://flatheadcountylibrary.org
X-WR-CALDESC:Events for Flathead County Library
REFRESH-INTERVAL;VALUE=DURATION:PT1H
X-Robots-Tag:noindex
X-PUBLISHED-TTL:PT1H
BEGIN:VTIMEZONE
TZID:America/Denver
BEGIN:DAYLIGHT
TZOFFSETFROM:-0700
TZOFFSETTO:-0600
TZNAME:MDT
DTSTART:20240310T090000
END:DAYLIGHT
BEGIN:STANDARD
TZOFFSETFROM:-0600
TZOFFSETTO:-0700
TZNAME:MST
DTSTART:20241103T080000
END:STANDARD
BEGIN:DAYLIGHT
TZOFFSETFROM:-0700
TZOFFSETTO:-0600
TZNAME:MDT
DTSTART:20250309T090000
END:DAYLIGHT
BEGIN:STANDARD
TZOFFSETFROM:-0600
TZOFFSETTO:-0700
TZNAME:MST
DTSTART:20251102T080000
END:STANDARD
BEGIN:DAYLIGHT
TZOFFSETFROM:-0700
TZOFFSETTO:-0600
TZNAME:MDT
DTSTART:20260308T090000
END:DAYLIGHT
BEGIN:STANDARD
TZOFFSETFROM:-0600
TZOFFSETTO:-0700
TZNAME:MST
DTSTART:20261101T080000
END:STANDARD
BEGIN:DAYLIGHT
TZOFFSETFROM:-0700
TZOFFSETTO:-0600
TZNAME:MDT
DTSTART:20270314T090000
END:DAYLIGHT
BEGIN:STANDARD
TZOFFSETFROM:-0600
TZOFFSETTO:-0700
TZNAME:MST
DTSTART:20271107T080000
END:STANDARD
END:VTIMEZONE
BEGIN:VEVENT
DTSTART;VALUE=DATE:20251201
DTEND;VALUE=DATE:20260301
DTSTAMP:20260420T035751
CREATED:20251106T224204Z
LAST-MODIFIED:20251224T000719Z
UID:10004535-1764547200-1772323199@flatheadcountylibrary.org
SUMMARY:Cooking Bingo
DESCRIPTION:Bingo continues this winter with a cooking theme! Pick up a Cooking Bingo board at any library location this winter and challenge yourself try different recipes\, techniques\, and foods. Get a bingo and win a collectible sticker.
URL:https://flatheadcountylibrary.org/event/cooking-bingo/
LOCATION:Bigfork Library\, 186 Bridge Street\, Bigfork\, MT\, 59911\, United States
END:VEVENT
BEGIN:VEVENT
DTSTART;VALUE=DATE:20260126
DTEND;VALUE=DATE:20260201
DTSTAMP:20260420T035751
CREATED:20251204T213146Z
LAST-MODIFIED:20251210T235424Z
UID:10004639-1769385600-1769903999@flatheadcountylibrary.org
SUMMARY:Cozy Soup Kit Zone
DESCRIPTION:Learn how to prep a hearty soup kit. Layer dehydrated ingredients in a cone-shaped bag for a convenient cook-later comforting meal\, ready in just minutes!
URL:https://flatheadcountylibrary.org/event/cozy-soup-kit-zone/
LOCATION:Columbia Falls Library\, 130 6th Street West #C\, Columbia Falls\, MT\, 59912\, United States
CATEGORIES:Adult Program
END:VEVENT
BEGIN:VEVENT
DTSTART;TZID=America/Denver:20260129T110000
DTEND;TZID=America/Denver:20260129T120000
DTSTAMP:20260420T035751
CREATED:20251219T184936Z
LAST-MODIFIED:20251219T184936Z
UID:10004914-1769684400-1769688000@flatheadcountylibrary.org
SUMMARY:Preschool Storytime-Columbia Falls
DESCRIPTION:Enjoy longer stories and musical activities that promote listening skills and following directions. Following storytime\, children can explore activities that highlight math\, art\, dramatic play\, and science. Especially for ages 4 and 5.
URL:https://flatheadcountylibrary.org/event/preschool-storytime-columbia-falls-3/2026-01-29/
LOCATION:Columbia Falls Library\, 130 6th Street West #C\, Columbia Falls\, MT\, 59912\, United States
CATEGORIES:Storytime
END:VEVENT
BEGIN:VEVENT
DTSTART;TZID=America/Denver:20260129T110000
DTEND;TZID=America/Denver:20260129T120000
DTSTAMP:20260420T035751
CREATED:20251219T185353Z
LAST-MODIFIED:20251219T185353Z
UID:10004926-1769684400-1769688000@flatheadcountylibrary.org
SUMMARY:Preschool Storytime-Bigfork
DESCRIPTION:Enjoy longer stories and musical activities that promote listening skills and following directions. Following storytime\, children can explore activities that highlight math\, art\, dramatic play\, and science. Especially for ages 4 and 5.
URL:https://flatheadcountylibrary.org/event/preschool-storytime-bigfork-3/2026-01-29/
LOCATION:Bigfork Library\, 186 Bridge Street\, Bigfork\, MT\, 59911\, United States
CATEGORIES:Storytime
END:VEVENT
END:VCALENDAR