BEGIN:VCALENDAR
VERSION:2.0
PRODID:-//Flathead County Library - ECPv6.15.20//NONSGML v1.0//EN
CALSCALE:GREGORIAN
METHOD:PUBLISH
X-WR-CALNAME:Flathead County Library
X-ORIGINAL-URL:https://flatheadcountylibrary.org
X-WR-CALDESC:Events for Flathead County Library
REFRESH-INTERVAL;VALUE=DURATION:PT1H
X-Robots-Tag:noindex
X-PUBLISHED-TTL:PT1H
BEGIN:VTIMEZONE
TZID:America/Denver
BEGIN:DAYLIGHT
TZOFFSETFROM:-0700
TZOFFSETTO:-0600
TZNAME:MDT
DTSTART:20250309T090000
END:DAYLIGHT
BEGIN:STANDARD
TZOFFSETFROM:-0600
TZOFFSETTO:-0700
TZNAME:MST
DTSTART:20251102T080000
END:STANDARD
BEGIN:DAYLIGHT
TZOFFSETFROM:-0700
TZOFFSETTO:-0600
TZNAME:MDT
DTSTART:20260308T090000
END:DAYLIGHT
BEGIN:STANDARD
TZOFFSETFROM:-0600
TZOFFSETTO:-0700
TZNAME:MST
DTSTART:20261101T080000
END:STANDARD
BEGIN:DAYLIGHT
TZOFFSETFROM:-0700
TZOFFSETTO:-0600
TZNAME:MDT
DTSTART:20270314T090000
END:DAYLIGHT
BEGIN:STANDARD
TZOFFSETFROM:-0600
TZOFFSETTO:-0700
TZNAME:MST
DTSTART:20271107T080000
END:STANDARD
END:VTIMEZONE
BEGIN:VEVENT
DTSTART;VALUE=DATE:20260301
DTEND;VALUE=DATE:20260601
DTSTAMP:20260420T035203
CREATED:20260207T174608Z
LAST-MODIFIED:20260404T161843Z
UID:10006046-1772323200-1780271999@flatheadcountylibrary.org
SUMMARY:Nature and Wellness Bingo
DESCRIPTION:Bingo continues with a focus on nature and wellness! Pick up a Nature & Wellness Bingo board at any library location and challenge yourself to connect with the outdoors\, practice mindfulness\, and try simple wellness activities. Get a bingo and win a collectible sticker.
URL:https://flatheadcountylibrary.org/event/nature-and-wellness-bingo/
LOCATION:Kalispell Library\, 247 1st Ave East\, Kalispell\, MT\, 59901\, United States
CATEGORIES:All Ages
END:VEVENT
BEGIN:VEVENT
DTSTART;VALUE=DATE:20260504
DTEND;VALUE=DATE:20260510
DTSTAMP:20260420T035203
CREATED:20260411T190054Z
LAST-MODIFIED:20260411T190054Z
UID:10006388-1777852800-1778371199@flatheadcountylibrary.org
SUMMARY:May Flower Bookmarks Zone
DESCRIPTION:Create your very own unique dried flower laminated bookmark! Unleash your creativity to make a truly one-of-a-kind keepsake for you\, or a loved one!
URL:https://flatheadcountylibrary.org/event/may-flower-bookmarks-zone/
LOCATION:Columbia Falls Library\, 130 6th Street West #C\, Columbia Falls\, MT\, 59912\, United States
CATEGORIES:Adult Program
END:VEVENT
BEGIN:VEVENT
DTSTART;TZID=America/Denver:20260504T110000
DTEND;TZID=America/Denver:20260504T120000
DTSTAMP:20260420T035203
CREATED:20260404T155244Z
LAST-MODIFIED:20260404T160804Z
UID:10006362-1777892400-1777896000@flatheadcountylibrary.org
SUMMARY:Toddler Storytime-Kalispell
DESCRIPTION:Sing\, dance\, read and explore while also building social and emotional skills. This fun and interactive program is for toddlers who love to move! Caregiver participation encouraged. Especially for ages 2-4.
URL:https://flatheadcountylibrary.org/event/toddler-storytime-kalispell-2-2-2/2026-05-04/
LOCATION:Kalispell Library\, 247 1st Ave East\, Kalispell\, MT\, 59901\, United States
CATEGORIES:Storytime
END:VEVENT
END:VCALENDAR