BEGIN:VCALENDAR
VERSION:2.0
PRODID:-//Flathead County Library - ECPv6.15.20//NONSGML v1.0//EN
CALSCALE:GREGORIAN
METHOD:PUBLISH
X-WR-CALNAME:Flathead County Library
X-ORIGINAL-URL:https://flatheadcountylibrary.org
X-WR-CALDESC:Events for Flathead County Library
REFRESH-INTERVAL;VALUE=DURATION:PT1H
X-Robots-Tag:noindex
X-PUBLISHED-TTL:PT1H
BEGIN:VTIMEZONE
TZID:America/Denver
BEGIN:DAYLIGHT
TZOFFSETFROM:-0700
TZOFFSETTO:-0600
TZNAME:MDT
DTSTART:20240310T090000
END:DAYLIGHT
BEGIN:STANDARD
TZOFFSETFROM:-0600
TZOFFSETTO:-0700
TZNAME:MST
DTSTART:20241103T080000
END:STANDARD
BEGIN:DAYLIGHT
TZOFFSETFROM:-0700
TZOFFSETTO:-0600
TZNAME:MDT
DTSTART:20250309T090000
END:DAYLIGHT
BEGIN:STANDARD
TZOFFSETFROM:-0600
TZOFFSETTO:-0700
TZNAME:MST
DTSTART:20251102T080000
END:STANDARD
BEGIN:DAYLIGHT
TZOFFSETFROM:-0700
TZOFFSETTO:-0600
TZNAME:MDT
DTSTART:20260308T090000
END:DAYLIGHT
BEGIN:STANDARD
TZOFFSETFROM:-0600
TZOFFSETTO:-0700
TZNAME:MST
DTSTART:20261101T080000
END:STANDARD
END:VTIMEZONE
BEGIN:VEVENT
DTSTART;TZID=America/Denver:20250408T103000
DTEND;TZID=America/Denver:20250408T123000
DTSTAMP:20260420T212206
CREATED:20250327T163555Z
LAST-MODIFIED:20250724T190623Z
UID:10003611-1744108200-1744115400@flatheadcountylibrary.org
SUMMARY:Genealogy Class
DESCRIPTION:Join instructors from Kalispell’s FamilySearch Center for genealogy classes geared toward individuals and families aged 13 and older. Learn personal researching skills\, connect with family history groups\, and get expert help navigating genealogical sites. This program will repeat every 2nd & 4Th Tuesday each month.
URL:https://flatheadcountylibrary.org/event/genealogy-class/2025-04-08/
LOCATION:Bigfork Library\, 186 Bridge Street\, Bigfork\, MT\, 59911\, United States
CATEGORIES:Adult Program
END:VEVENT
BEGIN:VEVENT
DTSTART;TZID=America/Denver:20250408T180000
DTEND;TZID=America/Denver:20250408T190000
DTSTAMP:20260420T212206
CREATED:20250321T221325Z
LAST-MODIFIED:20250321T221325Z
UID:10003575-1744135200-1744138800@flatheadcountylibrary.org
SUMMARY:Story Concerts at the Library - Bigfork
DESCRIPTION:In celebration of Library Giving Day\, Flathead Library Foundation with sponsor\, Glacier Grins Pediatric Dentistry\, will host a series of Flathead Story Concerts. At each event\, local storytellers will share their true personal experience stories through spoken word – some to make you laugh\, cry\, or just think about life differently\, and all to build community at your local library. All events are family friendly and free\, with a suggested donation of $10 to Flathead Library Foundation to support the Library’s Summer Experience program.
URL:https://flatheadcountylibrary.org/event/story-concerts-at-the-library-bigfork/
LOCATION:Bigfork Library\, 186 Bridge Street\, Bigfork\, MT\, 59911\, United States
CATEGORIES:Adult Program
END:VEVENT
BEGIN:VEVENT
DTSTART;TZID=America/Denver:20250409T110000
DTEND;TZID=America/Denver:20250409T120000
DTSTAMP:20260420T212206
CREATED:20250327T160720Z
LAST-MODIFIED:20250327T160720Z
UID:10003579-1744196400-1744200000@flatheadcountylibrary.org
SUMMARY:Community Library Tour
DESCRIPTION:You’re invited to a fun and informative tour of your public library! Get a behind the scenes look into how your tax dollars work to bring great library services to the Flathead Valley! The second Wednesday of each month at 11am at your Kalispell Public Library. Tours are approximately 45 minutes long.
URL:https://flatheadcountylibrary.org/event/community-library-tour-2/2025-04-09/
LOCATION:Kalispell Library\, 247 1st Ave East\, Kalispell\, MT\, 59901\, United States
CATEGORIES:Adult Program
END:VEVENT
BEGIN:VEVENT
DTSTART;TZID=America/Denver:20250409T180000
DTEND;TZID=America/Denver:20250409T190000
DTSTAMP:20260420T212206
CREATED:20250321T221724Z
LAST-MODIFIED:20250321T221724Z
UID:10003576-1744221600-1744225200@flatheadcountylibrary.org
SUMMARY:Story Concerts at the Library - Columbia Falls
DESCRIPTION:In celebration of Library Giving Day\, Flathead Library Foundation with sponsor\, Glacier Grins Pediatric Dentistry\, will host a series of Flathead Story Concerts. At each event\, local storytellers will share their true personal experience stories through spoken word – some to make you laugh\, cry\, or just think about life differently\, and all to build community at your local library. All events are family friendly and free\, with a suggested donation of $10 to Flathead Library Foundation to support the Library’s Summer Experience program.
URL:https://flatheadcountylibrary.org/event/story-concerts-at-the-library-columbia-falls/
LOCATION:Columbia Falls Library\, 130 6th Street West #C\, Columbia Falls\, MT\, 59912\, United States
CATEGORIES:Adult Program
END:VEVENT
BEGIN:VEVENT
DTSTART;TZID=America/Denver:20250412T130000
DTEND;TZID=America/Denver:20250412T140000
DTSTAMP:20260420T212206
CREATED:20250321T221951Z
LAST-MODIFIED:20250321T222124Z
UID:10003577-1744462800-1744466400@flatheadcountylibrary.org
SUMMARY:Story Concerts at the Library - Kalispell
DESCRIPTION:In celebration of Library Giving Day\, Flathead Library Foundation with sponsor\, Glacier Grins Pediatric Dentistry\, will host a series of Flathead Story Concerts. At each event\, local storytellers will share their true personal experience stories through spoken word – some to make you laugh\, cry\, or just think about life differently\, and all to build community at your local library. All events are family friendly and free\, with a suggested donation of $10 to Flathead Library Foundation to support the Library’s Summer Experience program.
URL:https://flatheadcountylibrary.org/event/flathead-story-concerts-kalispell/
LOCATION:Kalispell Library\, 247 1st Ave East\, Kalispell\, MT\, 59901\, United States
CATEGORIES:Adult Program
END:VEVENT
BEGIN:VEVENT
DTSTART;TZID=America/Denver:20250416T110000
DTEND;TZID=America/Denver:20250416T150000
DTSTAMP:20260420T212206
CREATED:20250321T220916Z
LAST-MODIFIED:20250321T220916Z
UID:10003574-1744801200-1744815600@flatheadcountylibrary.org
SUMMARY:AARP Smart Driver Course
DESCRIPTION:Get up to speed with the latest driving strategies\, auto safety features\, and new state and local traffic laws in this course designed especially for drivers age 50 and older. All drivers welcome. Upon completion of the course\, you may be eligible to receive auto insurance discounts. Registration is required.  \n\n To register call: (406)758-2445 \n $20 for AARP members\, $25 for non-members \n Kalispell Meeting Room: April 16\, 11am-3pm
URL:https://flatheadcountylibrary.org/event/aarp-smart-driver-course/
LOCATION:Kalispell Library\, 247 1st Ave East\, Kalispell\, MT\, 59901\, United States
CATEGORIES:Adult Program
END:VEVENT
BEGIN:VEVENT
DTSTART;VALUE=DATE:20250421
DTEND;VALUE=DATE:20250427
DTSTAMP:20260420T212206
CREATED:20250324T201318Z
LAST-MODIFIED:20250324T201318Z
UID:10003578-1745193600-1745711999@flatheadcountylibrary.org
SUMMARY:Community Watercolor Earth Mosaic
DESCRIPTION:What’s your most favorite thing about Earth? Bring it to life with watercolors and add it to our community mosaic! Paint the ocean’s waves\, a serene lake\, majestic mountains\, your favorite animal\, or the endless sky. Let your creativity shine!
URL:https://flatheadcountylibrary.org/event/community-watercolor-earth-mosaic/
LOCATION:Columbia Falls Library\, 130 6th Street West #C\, Columbia Falls\, MT\, 59912\, United States
CATEGORIES:Adult Program
END:VEVENT
BEGIN:VEVENT
DTSTART;TZID=America/Denver:20250422T103000
DTEND;TZID=America/Denver:20250422T123000
DTSTAMP:20260420T212206
CREATED:20250327T163555Z
LAST-MODIFIED:20250724T190623Z
UID:10003612-1745317800-1745325000@flatheadcountylibrary.org
SUMMARY:Genealogy Class
DESCRIPTION:Join instructors from Kalispell’s FamilySearch Center for genealogy classes geared toward individuals and families aged 13 and older. Learn personal researching skills\, connect with family history groups\, and get expert help navigating genealogical sites. This program will repeat every 2nd & 4Th Tuesday each month.
URL:https://flatheadcountylibrary.org/event/genealogy-class/2025-04-22/
LOCATION:Bigfork Library\, 186 Bridge Street\, Bigfork\, MT\, 59911\, United States
CATEGORIES:Adult Program
END:VEVENT
END:VCALENDAR