BEGIN:VCALENDAR
VERSION:2.0
PRODID:-//Flathead County Library - ECPv6.15.20//NONSGML v1.0//EN
CALSCALE:GREGORIAN
METHOD:PUBLISH
X-ORIGINAL-URL:https://flatheadcountylibrary.org
X-WR-CALDESC:Events for Flathead County Library
REFRESH-INTERVAL;VALUE=DURATION:PT1H
X-Robots-Tag:noindex
X-PUBLISHED-TTL:PT1H
BEGIN:VTIMEZONE
TZID:America/Denver
BEGIN:DAYLIGHT
TZOFFSETFROM:-0700
TZOFFSETTO:-0600
TZNAME:MDT
DTSTART:20240310T090000
END:DAYLIGHT
BEGIN:STANDARD
TZOFFSETFROM:-0600
TZOFFSETTO:-0700
TZNAME:MST
DTSTART:20241103T080000
END:STANDARD
BEGIN:DAYLIGHT
TZOFFSETFROM:-0700
TZOFFSETTO:-0600
TZNAME:MDT
DTSTART:20250309T090000
END:DAYLIGHT
BEGIN:STANDARD
TZOFFSETFROM:-0600
TZOFFSETTO:-0700
TZNAME:MST
DTSTART:20251102T080000
END:STANDARD
BEGIN:DAYLIGHT
TZOFFSETFROM:-0700
TZOFFSETTO:-0600
TZNAME:MDT
DTSTART:20260308T090000
END:DAYLIGHT
BEGIN:STANDARD
TZOFFSETFROM:-0600
TZOFFSETTO:-0700
TZNAME:MST
DTSTART:20261101T080000
END:STANDARD
END:VTIMEZONE
BEGIN:VEVENT
DTSTART;TZID=America/Denver:20250902T103000
DTEND;TZID=America/Denver:20250902T123000
DTSTAMP:20260420T115845
CREATED:20250813T211904Z
LAST-MODIFIED:20250813T212315Z
UID:10003928-1756809000-1756816200@flatheadcountylibrary.org
SUMMARY:Genealogy Class
DESCRIPTION:Join instructors from Kalispell’s FamilySearch Center for genealogy classes geared toward individuals and families aged 13 and older. Learn personal researching skills\, connect with family history groups\, and get expert help navigating genealogical sites. This program will repeat every 1st and 3rd Tuesday in Kalispell and every 2nd and 4th Tuesday in Bigfork.
URL:https://flatheadcountylibrary.org/event/genealogy-class-5/2025-09-02/
LOCATION:Kalispell Library\, 247 1st Ave East\, Kalispell\, MT\, 59901\, United States
CATEGORIES:Adult Program
END:VEVENT
BEGIN:VEVENT
DTSTART;TZID=America/Denver:20250905T043000
DTEND;TZID=America/Denver:20250905T173000
DTSTAMP:20260420T115845
CREATED:20250813T210958Z
LAST-MODIFIED:20250820T155143Z
UID:10003915-1757046600-1757093400@flatheadcountylibrary.org
SUMMARY:Hawk Watch Presentation with Jess Garby
DESCRIPTION:Bird lovers! Join us at the Bigfork Library for a special presentation by the Flathead Audubon Society about Jewel Basin Hawk Watch\, a scientific data collection project that monitors autumn raptor migration at a site above Jewel Basin. Whether you’re a serious birder or just curious about hawks\, this Citizen Science program has something for everyone! And if you’re interested in becoming a hawk watcher\, this presentation will help you prepare for a day at Jewel Basin alongside Flathead Audubon Society surveyors. Come hang out and learn with us.
URL:https://flatheadcountylibrary.org/event/hawk-watch-presentation-with-jess-garby/
LOCATION:Bigfork Library\, 186 Bridge Street\, Bigfork\, MT\, 59911\, United States
CATEGORIES:Adult Program
END:VEVENT
BEGIN:VEVENT
DTSTART;VALUE=DATE:20250909
DTEND;VALUE=DATE:20250912
DTSTAMP:20260420T115845
CREATED:20250905T174202Z
LAST-MODIFIED:20250905T174202Z
UID:10004315-1757376000-1757635199@flatheadcountylibrary.org
SUMMARY:Bigfork Library CLOSED
DESCRIPTION:The Bigfork Library parking lot is getting paved! As a result\, the library will be closed to the public 9/9 – 9/11.  \n\n Storytime will be canceled during these dates. \n Holds will be extended during this time. \n\n We apologize for the inconvenience!
URL:https://flatheadcountylibrary.org/event/bigfork-library-closed/
LOCATION:Bigfork Library\, 186 Bridge Street\, Bigfork\, MT\, 59911\, United States
CATEGORIES:Adult Program,Kids Program,Storytime,Teen Program
END:VEVENT
BEGIN:VEVENT
DTSTART;TZID=America/Denver:20250910T110000
DTEND;TZID=America/Denver:20250910T120000
DTSTAMP:20260420T115845
CREATED:20250813T212207Z
LAST-MODIFIED:20250813T212207Z
UID:10003584-1757502000-1757505600@flatheadcountylibrary.org
SUMMARY:Community Library Tour
DESCRIPTION:You’re invited to a fun and informative tour of your public library! Get a behind the scenes look into how your tax dollars work to bring great library services to the Flathead Valley! The second Wednesday of each month at 11am at your Kalispell Public Library. Tours are approximately 45 minutes long.
URL:https://flatheadcountylibrary.org/event/community-library-tour-2-2/2025-09-10/
LOCATION:Kalispell Library\, 247 1st Ave East\, Kalispell\, MT\, 59901\, United States
CATEGORIES:Adult Program
END:VEVENT
BEGIN:VEVENT
DTSTART;TZID=America/Denver:20250916T103000
DTEND;TZID=America/Denver:20250916T123000
DTSTAMP:20260420T115845
CREATED:20250813T211904Z
LAST-MODIFIED:20250813T212315Z
UID:10003929-1758018600-1758025800@flatheadcountylibrary.org
SUMMARY:Genealogy Class
DESCRIPTION:Join instructors from Kalispell’s FamilySearch Center for genealogy classes geared toward individuals and families aged 13 and older. Learn personal researching skills\, connect with family history groups\, and get expert help navigating genealogical sites. This program will repeat every 1st and 3rd Tuesday in Kalispell and every 2nd and 4th Tuesday in Bigfork.
URL:https://flatheadcountylibrary.org/event/genealogy-class-5/2025-09-16/
LOCATION:Kalispell Library\, 247 1st Ave East\, Kalispell\, MT\, 59901\, United States
CATEGORIES:Adult Program
END:VEVENT
BEGIN:VEVENT
DTSTART;TZID=America/Denver:20250917T120000
DTEND;TZID=America/Denver:20250917T140000
DTSTAMP:20260420T115845
CREATED:20250818T210344Z
LAST-MODIFIED:20250910T203936Z
UID:10004310-1758110400-1758117600@flatheadcountylibrary.org
SUMMARY:Creative Aging with Allyson Norwood Bush
DESCRIPTION:What does Creative Aging mean to you? Join a small group of adults (ages 55+) for an inspiring art journey taught by Art Therapist Allyson Norwood Bush. This free 6-week course is designed to awaken your creativity and nourish your whole self—body\, mind\, and spirit. You’ll explore hands-on projects that encourage self-expression\, spark imagination\, and foster connection. Sign up online at bit.ly/creative-aging-1 to secure your spot. Please plan to commit to all six classes when you sign up. Wednesdays\, Sep. 10 – Oct. 15\, 12-2pm
URL:https://flatheadcountylibrary.org/event/creative-aging-with-allyson-norwood-bush/2025-09-17/
LOCATION:Bigfork Library\, 186 Bridge Street\, Bigfork\, MT\, 59911\, United States
CATEGORIES:Adult Program
END:VEVENT
BEGIN:VEVENT
DTSTART;VALUE=DATE:20250922
DTEND;VALUE=DATE:20250928
DTSTAMP:20260420T115845
CREATED:20250813T212822Z
LAST-MODIFIED:20250910T204746Z
UID:10003943-1758499200-1759017599@flatheadcountylibrary.org
SUMMARY:Tea Towel Stenciling Zone
DESCRIPTION:Design your own one-of-a-kind tea towel using bird stencils and fabric paint! Whether you’re a seasoned crafter or simply curious to try something new\, this is the perfect chance to explore your creativity.
URL:https://flatheadcountylibrary.org/event/tea-towel-stenciling-zone/
LOCATION:Columbia Falls Library\, 130 6th Street West #C\, Columbia Falls\, MT\, 59912\, United States
CATEGORIES:Adult Program
END:VEVENT
BEGIN:VEVENT
DTSTART;TZID=America/Denver:20250923T103000
DTEND;TZID=America/Denver:20250923T123000
DTSTAMP:20260420T115845
CREATED:20250813T211801Z
LAST-MODIFIED:20251011T215725Z
UID:10003921-1758623400-1758630600@flatheadcountylibrary.org
SUMMARY:Genealogy Class
DESCRIPTION:Join instructors from Kalispell’s FamilySearch Center for genealogy classes geared toward individuals and families aged 13 and older. Learn personal researching skills\, connect with family history groups\, and get expert help navigating genealogical sites. This program will repeat every 1st and 3rd Tuesday in Kalispell and every 2nd and 4th Tuesday in Bigfork.
URL:https://flatheadcountylibrary.org/event/genealogy-class-4/2025-09-23/
LOCATION:Bigfork Library\, 186 Bridge Street\, Bigfork\, MT\, 59911\, United States
CATEGORIES:Adult Program
END:VEVENT
BEGIN:VEVENT
DTSTART;TZID=America/Denver:20250923T180000
DTEND;TZID=America/Denver:20250923T193000
DTSTAMP:20260420T115845
CREATED:20250813T212951Z
LAST-MODIFIED:20250813T212951Z
UID:10003944-1758650400-1758655800@flatheadcountylibrary.org
SUMMARY:Doug Follett- Glacier’s Poet Documentary Screening
DESCRIPTION:The Columbia Falls Historical Society’s first documentary video from their oral history project is titled “Doug Follett – Glacier’s Poet.” In this new 2025 documentary video\, Doug talks about his family’s history and connection to both the Great Northern Railroad and Glacier National Park. He also reads his many poems written about the many places he loved.
URL:https://flatheadcountylibrary.org/event/doug-follett-glaciers-poet-documentary-screening/
LOCATION:Columbia Falls Library\, 130 6th Street West #C\, Columbia Falls\, MT\, 59912\, United States
CATEGORIES:Adult Program
END:VEVENT
BEGIN:VEVENT
DTSTART;TZID=America/Denver:20250924T120000
DTEND;TZID=America/Denver:20250924T140000
DTSTAMP:20260420T115845
CREATED:20250818T210344Z
LAST-MODIFIED:20250910T203936Z
UID:10004311-1758715200-1758722400@flatheadcountylibrary.org
SUMMARY:Creative Aging with Allyson Norwood Bush
DESCRIPTION:What does Creative Aging mean to you? Join a small group of adults (ages 55+) for an inspiring art journey taught by Art Therapist Allyson Norwood Bush. This free 6-week course is designed to awaken your creativity and nourish your whole self—body\, mind\, and spirit. You’ll explore hands-on projects that encourage self-expression\, spark imagination\, and foster connection. Sign up online at bit.ly/creative-aging-1 to secure your spot. Please plan to commit to all six classes when you sign up. Wednesdays\, Sep. 10 – Oct. 15\, 12-2pm
URL:https://flatheadcountylibrary.org/event/creative-aging-with-allyson-norwood-bush/2025-09-24/
LOCATION:Bigfork Library\, 186 Bridge Street\, Bigfork\, MT\, 59911\, United States
CATEGORIES:Adult Program
END:VEVENT
END:VCALENDAR