BEGIN:VCALENDAR
VERSION:2.0
PRODID:-//Flathead County Library - ECPv6.15.20//NONSGML v1.0//EN
CALSCALE:GREGORIAN
METHOD:PUBLISH
X-ORIGINAL-URL:https://flatheadcountylibrary.org
X-WR-CALDESC:Events for Flathead County Library
REFRESH-INTERVAL;VALUE=DURATION:PT1H
X-Robots-Tag:noindex
X-PUBLISHED-TTL:PT1H
BEGIN:VTIMEZONE
TZID:America/Denver
BEGIN:DAYLIGHT
TZOFFSETFROM:-0700
TZOFFSETTO:-0600
TZNAME:MDT
DTSTART:20240310T090000
END:DAYLIGHT
BEGIN:STANDARD
TZOFFSETFROM:-0600
TZOFFSETTO:-0700
TZNAME:MST
DTSTART:20241103T080000
END:STANDARD
BEGIN:DAYLIGHT
TZOFFSETFROM:-0700
TZOFFSETTO:-0600
TZNAME:MDT
DTSTART:20250309T090000
END:DAYLIGHT
BEGIN:STANDARD
TZOFFSETFROM:-0600
TZOFFSETTO:-0700
TZNAME:MST
DTSTART:20251102T080000
END:STANDARD
BEGIN:DAYLIGHT
TZOFFSETFROM:-0700
TZOFFSETTO:-0600
TZNAME:MDT
DTSTART:20260308T090000
END:DAYLIGHT
BEGIN:STANDARD
TZOFFSETFROM:-0600
TZOFFSETTO:-0700
TZNAME:MST
DTSTART:20261101T080000
END:STANDARD
END:VTIMEZONE
BEGIN:VEVENT
DTSTART;TZID=America/Denver:20251104T103000
DTEND;TZID=America/Denver:20251104T123000
DTSTAMP:20260420T091624
CREATED:20251011T220932Z
LAST-MODIFIED:20251029T212813Z
UID:10004383-1762252200-1762259400@flatheadcountylibrary.org
SUMMARY:Genealogy Class
DESCRIPTION:Join instructors from Kalispell’s FamilySearch Center for genealogy classes geared toward individuals and families aged 13 and older. Learn personal researching skills\, connect with family history groups\, and get expert help navigating genealogical sites. This program will repeat every 1st and 3rd Tuesday in Kalispell and every 2nd and 4th Tuesday in Bigfork.
URL:https://flatheadcountylibrary.org/event/genealogy-class-7/2025-11-04/
LOCATION:Kalispell Library\, 247 1st Ave East\, Kalispell\, MT\, 59901\, United States
CATEGORIES:Adult Program
END:VEVENT
BEGIN:VEVENT
DTSTART;TZID=America/Denver:20251104T120000
DTEND;TZID=America/Denver:20251104T140000
DTSTAMP:20260420T091624
CREATED:20250923T181305Z
LAST-MODIFIED:20251011T214216Z
UID:10004341-1762257600-1762264800@flatheadcountylibrary.org
SUMMARY:Creative Aging with Megan Canning: Slow Stitching Sampler Class
DESCRIPTION:Join a small group of adults (ages 55+) led by mixed-media textile artist Megan Canning for a free 5-week class series exploring a variety of embroidery stitches. Through the gentle\, meditative practice of slow stitching\, participants will discover how working with thread can open new pathways to creativity. This workshop series invites you to embrace imperfection\, explore new techniques\, and build social connections. All class supplies provided. Please plan to commit to all five classes when you sign up. Register at bit.ly/creative-aging-3   \n Bigfork Arnlund Community Room: Tuesdays Oct. 28 – Dec. 2\, 12-2pm  \n We will not have the program on Tuesday\, Nov. 11 in observance of Veterans’ Day.
URL:https://flatheadcountylibrary.org/event/creative-aging-with-megan-canning-slow-stitching-sampler-class/2025-11-04/
LOCATION:Bigfork Library\, 186 Bridge Street\, Bigfork\, MT\, 59911\, United States
CATEGORIES:Adult Program
END:VEVENT
BEGIN:VEVENT
DTSTART;TZID=America/Denver:20251106T150000
DTEND;TZID=America/Denver:20251106T170000
DTSTAMP:20260420T091624
CREATED:20250923T181905Z
LAST-MODIFIED:20251011T212709Z
UID:10004350-1762441200-1762448400@flatheadcountylibrary.org
SUMMARY:Seed Cleaning & Packing Party
DESCRIPTION:Join our friends from Land to Hand for another round of seed cleaning and seed packing parties at the library! Volunteers of all ages and abilities are welcome as we either separate and clean seeds or label and spoon seeds into envelopes. Stop by these family-friendly events and help us restock the Columbia Falls Library’s seed library and save seeds for next year’s Free the Seeds event.
URL:https://flatheadcountylibrary.org/event/seed-cleaning-packing-party-2/
LOCATION:Kalispell Library\, 247 1st Ave East\, Kalispell\, MT\, 59901\, United States
CATEGORIES:Adult Program
END:VEVENT
BEGIN:VEVENT
DTSTART;TZID=America/Denver:20251107T120000
DTEND;TZID=America/Denver:20251107T140000
DTSTAMP:20260420T091625
CREATED:20250910T203854Z
LAST-MODIFIED:20250910T204041Z
UID:10004330-1762516800-1762524000@flatheadcountylibrary.org
SUMMARY:Creative Aging with Jenna Justice
DESCRIPTION:What does Creative Aging mean to you? Join a small group of adults (ages 55+) led by Bigfork Abstract Artist Jenna Justice for a free 5-week class series where you’ll play with paint\, paper\, texture\, and more. Each week you’ll try out both traditional and non-traditional techniques—think collage\, inking\, layering\, metal leaf\, and even hot glue. The focus is on having fun\, experimenting\, and seeing what happens when you “mix it up.” No art experience? No problem! Just bring your curiosity and enjoy time creating in a relaxed\, social setting. Please plan to commit to all five classes when you sign up. Register at bit.ly/creative-aging-2  \n Kalispell Senior Center Art Room: Fridays\, Five weeks Oct. 17 – Nov. 14\, 12-2PM
URL:https://flatheadcountylibrary.org/event/creative-aging-with-jenna-justice/2025-11-07/
LOCATION:Kalispell Senior Center Art Room\, 40 11th St. W\, Kalispell\, MT\, 59901\, United States
CATEGORIES:Adult Program
END:VEVENT
BEGIN:VEVENT
DTSTART;TZID=America/Denver:20251107T163000
DTEND;TZID=America/Denver:20251107T173000
DTSTAMP:20260420T091625
CREATED:20251011T221357Z
LAST-MODIFIED:20251011T221357Z
UID:10004387-1762533000-1762536600@flatheadcountylibrary.org
SUMMARY:Audubon Christmas Bird Count Presentation
DESCRIPTION:Join us for the final presentation of our Audubon collaboration with Denny Olson\, a retired bird educator with a long history in conservation and education.  Denny will explain how the Christmas Bird Count works and why it matters for birds and bird watchers alike.
URL:https://flatheadcountylibrary.org/event/audubon-christmas-bird-count-presentation/
LOCATION:Bigfork Library\, 186 Bridge Street\, Bigfork\, MT\, 59911\, United States
CATEGORIES:Adult Program
END:VEVENT
BEGIN:VEVENT
DTSTART;TZID=America/Denver:20251112T110000
DTEND;TZID=America/Denver:20251112T120000
DTSTAMP:20260420T091625
CREATED:20250813T212207Z
LAST-MODIFIED:20250813T212207Z
UID:10003586-1762945200-1762948800@flatheadcountylibrary.org
SUMMARY:Community Library Tour
DESCRIPTION:You’re invited to a fun and informative tour of your public library! Get a behind the scenes look into how your tax dollars work to bring great library services to the Flathead Valley! The second Wednesday of each month at 11am at your Kalispell Public Library. Tours are approximately 45 minutes long.
URL:https://flatheadcountylibrary.org/event/community-library-tour-2-2/2025-11-12/
LOCATION:Kalispell Library\, 247 1st Ave East\, Kalispell\, MT\, 59901\, United States
CATEGORIES:Adult Program
END:VEVENT
BEGIN:VEVENT
DTSTART;TZID=America/Denver:20251114T120000
DTEND;TZID=America/Denver:20251114T140000
DTSTAMP:20260420T091625
CREATED:20250910T203854Z
LAST-MODIFIED:20250910T204041Z
UID:10004331-1763121600-1763128800@flatheadcountylibrary.org
SUMMARY:Creative Aging with Jenna Justice
DESCRIPTION:What does Creative Aging mean to you? Join a small group of adults (ages 55+) led by Bigfork Abstract Artist Jenna Justice for a free 5-week class series where you’ll play with paint\, paper\, texture\, and more. Each week you’ll try out both traditional and non-traditional techniques—think collage\, inking\, layering\, metal leaf\, and even hot glue. The focus is on having fun\, experimenting\, and seeing what happens when you “mix it up.” No art experience? No problem! Just bring your curiosity and enjoy time creating in a relaxed\, social setting. Please plan to commit to all five classes when you sign up. Register at bit.ly/creative-aging-2  \n Kalispell Senior Center Art Room: Fridays\, Five weeks Oct. 17 – Nov. 14\, 12-2PM
URL:https://flatheadcountylibrary.org/event/creative-aging-with-jenna-justice/2025-11-14/
LOCATION:Kalispell Senior Center Art Room\, 40 11th St. W\, Kalispell\, MT\, 59901\, United States
CATEGORIES:Adult Program
END:VEVENT
BEGIN:VEVENT
DTSTART;VALUE=DATE:20251117
DTEND;VALUE=DATE:20251123
DTSTAMP:20260420T091625
CREATED:20251011T222039Z
LAST-MODIFIED:20251011T222039Z
UID:10004388-1763337600-1763855999@flatheadcountylibrary.org
SUMMARY:Fall Bookmarks
DESCRIPTION:Create and laminate your very own fall-inspired bookmark! Perfect for cozy reading days!
URL:https://flatheadcountylibrary.org/event/fall-bookmarks/
LOCATION:Columbia Falls Library\, 130 6th Street West #C\, Columbia Falls\, MT\, 59912\, United States
CATEGORIES:Adult Program
END:VEVENT
BEGIN:VEVENT
DTSTART;TZID=America/Denver:20251118T103000
DTEND;TZID=America/Denver:20251118T123000
DTSTAMP:20260420T091625
CREATED:20251011T220932Z
LAST-MODIFIED:20251029T212813Z
UID:10004384-1763461800-1763469000@flatheadcountylibrary.org
SUMMARY:Genealogy Class
DESCRIPTION:Join instructors from Kalispell’s FamilySearch Center for genealogy classes geared toward individuals and families aged 13 and older. Learn personal researching skills\, connect with family history groups\, and get expert help navigating genealogical sites. This program will repeat every 1st and 3rd Tuesday in Kalispell and every 2nd and 4th Tuesday in Bigfork.
URL:https://flatheadcountylibrary.org/event/genealogy-class-7/2025-11-18/
LOCATION:Kalispell Library\, 247 1st Ave East\, Kalispell\, MT\, 59901\, United States
CATEGORIES:Adult Program
END:VEVENT
BEGIN:VEVENT
DTSTART;TZID=America/Denver:20251118T120000
DTEND;TZID=America/Denver:20251118T140000
DTSTAMP:20260420T091625
CREATED:20250923T181305Z
LAST-MODIFIED:20251011T214216Z
UID:10004342-1763467200-1763474400@flatheadcountylibrary.org
SUMMARY:Creative Aging with Megan Canning: Slow Stitching Sampler Class
DESCRIPTION:Join a small group of adults (ages 55+) led by mixed-media textile artist Megan Canning for a free 5-week class series exploring a variety of embroidery stitches. Through the gentle\, meditative practice of slow stitching\, participants will discover how working with thread can open new pathways to creativity. This workshop series invites you to embrace imperfection\, explore new techniques\, and build social connections. All class supplies provided. Please plan to commit to all five classes when you sign up. Register at bit.ly/creative-aging-3   \n Bigfork Arnlund Community Room: Tuesdays Oct. 28 – Dec. 2\, 12-2pm  \n We will not have the program on Tuesday\, Nov. 11 in observance of Veterans’ Day.
URL:https://flatheadcountylibrary.org/event/creative-aging-with-megan-canning-slow-stitching-sampler-class/2025-11-18/
LOCATION:Bigfork Library\, 186 Bridge Street\, Bigfork\, MT\, 59911\, United States
CATEGORIES:Adult Program
END:VEVENT
BEGIN:VEVENT
DTSTART;TZID=America/Denver:20251118T140000
DTEND;TZID=America/Denver:20251118T160000
DTSTAMP:20260420T091625
CREATED:20251011T213330Z
LAST-MODIFIED:20251011T213611Z
UID:10004373-1763474400-1763481600@flatheadcountylibrary.org
SUMMARY:Seed Cleaning & Packing Party
DESCRIPTION:Join our friends from Land to Hand for another round of seed cleaning and seed packing parties at the library! Volunteers of all ages and abilities are welcome as we either separate and clean seeds or label and spoon seeds into envelopes. Stop by these family-friendly events and help us restock the Columbia Falls Library’s seed library and save seeds for next year’s Free the Seeds event.
URL:https://flatheadcountylibrary.org/event/seed-cleaning-packing-party-4/
LOCATION:Columbia Falls Library\, 130 6th Street West #C\, Columbia Falls\, MT\, 59912\, United States
CATEGORIES:Adult Program
END:VEVENT
BEGIN:VEVENT
DTSTART;TZID=America/Denver:20251122T110000
DTEND;TZID=America/Denver:20251122T140000
DTSTAMP:20260420T091625
CREATED:20251011T222334Z
LAST-MODIFIED:20251011T222334Z
UID:10004389-1763809200-1763820000@flatheadcountylibrary.org
SUMMARY:Nature Painting Class
DESCRIPTION:Appreciate the beauty of nature through observation and painting. Join local artist and library staff\, Lauren\, in a guided nature painting lesson. The library will provide materials or you can bring your own supplies. This class is for people 16+ and is limited to 8 people. Register at: (link to be provided by Lune)
URL:https://flatheadcountylibrary.org/event/nature-painting-class-2/
LOCATION:Bigfork Library\, 186 Bridge Street\, Bigfork\, MT\, 59911\, United States
CATEGORIES:Adult Program
END:VEVENT
BEGIN:VEVENT
DTSTART;TZID=America/Denver:20251125T103000
DTEND;TZID=America/Denver:20251125T123000
DTSTAMP:20260420T091625
CREATED:20250813T211801Z
LAST-MODIFIED:20251011T215725Z
UID:10004374-1764066600-1764073800@flatheadcountylibrary.org
SUMMARY:Genealogy Class
DESCRIPTION:Join instructors from Kalispell’s FamilySearch Center for genealogy classes geared toward individuals and families aged 13 and older. Learn personal researching skills\, connect with family history groups\, and get expert help navigating genealogical sites. This program will repeat every 1st and 3rd Tuesday in Kalispell and every 2nd and 4th Tuesday in Bigfork.
URL:https://flatheadcountylibrary.org/event/genealogy-class-4/2025-11-25/
LOCATION:Bigfork Library\, 186 Bridge Street\, Bigfork\, MT\, 59911\, United States
CATEGORIES:Adult Program
END:VEVENT
BEGIN:VEVENT
DTSTART;TZID=America/Denver:20251125T120000
DTEND;TZID=America/Denver:20251125T140000
DTSTAMP:20260420T091625
CREATED:20250923T181305Z
LAST-MODIFIED:20251011T214216Z
UID:10004343-1764072000-1764079200@flatheadcountylibrary.org
SUMMARY:Creative Aging with Megan Canning: Slow Stitching Sampler Class
DESCRIPTION:Join a small group of adults (ages 55+) led by mixed-media textile artist Megan Canning for a free 5-week class series exploring a variety of embroidery stitches. Through the gentle\, meditative practice of slow stitching\, participants will discover how working with thread can open new pathways to creativity. This workshop series invites you to embrace imperfection\, explore new techniques\, and build social connections. All class supplies provided. Please plan to commit to all five classes when you sign up. Register at bit.ly/creative-aging-3   \n Bigfork Arnlund Community Room: Tuesdays Oct. 28 – Dec. 2\, 12-2pm  \n We will not have the program on Tuesday\, Nov. 11 in observance of Veterans’ Day.
URL:https://flatheadcountylibrary.org/event/creative-aging-with-megan-canning-slow-stitching-sampler-class/2025-11-25/
LOCATION:Bigfork Library\, 186 Bridge Street\, Bigfork\, MT\, 59911\, United States
CATEGORIES:Adult Program
END:VEVENT
END:VCALENDAR