BEGIN:VCALENDAR
VERSION:2.0
PRODID:-//Flathead County Library - ECPv6.15.20//NONSGML v1.0//EN
CALSCALE:GREGORIAN
METHOD:PUBLISH
X-WR-CALNAME:Flathead County Library
X-ORIGINAL-URL:https://flatheadcountylibrary.org
X-WR-CALDESC:Events for Flathead County Library
REFRESH-INTERVAL;VALUE=DURATION:PT1H
X-Robots-Tag:noindex
X-PUBLISHED-TTL:PT1H
BEGIN:VTIMEZONE
TZID:America/Denver
BEGIN:DAYLIGHT
TZOFFSETFROM:-0700
TZOFFSETTO:-0600
TZNAME:MDT
DTSTART:20240310T090000
END:DAYLIGHT
BEGIN:STANDARD
TZOFFSETFROM:-0600
TZOFFSETTO:-0700
TZNAME:MST
DTSTART:20241103T080000
END:STANDARD
BEGIN:DAYLIGHT
TZOFFSETFROM:-0700
TZOFFSETTO:-0600
TZNAME:MDT
DTSTART:20250309T090000
END:DAYLIGHT
BEGIN:STANDARD
TZOFFSETFROM:-0600
TZOFFSETTO:-0700
TZNAME:MST
DTSTART:20251102T080000
END:STANDARD
BEGIN:DAYLIGHT
TZOFFSETFROM:-0700
TZOFFSETTO:-0600
TZNAME:MDT
DTSTART:20260308T090000
END:DAYLIGHT
BEGIN:STANDARD
TZOFFSETFROM:-0600
TZOFFSETTO:-0700
TZNAME:MST
DTSTART:20261101T080000
END:STANDARD
END:VTIMEZONE
BEGIN:VEVENT
DTSTART;TZID=America/Denver:20250408T103000
DTEND;TZID=America/Denver:20250408T123000
DTSTAMP:20260420T225346
CREATED:20250327T163555Z
LAST-MODIFIED:20250724T190623Z
UID:10003611-1744108200-1744115400@flatheadcountylibrary.org
SUMMARY:Genealogy Class
DESCRIPTION:Join instructors from Kalispell’s FamilySearch Center for genealogy classes geared toward individuals and families aged 13 and older. Learn personal researching skills\, connect with family history groups\, and get expert help navigating genealogical sites. This program will repeat every 2nd & 4Th Tuesday each month.
URL:https://flatheadcountylibrary.org/event/genealogy-class/2025-04-08/
LOCATION:Bigfork Library\, 186 Bridge Street\, Bigfork\, MT\, 59911\, United States
CATEGORIES:Adult Program
END:VEVENT
BEGIN:VEVENT
DTSTART;TZID=America/Denver:20250408T180000
DTEND;TZID=America/Denver:20250408T190000
DTSTAMP:20260420T225346
CREATED:20250321T221325Z
LAST-MODIFIED:20250321T221325Z
UID:10003575-1744135200-1744138800@flatheadcountylibrary.org
SUMMARY:Story Concerts at the Library - Bigfork
DESCRIPTION:In celebration of Library Giving Day\, Flathead Library Foundation with sponsor\, Glacier Grins Pediatric Dentistry\, will host a series of Flathead Story Concerts. At each event\, local storytellers will share their true personal experience stories through spoken word – some to make you laugh\, cry\, or just think about life differently\, and all to build community at your local library. All events are family friendly and free\, with a suggested donation of $10 to Flathead Library Foundation to support the Library’s Summer Experience program.
URL:https://flatheadcountylibrary.org/event/story-concerts-at-the-library-bigfork/
LOCATION:Bigfork Library\, 186 Bridge Street\, Bigfork\, MT\, 59911\, United States
CATEGORIES:Adult Program
END:VEVENT
END:VCALENDAR