BEGIN:VCALENDAR
VERSION:2.0
PRODID:-//Flathead County Library - ECPv6.15.20//NONSGML v1.0//EN
CALSCALE:GREGORIAN
METHOD:PUBLISH
X-ORIGINAL-URL:https://flatheadcountylibrary.org
X-WR-CALDESC:Events for Flathead County Library
REFRESH-INTERVAL;VALUE=DURATION:PT1H
X-Robots-Tag:noindex
X-PUBLISHED-TTL:PT1H
BEGIN:VTIMEZONE
TZID:America/Denver
BEGIN:DAYLIGHT
TZOFFSETFROM:-0700
TZOFFSETTO:-0600
TZNAME:MDT
DTSTART:20240310T090000
END:DAYLIGHT
BEGIN:STANDARD
TZOFFSETFROM:-0600
TZOFFSETTO:-0700
TZNAME:MST
DTSTART:20241103T080000
END:STANDARD
BEGIN:DAYLIGHT
TZOFFSETFROM:-0700
TZOFFSETTO:-0600
TZNAME:MDT
DTSTART:20250309T090000
END:DAYLIGHT
BEGIN:STANDARD
TZOFFSETFROM:-0600
TZOFFSETTO:-0700
TZNAME:MST
DTSTART:20251102T080000
END:STANDARD
BEGIN:DAYLIGHT
TZOFFSETFROM:-0700
TZOFFSETTO:-0600
TZNAME:MDT
DTSTART:20260308T090000
END:DAYLIGHT
BEGIN:STANDARD
TZOFFSETFROM:-0600
TZOFFSETTO:-0700
TZNAME:MST
DTSTART:20261101T080000
END:STANDARD
END:VTIMEZONE
BEGIN:VEVENT
DTSTART;TZID=America/Denver:20251008T110000
DTEND;TZID=America/Denver:20251008T120000
DTSTAMP:20260420T115253
CREATED:20250813T212207Z
LAST-MODIFIED:20250813T212207Z
UID:10003585-1759921200-1759924800@flatheadcountylibrary.org
SUMMARY:Community Library Tour
DESCRIPTION:You’re invited to a fun and informative tour of your public library! Get a behind the scenes look into how your tax dollars work to bring great library services to the Flathead Valley! The second Wednesday of each month at 11am at your Kalispell Public Library. Tours are approximately 45 minutes long.
URL:https://flatheadcountylibrary.org/event/community-library-tour-2-2/2025-10-08/
LOCATION:Kalispell Library\, 247 1st Ave East\, Kalispell\, MT\, 59901\, United States
CATEGORIES:Adult Program
END:VEVENT
BEGIN:VEVENT
DTSTART;TZID=America/Denver:20251008T120000
DTEND;TZID=America/Denver:20251008T140000
DTSTAMP:20260420T115253
CREATED:20250818T210344Z
LAST-MODIFIED:20250910T203936Z
UID:10004313-1759924800-1759932000@flatheadcountylibrary.org
SUMMARY:Creative Aging with Allyson Norwood Bush
DESCRIPTION:What does Creative Aging mean to you? Join a small group of adults (ages 55+) for an inspiring art journey taught by Art Therapist Allyson Norwood Bush. This free 6-week course is designed to awaken your creativity and nourish your whole self—body\, mind\, and spirit. You’ll explore hands-on projects that encourage self-expression\, spark imagination\, and foster connection. Sign up online at bit.ly/creative-aging-1 to secure your spot. Please plan to commit to all six classes when you sign up. Wednesdays\, Sep. 10 – Oct. 15\, 12-2pm
URL:https://flatheadcountylibrary.org/event/creative-aging-with-allyson-norwood-bush/2025-10-08/
LOCATION:Bigfork Library\, 186 Bridge Street\, Bigfork\, MT\, 59911\, United States
CATEGORIES:Adult Program
END:VEVENT
END:VCALENDAR