BEGIN:VCALENDAR
VERSION:2.0
PRODID:-//Flathead County Library - ECPv6.15.20//NONSGML v1.0//EN
CALSCALE:GREGORIAN
METHOD:PUBLISH
X-ORIGINAL-URL:https://flatheadcountylibrary.org
X-WR-CALDESC:Events for Flathead County Library
REFRESH-INTERVAL;VALUE=DURATION:PT1H
X-Robots-Tag:noindex
X-PUBLISHED-TTL:PT1H
BEGIN:VTIMEZONE
TZID:America/Denver
BEGIN:DAYLIGHT
TZOFFSETFROM:-0700
TZOFFSETTO:-0600
TZNAME:MDT
DTSTART:20240310T090000
END:DAYLIGHT
BEGIN:STANDARD
TZOFFSETFROM:-0600
TZOFFSETTO:-0700
TZNAME:MST
DTSTART:20241103T080000
END:STANDARD
BEGIN:DAYLIGHT
TZOFFSETFROM:-0700
TZOFFSETTO:-0600
TZNAME:MDT
DTSTART:20250309T090000
END:DAYLIGHT
BEGIN:STANDARD
TZOFFSETFROM:-0600
TZOFFSETTO:-0700
TZNAME:MST
DTSTART:20251102T080000
END:STANDARD
BEGIN:DAYLIGHT
TZOFFSETFROM:-0700
TZOFFSETTO:-0600
TZNAME:MDT
DTSTART:20260308T090000
END:DAYLIGHT
BEGIN:STANDARD
TZOFFSETFROM:-0600
TZOFFSETTO:-0700
TZNAME:MST
DTSTART:20261101T080000
END:STANDARD
END:VTIMEZONE
BEGIN:VEVENT
DTSTART;TZID=America/Denver:20251015T120000
DTEND;TZID=America/Denver:20251015T140000
DTSTAMP:20260420T120050
CREATED:20250818T210344Z
LAST-MODIFIED:20250910T203936Z
UID:10004314-1760529600-1760536800@flatheadcountylibrary.org
SUMMARY:Creative Aging with Allyson Norwood Bush
DESCRIPTION:What does Creative Aging mean to you? Join a small group of adults (ages 55+) for an inspiring art journey taught by Art Therapist Allyson Norwood Bush. This free 6-week course is designed to awaken your creativity and nourish your whole self—body\, mind\, and spirit. You’ll explore hands-on projects that encourage self-expression\, spark imagination\, and foster connection. Sign up online at bit.ly/creative-aging-1 to secure your spot. Please plan to commit to all six classes when you sign up. Wednesdays\, Sep. 10 – Oct. 15\, 12-2pm
URL:https://flatheadcountylibrary.org/event/creative-aging-with-allyson-norwood-bush/2025-10-15/
LOCATION:Bigfork Library\, 186 Bridge Street\, Bigfork\, MT\, 59911\, United States
CATEGORIES:Adult Program
END:VEVENT
BEGIN:VEVENT
DTSTART;TZID=America/Denver:20251015T183000
DTEND;TZID=America/Denver:20251015T193000
DTSTAMP:20260420T120050
CREATED:20251015T234154Z
LAST-MODIFIED:20251015T234154Z
UID:10004338-1760553000-1760556600@flatheadcountylibrary.org
SUMMARY:Baroque Music Concert
DESCRIPTION:Experience tunes & tales performed on period instruments in a light-hearted program with the duo of Sonata Tramontana as they present “Earworms (and Maggots) Galore”. Carrie Krause\, baroque violin & John Lenti\, lute and baroque guitar\, share greatest hits from 17th century England from fiddle tunes to courtly sonatas. Exhibition of their touring concert program will take place at the Bigfork Library\, with a more contemplative program with instrument demonstration at the Kalispell Library the following day. Join Carrie and John at the Library for a truly unique musical adventure!  \n\n After-hours at the Bigfork Library: Oct. 15\, 6:30-7:30pm  \n Midmorning on the Second Floor of the Kalispell Library: Oct. 16\, 11 am
URL:https://flatheadcountylibrary.org/event/baroque-music-concert-2/
LOCATION:Bigfork Library\, 186 Bridge Street\, Bigfork\, MT\, 59911\, United States
CATEGORIES:Adult Program
END:VEVENT
END:VCALENDAR