BEGIN:VCALENDAR
VERSION:2.0
PRODID:-//Flathead County Library - ECPv6.15.20//NONSGML v1.0//EN
CALSCALE:GREGORIAN
METHOD:PUBLISH
X-ORIGINAL-URL:https://flatheadcountylibrary.org
X-WR-CALDESC:Events for Flathead County Library
REFRESH-INTERVAL;VALUE=DURATION:PT1H
X-Robots-Tag:noindex
X-PUBLISHED-TTL:PT1H
BEGIN:VTIMEZONE
TZID:America/Denver
BEGIN:DAYLIGHT
TZOFFSETFROM:-0700
TZOFFSETTO:-0600
TZNAME:MDT
DTSTART:20240310T090000
END:DAYLIGHT
BEGIN:STANDARD
TZOFFSETFROM:-0600
TZOFFSETTO:-0700
TZNAME:MST
DTSTART:20241103T080000
END:STANDARD
BEGIN:DAYLIGHT
TZOFFSETFROM:-0700
TZOFFSETTO:-0600
TZNAME:MDT
DTSTART:20250309T090000
END:DAYLIGHT
BEGIN:STANDARD
TZOFFSETFROM:-0600
TZOFFSETTO:-0700
TZNAME:MST
DTSTART:20251102T080000
END:STANDARD
BEGIN:DAYLIGHT
TZOFFSETFROM:-0700
TZOFFSETTO:-0600
TZNAME:MDT
DTSTART:20260308T090000
END:DAYLIGHT
BEGIN:STANDARD
TZOFFSETFROM:-0600
TZOFFSETTO:-0700
TZNAME:MST
DTSTART:20261101T080000
END:STANDARD
END:VTIMEZONE
BEGIN:VEVENT
DTSTART;TZID=America/Denver:20251125T103000
DTEND;TZID=America/Denver:20251125T123000
DTSTAMP:20260420T104153
CREATED:20250813T211801Z
LAST-MODIFIED:20251011T215725Z
UID:10004374-1764066600-1764073800@flatheadcountylibrary.org
SUMMARY:Genealogy Class
DESCRIPTION:Join instructors from Kalispell’s FamilySearch Center for genealogy classes geared toward individuals and families aged 13 and older. Learn personal researching skills\, connect with family history groups\, and get expert help navigating genealogical sites. This program will repeat every 1st and 3rd Tuesday in Kalispell and every 2nd and 4th Tuesday in Bigfork.
URL:https://flatheadcountylibrary.org/event/genealogy-class-4/2025-11-25/
LOCATION:Bigfork Library\, 186 Bridge Street\, Bigfork\, MT\, 59911\, United States
CATEGORIES:Adult Program
END:VEVENT
BEGIN:VEVENT
DTSTART;TZID=America/Denver:20251125T120000
DTEND;TZID=America/Denver:20251125T140000
DTSTAMP:20260420T104153
CREATED:20250923T181305Z
LAST-MODIFIED:20251011T214216Z
UID:10004343-1764072000-1764079200@flatheadcountylibrary.org
SUMMARY:Creative Aging with Megan Canning: Slow Stitching Sampler Class
DESCRIPTION:Join a small group of adults (ages 55+) led by mixed-media textile artist Megan Canning for a free 5-week class series exploring a variety of embroidery stitches. Through the gentle\, meditative practice of slow stitching\, participants will discover how working with thread can open new pathways to creativity. This workshop series invites you to embrace imperfection\, explore new techniques\, and build social connections. All class supplies provided. Please plan to commit to all five classes when you sign up. Register at bit.ly/creative-aging-3   \n Bigfork Arnlund Community Room: Tuesdays Oct. 28 – Dec. 2\, 12-2pm  \n We will not have the program on Tuesday\, Nov. 11 in observance of Veterans’ Day.
URL:https://flatheadcountylibrary.org/event/creative-aging-with-megan-canning-slow-stitching-sampler-class/2025-11-25/
LOCATION:Bigfork Library\, 186 Bridge Street\, Bigfork\, MT\, 59911\, United States
CATEGORIES:Adult Program
END:VEVENT
END:VCALENDAR