BEGIN:VCALENDAR
VERSION:2.0
PRODID:-//Flathead County Library - ECPv6.15.20//NONSGML v1.0//EN
CALSCALE:GREGORIAN
METHOD:PUBLISH
X-ORIGINAL-URL:https://flatheadcountylibrary.org
X-WR-CALDESC:Events for Flathead County Library
REFRESH-INTERVAL;VALUE=DURATION:PT1H
X-Robots-Tag:noindex
X-PUBLISHED-TTL:PT1H
BEGIN:VTIMEZONE
TZID:America/Denver
BEGIN:DAYLIGHT
TZOFFSETFROM:-0700
TZOFFSETTO:-0600
TZNAME:MDT
DTSTART:20250309T090000
END:DAYLIGHT
BEGIN:STANDARD
TZOFFSETFROM:-0600
TZOFFSETTO:-0700
TZNAME:MST
DTSTART:20251102T080000
END:STANDARD
BEGIN:DAYLIGHT
TZOFFSETFROM:-0700
TZOFFSETTO:-0600
TZNAME:MDT
DTSTART:20260308T090000
END:DAYLIGHT
BEGIN:STANDARD
TZOFFSETFROM:-0600
TZOFFSETTO:-0700
TZNAME:MST
DTSTART:20261101T080000
END:STANDARD
BEGIN:DAYLIGHT
TZOFFSETFROM:-0700
TZOFFSETTO:-0600
TZNAME:MDT
DTSTART:20270314T090000
END:DAYLIGHT
BEGIN:STANDARD
TZOFFSETFROM:-0600
TZOFFSETTO:-0700
TZNAME:MST
DTSTART:20271107T080000
END:STANDARD
END:VTIMEZONE
BEGIN:VEVENT
DTSTART;TZID=America/Denver:20260127T140000
DTEND;TZID=America/Denver:20260127T160000
DTSTAMP:20260420T131511
CREATED:20250923T181813Z
LAST-MODIFIED:20250923T181813Z
UID:10004349-1769522400-1769529600@flatheadcountylibrary.org
SUMMARY:Seed Cleaning & Packing Party
DESCRIPTION:Join our friends from Land to Hand for another round of seed cleaning and seed packing parties at the library! Volunteers of all ages and abilities are welcome to join us as we either separate and clean seeds\, or label and spoon seeds into envelopes. Stop by these family friendly events and help us restock the Columbia Falls Library’s seed library\, and save seeds for next year’s Free the Seeds event.
URL:https://flatheadcountylibrary.org/event/seed-cleaning-packing-party/2026-01-27/
LOCATION:Columbia Falls Library\, 130 6th Street West #C\, Columbia Falls\, MT\, 59912\, United States
CATEGORIES:Adult Program
END:VEVENT
BEGIN:VEVENT
DTSTART;TZID=America/Denver:20260203T103000
DTEND;TZID=America/Denver:20260203T123000
DTSTAMP:20260420T131511
CREATED:20251204T212438Z
LAST-MODIFIED:20251204T212438Z
UID:10004631-1770114600-1770121800@flatheadcountylibrary.org
SUMMARY:Genealogy Class
DESCRIPTION:Join instructors from Kalispell’s FamilySearch Center for genealogy classes geared toward individuals and families aged 13 and older. Learn personal researching skills\, connect with family history groups\, and get expert help navigating genealogical sites. This program will repeat every 1st and 3rd Tuesday in Kalispell.
URL:https://flatheadcountylibrary.org/event/genealogy-class-6/2026-02-03/
LOCATION:Kalispell Library\, 247 1st Ave East\, Kalispell\, MT\, 59901\, United States
CATEGORIES:Adult Program
END:VEVENT
BEGIN:VEVENT
DTSTART;VALUE=DATE:20260216
DTEND;VALUE=DATE:20260217
DTSTAMP:20260420T131511
CREATED:20260115T221636Z
LAST-MODIFIED:20260115T222101Z
UID:10005355-1771200000-1771286399@flatheadcountylibrary.org
SUMMARY:Mix Your Own Steak Rub Zone
DESCRIPTION:Come fill a jar with a vibrant blend of spices and craft your very own steak rub! Create a savory mix that turns any cut of meat into a delicious masterpiece!
URL:https://flatheadcountylibrary.org/event/mix-your-own-steak-rub-zone/2026-02-16/
LOCATION:Columbia Falls Library\, 130 6th Street West #C\, Columbia Falls\, MT\, 59912\, United States
CATEGORIES:Adult Program
END:VEVENT
BEGIN:VEVENT
DTSTART;VALUE=DATE:20260217
DTEND;VALUE=DATE:20260218
DTSTAMP:20260420T131511
CREATED:20260115T221636Z
LAST-MODIFIED:20260115T222101Z
UID:10005356-1771286400-1771372799@flatheadcountylibrary.org
SUMMARY:Mix Your Own Steak Rub Zone
DESCRIPTION:Come fill a jar with a vibrant blend of spices and craft your very own steak rub! Create a savory mix that turns any cut of meat into a delicious masterpiece!
URL:https://flatheadcountylibrary.org/event/mix-your-own-steak-rub-zone/2026-02-17/
LOCATION:Columbia Falls Library\, 130 6th Street West #C\, Columbia Falls\, MT\, 59912\, United States
CATEGORIES:Adult Program
END:VEVENT
BEGIN:VEVENT
DTSTART;TZID=America/Denver:20260217T103000
DTEND;TZID=America/Denver:20260217T123000
DTSTAMP:20260420T131511
CREATED:20251204T212438Z
LAST-MODIFIED:20251204T212438Z
UID:10004632-1771324200-1771331400@flatheadcountylibrary.org
SUMMARY:Genealogy Class
DESCRIPTION:Join instructors from Kalispell’s FamilySearch Center for genealogy classes geared toward individuals and families aged 13 and older. Learn personal researching skills\, connect with family history groups\, and get expert help navigating genealogical sites. This program will repeat every 1st and 3rd Tuesday in Kalispell.
URL:https://flatheadcountylibrary.org/event/genealogy-class-6/2026-02-17/
LOCATION:Kalispell Library\, 247 1st Ave East\, Kalispell\, MT\, 59901\, United States
CATEGORIES:Adult Program
END:VEVENT
BEGIN:VEVENT
DTSTART;VALUE=DATE:20260218
DTEND;VALUE=DATE:20260219
DTSTAMP:20260420T131511
CREATED:20260115T221636Z
LAST-MODIFIED:20260115T222101Z
UID:10005357-1771372800-1771459199@flatheadcountylibrary.org
SUMMARY:Mix Your Own Steak Rub Zone
DESCRIPTION:Come fill a jar with a vibrant blend of spices and craft your very own steak rub! Create a savory mix that turns any cut of meat into a delicious masterpiece!
URL:https://flatheadcountylibrary.org/event/mix-your-own-steak-rub-zone/2026-02-18/
LOCATION:Columbia Falls Library\, 130 6th Street West #C\, Columbia Falls\, MT\, 59912\, United States
CATEGORIES:Adult Program
END:VEVENT
BEGIN:VEVENT
DTSTART;VALUE=DATE:20260219
DTEND;VALUE=DATE:20260220
DTSTAMP:20260420T131511
CREATED:20260115T221636Z
LAST-MODIFIED:20260115T222101Z
UID:10005358-1771459200-1771545599@flatheadcountylibrary.org
SUMMARY:Mix Your Own Steak Rub Zone
DESCRIPTION:Come fill a jar with a vibrant blend of spices and craft your very own steak rub! Create a savory mix that turns any cut of meat into a delicious masterpiece!
URL:https://flatheadcountylibrary.org/event/mix-your-own-steak-rub-zone/2026-02-19/
LOCATION:Columbia Falls Library\, 130 6th Street West #C\, Columbia Falls\, MT\, 59912\, United States
CATEGORIES:Adult Program
END:VEVENT
BEGIN:VEVENT
DTSTART;VALUE=DATE:20260220
DTEND;VALUE=DATE:20260221
DTSTAMP:20260420T131511
CREATED:20260115T221636Z
LAST-MODIFIED:20260115T222101Z
UID:10005359-1771545600-1771631999@flatheadcountylibrary.org
SUMMARY:Mix Your Own Steak Rub Zone
DESCRIPTION:Come fill a jar with a vibrant blend of spices and craft your very own steak rub! Create a savory mix that turns any cut of meat into a delicious masterpiece!
URL:https://flatheadcountylibrary.org/event/mix-your-own-steak-rub-zone/2026-02-20/
LOCATION:Columbia Falls Library\, 130 6th Street West #C\, Columbia Falls\, MT\, 59912\, United States
CATEGORIES:Adult Program
END:VEVENT
BEGIN:VEVENT
DTSTART;TZID=America/Denver:20260220T160000
DTEND;TZID=America/Denver:20260220T180000
DTSTAMP:20260420T131511
CREATED:20260129T234230Z
LAST-MODIFIED:20260129T234230Z
UID:10005916-1771603200-1771610400@flatheadcountylibrary.org
SUMMARY:Glacier National Park Today: Mushrooms
DESCRIPTION:This season\, Flathead County Library and Glacier Institute are partnering to bring you a special lecture series focused on Glacier National Park. Join us for the second talk in the series—Mushrooms. Explore the mushrooms of Glacier National Park and deepen your knowledge of Montana’s mycelium networks in and out of the park\, with a quick look at local species\, their biology\, and how to identify them.
URL:https://flatheadcountylibrary.org/event/glacier-national-park-today-mushrooms/
LOCATION:Bigfork Library\, 186 Bridge Street\, Bigfork\, MT\, 59911\, United States
CATEGORIES:Adult Program
END:VEVENT
BEGIN:VEVENT
DTSTART;VALUE=DATE:20260221
DTEND;VALUE=DATE:20260222
DTSTAMP:20260420T131511
CREATED:20260115T221636Z
LAST-MODIFIED:20260115T222101Z
UID:10005360-1771632000-1771718399@flatheadcountylibrary.org
SUMMARY:Mix Your Own Steak Rub Zone
DESCRIPTION:Come fill a jar with a vibrant blend of spices and craft your very own steak rub! Create a savory mix that turns any cut of meat into a delicious masterpiece!
URL:https://flatheadcountylibrary.org/event/mix-your-own-steak-rub-zone/2026-02-21/
LOCATION:Columbia Falls Library\, 130 6th Street West #C\, Columbia Falls\, MT\, 59912\, United States
CATEGORIES:Adult Program
END:VEVENT
BEGIN:VEVENT
DTSTART;TZID=America/Denver:20260223T180000
DTEND;TZID=America/Denver:20260223T200000
DTSTAMP:20260420T131511
CREATED:20260115T215625Z
LAST-MODIFIED:20260115T215916Z
UID:10005318-1771869600-1771876800@flatheadcountylibrary.org
SUMMARY:One Book Montana Reception
DESCRIPTION:Everyone participating in the One Book Montana Statewide Read is invited to join us for a special gathering with author Chris La Tray. Engage in thoughtful conversation about the book\, Becoming Little Shell: A Landless Indian’s Journey Home\, deepen your understanding of Montana’s Indigenous cultures\, and enjoy samples of traditional Native foods.
URL:https://flatheadcountylibrary.org/event/one-book-montana-reception/
LOCATION:FVCC Library\, 725 Grandview Drive\, Kalispell\, MT\, 59901
CATEGORIES:Adult Program
END:VEVENT
BEGIN:VEVENT
DTSTART;VALUE=DATE:20260302
DTEND;VALUE=DATE:20260308
DTSTAMP:20260420T131511
CREATED:20260207T155855Z
LAST-MODIFIED:20260225T215844Z
UID:10005917-1772409600-1772927999@flatheadcountylibrary.org
SUMMARY:Tiny Teacup Flower Garden Zone
DESCRIPTION:Come create your very own tiny teacup flower garden! We’ll have soil\, paper teacups\, and flower seeds.  All open hours: Monday thru Friday\, 10am – 6pm and Saturday\, 10am – 2pm
URL:https://flatheadcountylibrary.org/event/tiny-teacup-flower-garden-zone/
LOCATION:Columbia Falls Library\, 130 6th Street West #C\, Columbia Falls\, MT\, 59912\, United States
CATEGORIES:Adult Program
END:VEVENT
BEGIN:VEVENT
DTSTART;TZID=America/Denver:20260303T103000
DTEND;TZID=America/Denver:20260303T123000
DTSTAMP:20260420T131511
CREATED:20251204T212438Z
LAST-MODIFIED:20251204T212438Z
UID:10004633-1772533800-1772541000@flatheadcountylibrary.org
SUMMARY:Genealogy Class
DESCRIPTION:Join instructors from Kalispell’s FamilySearch Center for genealogy classes geared toward individuals and families aged 13 and older. Learn personal researching skills\, connect with family history groups\, and get expert help navigating genealogical sites. This program will repeat every 1st and 3rd Tuesday in Kalispell.
URL:https://flatheadcountylibrary.org/event/genealogy-class-6/2026-03-03/
LOCATION:Kalispell Library\, 247 1st Ave East\, Kalispell\, MT\, 59901\, United States
CATEGORIES:Adult Program
END:VEVENT
BEGIN:VEVENT
DTSTART;TZID=America/Denver:20260313T160000
DTEND;TZID=America/Denver:20260313T180000
DTSTAMP:20260420T131511
CREATED:20260207T160229Z
LAST-MODIFIED:20260207T160229Z
UID:10005923-1773417600-1773424800@flatheadcountylibrary.org
SUMMARY:Glacier National Park Today: Foraging
DESCRIPTION:This quarter\, Flathead County Library and The Glacier Institute are partnering to present a special lecture series exploring Glacier National Park.  Join us for the final program in the series\, Foraging. \nDiscover the edible plants of Glacier National Park and learn about their traditional uses as well as their historical and cultural significance to the Blackfeet\, Salish\, and Kootenai tribes.
URL:https://flatheadcountylibrary.org/event/glacier-national-park-today-foraging/
LOCATION:Bigfork Library\, 186 Bridge Street\, Bigfork\, MT\, 59911\, United States
CATEGORIES:Adult Program
END:VEVENT
BEGIN:VEVENT
DTSTART;TZID=America/Denver:20260317T103000
DTEND;TZID=America/Denver:20260317T123000
DTSTAMP:20260420T131511
CREATED:20251204T212438Z
LAST-MODIFIED:20251204T212438Z
UID:10004634-1773743400-1773750600@flatheadcountylibrary.org
SUMMARY:Genealogy Class
DESCRIPTION:Join instructors from Kalispell’s FamilySearch Center for genealogy classes geared toward individuals and families aged 13 and older. Learn personal researching skills\, connect with family history groups\, and get expert help navigating genealogical sites. This program will repeat every 1st and 3rd Tuesday in Kalispell.
URL:https://flatheadcountylibrary.org/event/genealogy-class-6/2026-03-17/
LOCATION:Kalispell Library\, 247 1st Ave East\, Kalispell\, MT\, 59901\, United States
CATEGORIES:Adult Program
END:VEVENT
BEGIN:VEVENT
DTSTART;TZID=America/Denver:20260327T160000
DTEND;TZID=America/Denver:20260327T180000
DTSTAMP:20260420T131511
CREATED:20260207T160444Z
LAST-MODIFIED:20260207T160444Z
UID:10005924-1774627200-1774634400@flatheadcountylibrary.org
SUMMARY:Native Plants for Pollinators and Birds with Kathy Ross
DESCRIPTION:Discover how native plants can transform your garden into a thriving habitat for birds and pollinators in this program led by longtime Flathead Valley landscaper and gardener Kathy Ross. With 37 years of experience working in and around native ecosystems\, Kathy brings practical knowledge about creating healthy landscapes while minimizing the use of harmful chemicals. All are welcome—gardeners\, bird lovers\, and curious nature enthusiasts alike!
URL:https://flatheadcountylibrary.org/event/native-plants-for-pollinators-and-birds-with-kathy-ross/
LOCATION:Bigfork Library\, 186 Bridge Street\, Bigfork\, MT\, 59911\, United States
CATEGORIES:Adult Program
END:VEVENT
BEGIN:VEVENT
DTSTART;TZID=America/Denver:20260404T134500
DTEND;TZID=America/Denver:20260404T150000
DTSTAMP:20260420T131511
CREATED:20260312T212422Z
LAST-MODIFIED:20260312T212422Z
UID:10006349-1775310300-1775314800@flatheadcountylibrary.org
SUMMARY:Hike-oo: A Guided Poetry Hike with Flathead Lake State Park
DESCRIPTION:Join us for Hike-oo\, a National Poetry Month collaboration between Flathead County Library and Flathead Lake State Park. This guided nature hike invites you to slow down\, notice beauty\, and moments of awe\, and perhaps be inspired to write a haiku! Meet at the Laura Long Patio behind the library for a short introduction. We will walk together to Wayfarers Unit of Flathead Lake State Park to hike the Harry Horn Loop. \nRegister at:  https://forms.office.com/g/9mzMVPT20c\n Meet at Laura Long Patio\, Bigfork Library
URL:https://flatheadcountylibrary.org/event/hike-oo-a-guided-poetry-hike-with-flathead-lake-state-park/
LOCATION:Bigfork Library\, 186 Bridge Street\, Bigfork\, MT\, 59911\, United States
CATEGORIES:Adult Program
END:VEVENT
BEGIN:VEVENT
DTSTART;VALUE=DATE:20260406
DTEND;VALUE=DATE:20260412
DTSTAMP:20260420T131511
CREATED:20260312T212202Z
LAST-MODIFIED:20260312T212202Z
UID:10006346-1775433600-1775951999@flatheadcountylibrary.org
SUMMARY:Fidget Spinner Zone!
DESCRIPTION:Unleash your inner kid by crafting your very own colorful fidget spinner.
URL:https://flatheadcountylibrary.org/event/fidget-spinner-zone/
LOCATION:Columbia Falls Library\, 130 6th Street West #C\, Columbia Falls\, MT\, 59912\, United States
CATEGORIES:Adult Program
END:VEVENT
BEGIN:VEVENT
DTSTART;TZID=America/Denver:20260407T103000
DTEND;TZID=America/Denver:20260407T123000
DTSTAMP:20260420T131511
CREATED:20260221T231636Z
LAST-MODIFIED:20260221T231636Z
UID:10006281-1775557800-1775565000@flatheadcountylibrary.org
SUMMARY:Genealogy Class - Kalispell
DESCRIPTION:Join instructors from Kalispell’s FamilySearch Center for genealogy classes geared toward individuals and families aged 13 and older. Learn personal researching skills\, connect with family history groups\, and get expert help navigating genealogical sites. This program will repeat every 1st and 3rd Tuesday in Kalispell and 2nd and 4th Tuesday in Bigfork.
URL:https://flatheadcountylibrary.org/event/genealogy-class-kalispell/2026-04-07/
LOCATION:Kalispell Library\, 247 1st Ave East\, Kalispell\, MT\, 59901\, United States
CATEGORIES:Adult Program
END:VEVENT
BEGIN:VEVENT
DTSTART;TZID=America/Denver:20260409T110000
DTEND;TZID=America/Denver:20260409T150000
DTSTAMP:20260420T131511
CREATED:20260312T212102Z
LAST-MODIFIED:20260312T212102Z
UID:10006347-1775732400-1775746800@flatheadcountylibrary.org
SUMMARY:AARP Smart Driver Course
DESCRIPTION:Get up to speed with the latest driving strategies\, auto safety features\, and new state and local traffic laws in this course designed especially for drivers age 50 and older. All drivers welcome. Upon completion of the course\, you may be eligible to receive auto insurance discounts. Registration is required.   \nTo register call: (406)758-2445 \n                $20 for AARP members\, $25 for non-members
URL:https://flatheadcountylibrary.org/event/aarp-smart-driver-course-4/
LOCATION:Kalispell Library\, 247 1st Ave East\, Kalispell\, MT\, 59901\, United States
CATEGORIES:Adult Program
END:VEVENT
BEGIN:VEVENT
DTSTART;TZID=America/Denver:20260410T113000
DTEND;TZID=America/Denver:20260410T140000
DTSTAMP:20260420T131511
CREATED:20260312T211915Z
LAST-MODIFIED:20260312T211915Z
UID:10006350-1775820600-1775829600@flatheadcountylibrary.org
SUMMARY:Mobile Memory Café with Montana State University
DESCRIPTION:Raising awareness and providing essential resources for families\, caregivers\, and adults experiencing memory loss and dementia.
URL:https://flatheadcountylibrary.org/event/mobile-memory-cafe-with-montana-state-university/
LOCATION:Columbia Falls Library\, 130 6th Street West #C\, Columbia Falls\, MT\, 59912\, United States
CATEGORIES:Adult Program
END:VEVENT
BEGIN:VEVENT
DTSTART;TZID=America/Denver:20260414T103000
DTEND;TZID=America/Denver:20260414T123000
DTSTAMP:20260420T131511
CREATED:20260221T232527Z
LAST-MODIFIED:20260221T232527Z
UID:10006294-1776162600-1776169800@flatheadcountylibrary.org
SUMMARY:Genealogy Class - Bigfork
DESCRIPTION:Join instructors from Kalispell’s FamilySearch Center for genealogy classes geared toward individuals and families aged 13 and older. Learn personal researching skills\, connect with family history groups\, and get expert help navigating genealogical sites. This program will repeat every 2nd and 4th Tuesday in Bigfork and every 1st and 3rd Tuesday in Kalispell.
URL:https://flatheadcountylibrary.org/event/genealogy-class-bigfork/2026-04-14/
LOCATION:Bigfork Library\, 186 Bridge Street\, Bigfork\, MT\, 59911\, United States
CATEGORIES:Adult Program
END:VEVENT
BEGIN:VEVENT
DTSTART;TZID=America/Denver:20260417T160000
DTEND;TZID=America/Denver:20260417T180000
DTSTAMP:20260420T131511
CREATED:20260312T211611Z
LAST-MODIFIED:20260312T211611Z
UID:10006353-1776441600-1776448800@flatheadcountylibrary.org
SUMMARY:Monarch Butterflies in Montana
DESCRIPTION:Kathy Ross\, a longtime advocate for native plant habitat\, will share her 2024 experience with wild monarch butterfly breeding\, from the larval stage to adult butterflies\, in Kalispell garden where she had planted native Milkweed. Share the amazing\, complex life cycle of a Monarch and find out how to support them in a safe and healthy way in the Flathead Valley.
URL:https://flatheadcountylibrary.org/event/monarch-butterflies-in-montana/
LOCATION:Bigfork Library\, 186 Bridge Street\, Bigfork\, MT\, 59911\, United States
CATEGORIES:Adult Program
END:VEVENT
BEGIN:VEVENT
DTSTART;TZID=America/Denver:20260421T103000
DTEND;TZID=America/Denver:20260421T123000
DTSTAMP:20260420T131511
CREATED:20260221T231636Z
LAST-MODIFIED:20260221T231636Z
UID:10006282-1776767400-1776774600@flatheadcountylibrary.org
SUMMARY:Genealogy Class - Kalispell
DESCRIPTION:Join instructors from Kalispell’s FamilySearch Center for genealogy classes geared toward individuals and families aged 13 and older. Learn personal researching skills\, connect with family history groups\, and get expert help navigating genealogical sites. This program will repeat every 1st and 3rd Tuesday in Kalispell and 2nd and 4th Tuesday in Bigfork.
URL:https://flatheadcountylibrary.org/event/genealogy-class-kalispell/2026-04-21/
LOCATION:Kalispell Library\, 247 1st Ave East\, Kalispell\, MT\, 59901\, United States
CATEGORIES:Adult Program
END:VEVENT
BEGIN:VEVENT
DTSTART;TZID=America/Denver:20260422T174500
DTEND;TZID=America/Denver:20260422T193000
DTSTAMP:20260420T131511
CREATED:20260312T211428Z
LAST-MODIFIED:20260312T211428Z
UID:10006352-1776879900-1776886200@flatheadcountylibrary.org
SUMMARY:Can I Eat This? A Guided Hike with Flathead Lake State Park
DESCRIPTION:The world around us is full of amazing edible flowers and shrubs.  Join a Flathead Lake State Park Ranger on a one-mile guided hike to answer the simple question: Can I eat this?  We will discuss edible species and safe foraging practices. We will begin at the Laura Long Patio behind the library for a short introduction\, and walk together to Wayfarers Unit of Flathead Lake State Park to hike the Harry Horn Loop. Note: This program is informational only and not intended for survival use.\nRegister at: https://forms.office.com/g/DGCgNnqX9T
URL:https://flatheadcountylibrary.org/event/can-i-eat-this-a-guided-hike-with-flathead-lake-state-park/
LOCATION:Bigfork Library\, 186 Bridge Street\, Bigfork\, MT\, 59911\, United States
CATEGORIES:Adult Program
END:VEVENT
BEGIN:VEVENT
DTSTART;TZID=America/Denver:20260423T173000
DTEND;TZID=America/Denver:20260423T203000
DTSTAMP:20260420T131511
CREATED:20260312T213007Z
LAST-MODIFIED:20260312T213007Z
UID:10006354-1776965400-1776976200@flatheadcountylibrary.org
SUMMARY:LOUD at the Library
DESCRIPTION:Loud at The Library is back! In celebration of Library Giving Week from April 19 – April 25\, 2026\, the Flathead Library Foundation is bringing back the famous celebration: LOUD AT THE LIBRARY on April 23 from 5:30-8:30pm at Flathead County Library in Kalispell. Come party for a great cause! All proceeds benefit Flathead County Library programming\, materials and facility needs. You’ll dance to music by Hotdäyum\, enjoy delicious snacks\, beer\, wine and silent auction. Bring your family and friends and come make some noise for our fabulous libraries! \n  Adult tickets are $50 \nTickets can be purchased at: eventbrite.com/e/loud-at-the-library-tickets-1983735786137
URL:https://flatheadcountylibrary.org/event/loud-at-the-library/
LOCATION:Kalispell Library\, 247 1st Ave East\, Kalispell\, MT\, 59901\, United States
CATEGORIES:Adult Program
END:VEVENT
BEGIN:VEVENT
DTSTART;TZID=America/Denver:20260428T103000
DTEND;TZID=America/Denver:20260428T123000
DTSTAMP:20260420T131511
CREATED:20260221T232527Z
LAST-MODIFIED:20260221T232527Z
UID:10006295-1777372200-1777379400@flatheadcountylibrary.org
SUMMARY:Genealogy Class - Bigfork
DESCRIPTION:Join instructors from Kalispell’s FamilySearch Center for genealogy classes geared toward individuals and families aged 13 and older. Learn personal researching skills\, connect with family history groups\, and get expert help navigating genealogical sites. This program will repeat every 2nd and 4th Tuesday in Bigfork and every 1st and 3rd Tuesday in Kalispell.
URL:https://flatheadcountylibrary.org/event/genealogy-class-bigfork/2026-04-28/
LOCATION:Bigfork Library\, 186 Bridge Street\, Bigfork\, MT\, 59911\, United States
CATEGORIES:Adult Program
END:VEVENT
BEGIN:VEVENT
DTSTART;VALUE=DATE:20260504
DTEND;VALUE=DATE:20260510
DTSTAMP:20260420T131511
CREATED:20260411T190054Z
LAST-MODIFIED:20260411T190054Z
UID:10006388-1777852800-1778371199@flatheadcountylibrary.org
SUMMARY:May Flower Bookmarks Zone
DESCRIPTION:Create your very own unique dried flower laminated bookmark! Unleash your creativity to make a truly one-of-a-kind keepsake for you\, or a loved one!
URL:https://flatheadcountylibrary.org/event/may-flower-bookmarks-zone/
LOCATION:Columbia Falls Library\, 130 6th Street West #C\, Columbia Falls\, MT\, 59912\, United States
CATEGORIES:Adult Program
END:VEVENT
BEGIN:VEVENT
DTSTART;TZID=America/Denver:20260505T103000
DTEND;TZID=America/Denver:20260505T123000
DTSTAMP:20260420T131511
CREATED:20260221T231636Z
LAST-MODIFIED:20260221T231636Z
UID:10006283-1777977000-1777984200@flatheadcountylibrary.org
SUMMARY:Genealogy Class - Kalispell
DESCRIPTION:Join instructors from Kalispell’s FamilySearch Center for genealogy classes geared toward individuals and families aged 13 and older. Learn personal researching skills\, connect with family history groups\, and get expert help navigating genealogical sites. This program will repeat every 1st and 3rd Tuesday in Kalispell and 2nd and 4th Tuesday in Bigfork.
URL:https://flatheadcountylibrary.org/event/genealogy-class-kalispell/2026-05-05/
LOCATION:Kalispell Library\, 247 1st Ave East\, Kalispell\, MT\, 59901\, United States
CATEGORIES:Adult Program
END:VEVENT
BEGIN:VEVENT
DTSTART;TZID=America/Denver:20260508T160000
DTEND;TZID=America/Denver:20260508T180000
DTSTAMP:20260420T131511
CREATED:20260411T190311Z
LAST-MODIFIED:20260411T190311Z
UID:10006387-1778256000-1778263200@flatheadcountylibrary.org
SUMMARY:History of Fire in Bigfork
DESCRIPTION:Discover how wildfire has influenced the Bigfork area over time with FVCC Forest Management instructor Rick Trembath\, who brings decades of experience in both wildland and structural fire. From traditional Native American fire stewardship to landmark events like the Stoner Fire of 1934 and the 2021 East Shore Fire\, Rick will share the stories and science behind some of the town’s most significant fires. Learn what the past can teach us about staying safer and more prepared in the years ahead.
URL:https://flatheadcountylibrary.org/event/history-of-fire-in-bigfork/
LOCATION:Bigfork Library\, 186 Bridge Street\, Bigfork\, MT\, 59911\, United States
CATEGORIES:Adult Program
END:VEVENT
END:VCALENDAR