BEGIN:VCALENDAR
VERSION:2.0
PRODID:-//Flathead County Library - ECPv6.15.20//NONSGML v1.0//EN
CALSCALE:GREGORIAN
METHOD:PUBLISH
X-WR-CALNAME:Flathead County Library
X-ORIGINAL-URL:https://flatheadcountylibrary.org
X-WR-CALDESC:Events for Flathead County Library
REFRESH-INTERVAL;VALUE=DURATION:PT1H
X-Robots-Tag:noindex
X-PUBLISHED-TTL:PT1H
BEGIN:VTIMEZONE
TZID:America/Denver
BEGIN:DAYLIGHT
TZOFFSETFROM:-0700
TZOFFSETTO:-0600
TZNAME:MDT
DTSTART:20250309T090000
END:DAYLIGHT
BEGIN:STANDARD
TZOFFSETFROM:-0600
TZOFFSETTO:-0700
TZNAME:MST
DTSTART:20251102T080000
END:STANDARD
BEGIN:DAYLIGHT
TZOFFSETFROM:-0700
TZOFFSETTO:-0600
TZNAME:MDT
DTSTART:20260308T090000
END:DAYLIGHT
BEGIN:STANDARD
TZOFFSETFROM:-0600
TZOFFSETTO:-0700
TZNAME:MST
DTSTART:20261101T080000
END:STANDARD
BEGIN:DAYLIGHT
TZOFFSETFROM:-0700
TZOFFSETTO:-0600
TZNAME:MDT
DTSTART:20270314T090000
END:DAYLIGHT
BEGIN:STANDARD
TZOFFSETFROM:-0600
TZOFFSETTO:-0700
TZNAME:MST
DTSTART:20271107T080000
END:STANDARD
END:VTIMEZONE
BEGIN:VEVENT
DTSTART;VALUE=DATE:20260504
DTEND;VALUE=DATE:20260510
DTSTAMP:20260420T142926
CREATED:20260411T190054Z
LAST-MODIFIED:20260411T190054Z
UID:10006388-1777852800-1778371199@flatheadcountylibrary.org
SUMMARY:May Flower Bookmarks Zone
DESCRIPTION:Create your very own unique dried flower laminated bookmark! Unleash your creativity to make a truly one-of-a-kind keepsake for you\, or a loved one!
URL:https://flatheadcountylibrary.org/event/may-flower-bookmarks-zone/
LOCATION:Columbia Falls Library\, 130 6th Street West #C\, Columbia Falls\, MT\, 59912\, United States
CATEGORIES:Adult Program
END:VEVENT
BEGIN:VEVENT
DTSTART;TZID=America/Denver:20260505T103000
DTEND;TZID=America/Denver:20260505T123000
DTSTAMP:20260420T142926
CREATED:20260221T231636Z
LAST-MODIFIED:20260221T231636Z
UID:10006283-1777977000-1777984200@flatheadcountylibrary.org
SUMMARY:Genealogy Class - Kalispell
DESCRIPTION:Join instructors from Kalispell’s FamilySearch Center for genealogy classes geared toward individuals and families aged 13 and older. Learn personal researching skills\, connect with family history groups\, and get expert help navigating genealogical sites. This program will repeat every 1st and 3rd Tuesday in Kalispell and 2nd and 4th Tuesday in Bigfork.
URL:https://flatheadcountylibrary.org/event/genealogy-class-kalispell/2026-05-05/
LOCATION:Kalispell Library\, 247 1st Ave East\, Kalispell\, MT\, 59901\, United States
CATEGORIES:Adult Program
END:VEVENT
BEGIN:VEVENT
DTSTART;TZID=America/Denver:20260508T160000
DTEND;TZID=America/Denver:20260508T180000
DTSTAMP:20260420T142926
CREATED:20260411T190311Z
LAST-MODIFIED:20260411T190311Z
UID:10006387-1778256000-1778263200@flatheadcountylibrary.org
SUMMARY:History of Fire in Bigfork
DESCRIPTION:Discover how wildfire has influenced the Bigfork area over time with FVCC Forest Management instructor Rick Trembath\, who brings decades of experience in both wildland and structural fire. From traditional Native American fire stewardship to landmark events like the Stoner Fire of 1934 and the 2021 East Shore Fire\, Rick will share the stories and science behind some of the town’s most significant fires. Learn what the past can teach us about staying safer and more prepared in the years ahead.
URL:https://flatheadcountylibrary.org/event/history-of-fire-in-bigfork/
LOCATION:Bigfork Library\, 186 Bridge Street\, Bigfork\, MT\, 59911\, United States
CATEGORIES:Adult Program
END:VEVENT
BEGIN:VEVENT
DTSTART;TZID=America/Denver:20260509T134500
DTEND;TZID=America/Denver:20260509T150000
DTSTAMP:20260420T142926
CREATED:20260411T190854Z
LAST-MODIFIED:20260411T190854Z
UID:10006386-1778334300-1778338800@flatheadcountylibrary.org
SUMMARY:Montana Wildflowers
DESCRIPTION:Celebrate spring! Learn to identify some of Flathead Lake’s local wildflowers and explore their unique adaptations. Slow down with a simple outdoor art activity to help you notice and remember the beauty of the wildflowers. Meet at the Bigfork Library\, at the Laura Long Patio. We will walk together to the Wayfarers Unit of Flathead Lake State Park. \n Register at: https://forms.office.com/g/F7nYzQMNdn [forms.office.com]
URL:https://flatheadcountylibrary.org/event/montana-wildflowers/
LOCATION:Bigfork Library\, 186 Bridge Street\, Bigfork\, MT\, 59911\, United States
CATEGORIES:Adult Program
END:VEVENT
BEGIN:VEVENT
DTSTART;TZID=America/Denver:20260512T103000
DTEND;TZID=America/Denver:20260512T123000
DTSTAMP:20260420T142926
CREATED:20260221T232527Z
LAST-MODIFIED:20260221T232527Z
UID:10006296-1778581800-1778589000@flatheadcountylibrary.org
SUMMARY:Genealogy Class - Bigfork
DESCRIPTION:Join instructors from Kalispell’s FamilySearch Center for genealogy classes geared toward individuals and families aged 13 and older. Learn personal researching skills\, connect with family history groups\, and get expert help navigating genealogical sites. This program will repeat every 2nd and 4th Tuesday in Bigfork and every 1st and 3rd Tuesday in Kalispell.
URL:https://flatheadcountylibrary.org/event/genealogy-class-bigfork/2026-05-12/
LOCATION:Bigfork Library\, 186 Bridge Street\, Bigfork\, MT\, 59911\, United States
CATEGORIES:Adult Program
END:VEVENT
BEGIN:VEVENT
DTSTART;TZID=America/Denver:20260519T103000
DTEND;TZID=America/Denver:20260519T123000
DTSTAMP:20260420T142926
CREATED:20260221T231636Z
LAST-MODIFIED:20260221T231636Z
UID:10006284-1779186600-1779193800@flatheadcountylibrary.org
SUMMARY:Genealogy Class - Kalispell
DESCRIPTION:Join instructors from Kalispell’s FamilySearch Center for genealogy classes geared toward individuals and families aged 13 and older. Learn personal researching skills\, connect with family history groups\, and get expert help navigating genealogical sites. This program will repeat every 1st and 3rd Tuesday in Kalispell and 2nd and 4th Tuesday in Bigfork.
URL:https://flatheadcountylibrary.org/event/genealogy-class-kalispell/2026-05-19/
LOCATION:Kalispell Library\, 247 1st Ave East\, Kalispell\, MT\, 59901\, United States
CATEGORIES:Adult Program
END:VEVENT
BEGIN:VEVENT
DTSTART;TZID=America/Denver:20260526T103000
DTEND;TZID=America/Denver:20260526T123000
DTSTAMP:20260420T142926
CREATED:20260221T232527Z
LAST-MODIFIED:20260221T232527Z
UID:10006297-1779791400-1779798600@flatheadcountylibrary.org
SUMMARY:Genealogy Class - Bigfork
DESCRIPTION:Join instructors from Kalispell’s FamilySearch Center for genealogy classes geared toward individuals and families aged 13 and older. Learn personal researching skills\, connect with family history groups\, and get expert help navigating genealogical sites. This program will repeat every 2nd and 4th Tuesday in Bigfork and every 1st and 3rd Tuesday in Kalispell.
URL:https://flatheadcountylibrary.org/event/genealogy-class-bigfork/2026-05-26/
LOCATION:Bigfork Library\, 186 Bridge Street\, Bigfork\, MT\, 59911\, United States
CATEGORIES:Adult Program
END:VEVENT
BEGIN:VEVENT
DTSTART;TZID=America/Denver:20260602T103000
DTEND;TZID=America/Denver:20260602T123000
DTSTAMP:20260420T142926
CREATED:20260221T231636Z
LAST-MODIFIED:20260221T231636Z
UID:10006285-1780396200-1780403400@flatheadcountylibrary.org
SUMMARY:Genealogy Class - Kalispell
DESCRIPTION:Join instructors from Kalispell’s FamilySearch Center for genealogy classes geared toward individuals and families aged 13 and older. Learn personal researching skills\, connect with family history groups\, and get expert help navigating genealogical sites. This program will repeat every 1st and 3rd Tuesday in Kalispell and 2nd and 4th Tuesday in Bigfork.
URL:https://flatheadcountylibrary.org/event/genealogy-class-kalispell/2026-06-02/
LOCATION:Kalispell Library\, 247 1st Ave East\, Kalispell\, MT\, 59901\, United States
CATEGORIES:Adult Program
END:VEVENT
BEGIN:VEVENT
DTSTART;TZID=America/Denver:20260609T103000
DTEND;TZID=America/Denver:20260609T123000
DTSTAMP:20260420T142926
CREATED:20260221T232527Z
LAST-MODIFIED:20260221T232527Z
UID:10006298-1781001000-1781008200@flatheadcountylibrary.org
SUMMARY:Genealogy Class - Bigfork
DESCRIPTION:Join instructors from Kalispell’s FamilySearch Center for genealogy classes geared toward individuals and families aged 13 and older. Learn personal researching skills\, connect with family history groups\, and get expert help navigating genealogical sites. This program will repeat every 2nd and 4th Tuesday in Bigfork and every 1st and 3rd Tuesday in Kalispell.
URL:https://flatheadcountylibrary.org/event/genealogy-class-bigfork/2026-06-09/
LOCATION:Bigfork Library\, 186 Bridge Street\, Bigfork\, MT\, 59911\, United States
CATEGORIES:Adult Program
END:VEVENT
BEGIN:VEVENT
DTSTART;TZID=America/Denver:20260616T103000
DTEND;TZID=America/Denver:20260616T123000
DTSTAMP:20260420T142926
CREATED:20260221T231636Z
LAST-MODIFIED:20260221T231636Z
UID:10006286-1781605800-1781613000@flatheadcountylibrary.org
SUMMARY:Genealogy Class - Kalispell
DESCRIPTION:Join instructors from Kalispell’s FamilySearch Center for genealogy classes geared toward individuals and families aged 13 and older. Learn personal researching skills\, connect with family history groups\, and get expert help navigating genealogical sites. This program will repeat every 1st and 3rd Tuesday in Kalispell and 2nd and 4th Tuesday in Bigfork.
URL:https://flatheadcountylibrary.org/event/genealogy-class-kalispell/2026-06-16/
LOCATION:Kalispell Library\, 247 1st Ave East\, Kalispell\, MT\, 59901\, United States
CATEGORIES:Adult Program
END:VEVENT
BEGIN:VEVENT
DTSTART;TZID=America/Denver:20260623T103000
DTEND;TZID=America/Denver:20260623T123000
DTSTAMP:20260420T142926
CREATED:20260221T232527Z
LAST-MODIFIED:20260221T232527Z
UID:10006299-1782210600-1782217800@flatheadcountylibrary.org
SUMMARY:Genealogy Class - Bigfork
DESCRIPTION:Join instructors from Kalispell’s FamilySearch Center for genealogy classes geared toward individuals and families aged 13 and older. Learn personal researching skills\, connect with family history groups\, and get expert help navigating genealogical sites. This program will repeat every 2nd and 4th Tuesday in Bigfork and every 1st and 3rd Tuesday in Kalispell.
URL:https://flatheadcountylibrary.org/event/genealogy-class-bigfork/2026-06-23/
LOCATION:Bigfork Library\, 186 Bridge Street\, Bigfork\, MT\, 59911\, United States
CATEGORIES:Adult Program
END:VEVENT
END:VCALENDAR