BEGIN:VCALENDAR
VERSION:2.0
PRODID:-//Flathead County Library - ECPv6.15.20//NONSGML v1.0//EN
CALSCALE:GREGORIAN
METHOD:PUBLISH
X-WR-CALNAME:Flathead County Library
X-ORIGINAL-URL:https://flatheadcountylibrary.org
X-WR-CALDESC:Events for Flathead County Library
REFRESH-INTERVAL;VALUE=DURATION:PT1H
X-Robots-Tag:noindex
X-PUBLISHED-TTL:PT1H
BEGIN:VTIMEZONE
TZID:America/Denver
BEGIN:DAYLIGHT
TZOFFSETFROM:-0700
TZOFFSETTO:-0600
TZNAME:MDT
DTSTART:20250309T090000
END:DAYLIGHT
BEGIN:STANDARD
TZOFFSETFROM:-0600
TZOFFSETTO:-0700
TZNAME:MST
DTSTART:20251102T080000
END:STANDARD
BEGIN:DAYLIGHT
TZOFFSETFROM:-0700
TZOFFSETTO:-0600
TZNAME:MDT
DTSTART:20260308T090000
END:DAYLIGHT
BEGIN:STANDARD
TZOFFSETFROM:-0600
TZOFFSETTO:-0700
TZNAME:MST
DTSTART:20261101T080000
END:STANDARD
BEGIN:DAYLIGHT
TZOFFSETFROM:-0700
TZOFFSETTO:-0600
TZNAME:MDT
DTSTART:20270314T090000
END:DAYLIGHT
BEGIN:STANDARD
TZOFFSETFROM:-0600
TZOFFSETTO:-0700
TZNAME:MST
DTSTART:20271107T080000
END:STANDARD
END:VTIMEZONE
BEGIN:VEVENT
DTSTART;TZID=America/Denver:20260224T160000
DTEND;TZID=America/Denver:20260224T180000
DTSTAMP:20260419T153546
CREATED:20260115T215849Z
LAST-MODIFIED:20260115T215849Z
UID:10005319-1771948800-1771956000@flatheadcountylibrary.org
SUMMARY:Craft for Conservation: Bird Collisions in the Anthropocene
DESCRIPTION:Join Flathead Audubon Society at the Columbia Falls Library for a meaningful crafting workshop to raise awareness about bird conservation. One of the major threats to bird populations is collisions with windows and buildings. To spotlight this issue\, the international art and conservation project Bird Collisions in the Anthropocene is creating 10\,863 handsewn birds – one for each bird found in 2023 by the Chicago Bird Collision Monitors after striking glass. Sewing experience is welcome but not required. For adults ages 16+
URL:https://flatheadcountylibrary.org/event/craft-for-conservation-bird-collisions-in-the-anthropocene/
LOCATION:Columbia Falls Library\, 130 6th Street West #C\, Columbia Falls\, MT\, 59912\, United States
CATEGORIES:Ages 16+
END:VEVENT
END:VCALENDAR