BEGIN:VCALENDAR
VERSION:2.0
PRODID:-//Flathead County Library - ECPv6.15.20//NONSGML v1.0//EN
CALSCALE:GREGORIAN
METHOD:PUBLISH
X-WR-CALNAME:Flathead County Library
X-ORIGINAL-URL:https://flatheadcountylibrary.org
X-WR-CALDESC:Events for Flathead County Library
REFRESH-INTERVAL;VALUE=DURATION:PT1H
X-Robots-Tag:noindex
X-PUBLISHED-TTL:PT1H
BEGIN:VTIMEZONE
TZID:America/Denver
BEGIN:DAYLIGHT
TZOFFSETFROM:-0700
TZOFFSETTO:-0600
TZNAME:MDT
DTSTART:20240310T090000
END:DAYLIGHT
BEGIN:STANDARD
TZOFFSETFROM:-0600
TZOFFSETTO:-0700
TZNAME:MST
DTSTART:20241103T080000
END:STANDARD
BEGIN:DAYLIGHT
TZOFFSETFROM:-0700
TZOFFSETTO:-0600
TZNAME:MDT
DTSTART:20250309T090000
END:DAYLIGHT
BEGIN:STANDARD
TZOFFSETFROM:-0600
TZOFFSETTO:-0700
TZNAME:MST
DTSTART:20251102T080000
END:STANDARD
BEGIN:DAYLIGHT
TZOFFSETFROM:-0700
TZOFFSETTO:-0600
TZNAME:MDT
DTSTART:20260308T090000
END:DAYLIGHT
BEGIN:STANDARD
TZOFFSETFROM:-0600
TZOFFSETTO:-0700
TZNAME:MST
DTSTART:20261101T080000
END:STANDARD
END:VTIMEZONE
BEGIN:VEVENT
DTSTART;TZID=America/Denver:20250514T110000
DTEND;TZID=America/Denver:20250514T124500
DTSTAMP:20260419T130220
CREATED:20250306T201353Z
LAST-MODIFIED:20250306T201353Z
UID:10003424-1747220400-1747226700@flatheadcountylibrary.org
SUMMARY:Community Library Tour
DESCRIPTION:You’re invited to a fun and informative tour of your public library! Get a behind the scenes look into how your tax dollars work to bring great library services to the Flathead Valley! The second Wednesday of each month at 11am at your Kalispell Public Library. Tours are approximately 45 minutes long.
URL:https://flatheadcountylibrary.org/event/community-library-tour/2025-05-14/
CATEGORIES:Library Tour
END:VEVENT
BEGIN:VEVENT
DTSTART;TZID=America/Denver:20250409T110000
DTEND;TZID=America/Denver:20250409T124500
DTSTAMP:20260419T130220
CREATED:20250306T201353Z
LAST-MODIFIED:20250306T201353Z
UID:10003423-1744196400-1744202700@flatheadcountylibrary.org
SUMMARY:Community Library Tour
DESCRIPTION:You’re invited to a fun and informative tour of your public library! Get a behind the scenes look into how your tax dollars work to bring great library services to the Flathead Valley! The second Wednesday of each month at 11am at your Kalispell Public Library. Tours are approximately 45 minutes long.
URL:https://flatheadcountylibrary.org/event/community-library-tour/2025-04-09/
CATEGORIES:Library Tour
END:VEVENT
BEGIN:VEVENT
DTSTART;TZID=America/Denver:20250312T110000
DTEND;TZID=America/Denver:20250312T124500
DTSTAMP:20260419T130220
CREATED:20250306T201353Z
LAST-MODIFIED:20250306T201353Z
UID:10003422-1741777200-1741783500@flatheadcountylibrary.org
SUMMARY:Community Library Tour
DESCRIPTION:You’re invited to a fun and informative tour of your public library! Get a behind the scenes look into how your tax dollars work to bring great library services to the Flathead Valley! The second Wednesday of each month at 11am at your Kalispell Public Library. Tours are approximately 45 minutes long.
URL:https://flatheadcountylibrary.org/event/community-library-tour/2025-03-12/
CATEGORIES:Library Tour
END:VEVENT
END:VCALENDAR