BEGIN:VCALENDAR
VERSION:2.0
PRODID:-//Flathead County Library - ECPv6.15.20//NONSGML v1.0//EN
CALSCALE:GREGORIAN
METHOD:PUBLISH
X-WR-CALNAME:Flathead County Library
X-ORIGINAL-URL:https://flatheadcountylibrary.org
X-WR-CALDESC:Events for Flathead County Library
REFRESH-INTERVAL;VALUE=DURATION:PT1H
X-Robots-Tag:noindex
X-PUBLISHED-TTL:PT1H
BEGIN:VTIMEZONE
TZID:America/Denver
BEGIN:DAYLIGHT
TZOFFSETFROM:-0700
TZOFFSETTO:-0600
TZNAME:MDT
DTSTART:20250309T090000
END:DAYLIGHT
BEGIN:STANDARD
TZOFFSETFROM:-0600
TZOFFSETTO:-0700
TZNAME:MST
DTSTART:20251102T080000
END:STANDARD
BEGIN:DAYLIGHT
TZOFFSETFROM:-0700
TZOFFSETTO:-0600
TZNAME:MDT
DTSTART:20260308T090000
END:DAYLIGHT
BEGIN:STANDARD
TZOFFSETFROM:-0600
TZOFFSETTO:-0700
TZNAME:MST
DTSTART:20261101T080000
END:STANDARD
BEGIN:DAYLIGHT
TZOFFSETFROM:-0700
TZOFFSETTO:-0600
TZNAME:MDT
DTSTART:20270314T090000
END:DAYLIGHT
BEGIN:STANDARD
TZOFFSETFROM:-0600
TZOFFSETTO:-0700
TZNAME:MST
DTSTART:20271107T080000
END:STANDARD
END:VTIMEZONE
BEGIN:VEVENT
DTSTART;TZID=America/Denver:20260424T110000
DTEND;TZID=America/Denver:20260424T120000
DTSTAMP:20260421T015441
CREATED:20260214T223552Z
LAST-MODIFIED:20260214T223553Z
UID:10006193-1777028400-1777032000@flatheadcountylibrary.org
SUMMARY:Baby Storytime-Columbia Falls
DESCRIPTION:Make connections with other parents and learn fun techniques for using books\, songs\, and rhymes at home. Rhythm and repetition will get your little one recognizing and requesting favorite songs. Especially for ages birth to 24 months.
URL:https://flatheadcountylibrary.org/event/baby-storytime-columbia-falls-3-2/2026-04-24/
LOCATION:Columbia Falls Library\, 130 6th Street West #C\, Columbia Falls\, MT\, 59912\, United States
CATEGORIES:Storytime
END:VEVENT
BEGIN:VEVENT
DTSTART;TZID=America/Denver:20260501T110000
DTEND;TZID=America/Denver:20260501T120000
DTSTAMP:20260421T015441
CREATED:20260214T223552Z
LAST-MODIFIED:20260214T223553Z
UID:10006194-1777633200-1777636800@flatheadcountylibrary.org
SUMMARY:Baby Storytime-Columbia Falls
DESCRIPTION:Make connections with other parents and learn fun techniques for using books\, songs\, and rhymes at home. Rhythm and repetition will get your little one recognizing and requesting favorite songs. Especially for ages birth to 24 months.
URL:https://flatheadcountylibrary.org/event/baby-storytime-columbia-falls-3-2/2026-05-01/
LOCATION:Columbia Falls Library\, 130 6th Street West #C\, Columbia Falls\, MT\, 59912\, United States
CATEGORIES:Storytime
END:VEVENT
BEGIN:VEVENT
DTSTART;TZID=America/Denver:20260508T110000
DTEND;TZID=America/Denver:20260508T120000
DTSTAMP:20260421T015441
CREATED:20260214T223552Z
LAST-MODIFIED:20260214T223553Z
UID:10006195-1778238000-1778241600@flatheadcountylibrary.org
SUMMARY:Baby Storytime-Columbia Falls
DESCRIPTION:Make connections with other parents and learn fun techniques for using books\, songs\, and rhymes at home. Rhythm and repetition will get your little one recognizing and requesting favorite songs. Especially for ages birth to 24 months.
URL:https://flatheadcountylibrary.org/event/baby-storytime-columbia-falls-3-2/2026-05-08/
LOCATION:Columbia Falls Library\, 130 6th Street West #C\, Columbia Falls\, MT\, 59912\, United States
CATEGORIES:Storytime
END:VEVENT
BEGIN:VEVENT
DTSTART;TZID=America/Denver:20260515T110000
DTEND;TZID=America/Denver:20260515T120000
DTSTAMP:20260421T015441
CREATED:20260214T223552Z
LAST-MODIFIED:20260214T223553Z
UID:10006196-1778842800-1778846400@flatheadcountylibrary.org
SUMMARY:Baby Storytime-Columbia Falls
DESCRIPTION:Make connections with other parents and learn fun techniques for using books\, songs\, and rhymes at home. Rhythm and repetition will get your little one recognizing and requesting favorite songs. Especially for ages birth to 24 months.
URL:https://flatheadcountylibrary.org/event/baby-storytime-columbia-falls-3-2/2026-05-15/
LOCATION:Columbia Falls Library\, 130 6th Street West #C\, Columbia Falls\, MT\, 59912\, United States
CATEGORIES:Storytime
END:VEVENT
BEGIN:VEVENT
DTSTART;TZID=America/Denver:20260522T110000
DTEND;TZID=America/Denver:20260522T120000
DTSTAMP:20260421T015441
CREATED:20260214T223552Z
LAST-MODIFIED:20260214T223553Z
UID:10006197-1779447600-1779451200@flatheadcountylibrary.org
SUMMARY:Baby Storytime-Columbia Falls
DESCRIPTION:Make connections with other parents and learn fun techniques for using books\, songs\, and rhymes at home. Rhythm and repetition will get your little one recognizing and requesting favorite songs. Especially for ages birth to 24 months.
URL:https://flatheadcountylibrary.org/event/baby-storytime-columbia-falls-3-2/2026-05-22/
LOCATION:Columbia Falls Library\, 130 6th Street West #C\, Columbia Falls\, MT\, 59912\, United States
CATEGORIES:Storytime
END:VEVENT
BEGIN:VEVENT
DTSTART;TZID=America/Denver:20260529T110000
DTEND;TZID=America/Denver:20260529T120000
DTSTAMP:20260421T015441
CREATED:20260214T223552Z
LAST-MODIFIED:20260214T223553Z
UID:10006198-1780052400-1780056000@flatheadcountylibrary.org
SUMMARY:Baby Storytime-Columbia Falls
DESCRIPTION:Make connections with other parents and learn fun techniques for using books\, songs\, and rhymes at home. Rhythm and repetition will get your little one recognizing and requesting favorite songs. Especially for ages birth to 24 months.
URL:https://flatheadcountylibrary.org/event/baby-storytime-columbia-falls-3-2/2026-05-29/
LOCATION:Columbia Falls Library\, 130 6th Street West #C\, Columbia Falls\, MT\, 59912\, United States
CATEGORIES:Storytime
END:VEVENT
END:VCALENDAR