BEGIN:VCALENDAR
VERSION:2.0
PRODID:-//Flathead County Library - ECPv6.15.20//NONSGML v1.0//EN
CALSCALE:GREGORIAN
METHOD:PUBLISH
X-ORIGINAL-URL:https://flatheadcountylibrary.org
X-WR-CALDESC:Events for Flathead County Library
REFRESH-INTERVAL;VALUE=DURATION:PT1H
X-Robots-Tag:noindex
X-PUBLISHED-TTL:PT1H
BEGIN:VTIMEZONE
TZID:America/Denver
BEGIN:DAYLIGHT
TZOFFSETFROM:-0700
TZOFFSETTO:-0600
TZNAME:MDT
DTSTART:20250309T090000
END:DAYLIGHT
BEGIN:STANDARD
TZOFFSETFROM:-0600
TZOFFSETTO:-0700
TZNAME:MST
DTSTART:20251102T080000
END:STANDARD
BEGIN:DAYLIGHT
TZOFFSETFROM:-0700
TZOFFSETTO:-0600
TZNAME:MDT
DTSTART:20260308T090000
END:DAYLIGHT
BEGIN:STANDARD
TZOFFSETFROM:-0600
TZOFFSETTO:-0700
TZNAME:MST
DTSTART:20261101T080000
END:STANDARD
BEGIN:DAYLIGHT
TZOFFSETFROM:-0700
TZOFFSETTO:-0600
TZNAME:MDT
DTSTART:20270314T090000
END:DAYLIGHT
BEGIN:STANDARD
TZOFFSETFROM:-0600
TZOFFSETTO:-0700
TZNAME:MST
DTSTART:20271107T080000
END:STANDARD
END:VTIMEZONE
BEGIN:VEVENT
DTSTART;TZID=America/Denver:20260428T110000
DTEND;TZID=America/Denver:20260428T120000
DTSTAMP:20260419T170409
CREATED:20260214T225024Z
LAST-MODIFIED:20260404T155622Z
UID:10006375-1777374000-1777377600@flatheadcountylibrary.org
SUMMARY:Preschool Storytime-Kalispell
DESCRIPTION:Enjoy longer stories and musical activities that promote listening skills and following directions. Following storytime\, children can explore activities that highlight math\, art\, dramatic play\, and science. Especially for ages 4 and 5.
URL:https://flatheadcountylibrary.org/event/preschool-storytime-kalispell-3-2/2026-04-28/
LOCATION:Kalispell Library\, 247 1st Ave East\, Kalispell\, MT\, 59901\, United States
CATEGORIES:Storytime
END:VEVENT
BEGIN:VEVENT
DTSTART;VALUE=DATE:20260429
DTEND;VALUE=DATE:20260430
DTSTAMP:20260419T170409
CREATED:20260213T222300Z
LAST-MODIFIED:20260213T222315Z
UID:10006018-1777420800-1777507199@flatheadcountylibrary.org
SUMMARY:Teen Switch Days-Kalispell
DESCRIPTION:Bring your friends or come solo and battle it out on the Nintendo Switch in our Teen Zone.
URL:https://flatheadcountylibrary.org/event/teen-switch-days-kalispell-2/2026-04-29/
LOCATION:Kalispell Library\, 247 1st Ave East\, Kalispell\, MT\, 59901\, United States
CATEGORIES:Teen Program
END:VEVENT
BEGIN:VEVENT
DTSTART;TZID=America/Denver:20260429T110000
DTEND;TZID=America/Denver:20260429T120000
DTSTAMP:20260419T170409
CREATED:20260214T223817Z
LAST-MODIFIED:20260214T223818Z
UID:10006203-1777460400-1777464000@flatheadcountylibrary.org
SUMMARY:Baby Storytime-Kalispell
DESCRIPTION:Make connections with other parents and learn fun techniques for using books\, songs\, and rhymes at home. Rhythm and repetition will get your little one recognizing and requesting favorite songs. Especially for ages birth to 24 months.
URL:https://flatheadcountylibrary.org/event/baby-storytime-3-2/2026-04-29/
LOCATION:Kalispell Library\, 247 1st Ave East\, Kalispell\, MT\, 59901\, United States
CATEGORIES:Storytime
END:VEVENT
BEGIN:VEVENT
DTSTART;TZID=America/Denver:20260429T140000
DTEND;TZID=America/Denver:20260429T160000
DTSTAMP:20260419T170409
CREATED:20260207T165623Z
LAST-MODIFIED:20260207T165624Z
UID:10005946-1777471200-1777478400@flatheadcountylibrary.org
SUMMARY:Kids Wednesday Workshop (Grades K-5) Columbia Falls
DESCRIPTION:Join us every Wednesday for hands-on exploration\, including LEGO Club and STEAM Space (science\, technology\, engineering\, art\, and math activities). We’ll create art\, play games\, construct new worlds with LEGOs\, tackle an engineering challenge or learn a new craft. Especially for kids in grades K-5. Must be accompanied by an adult.
URL:https://flatheadcountylibrary.org/event/kids-wednesday-workshop-grades-k-5-4-2/2026-04-29/
LOCATION:Columbia Falls Library\, 130 6th Street West #C\, Columbia Falls\, MT\, 59912\, United States
CATEGORIES:Kids Program
END:VEVENT
BEGIN:VEVENT
DTSTART;TZID=America/Denver:20260429T140000
DTEND;TZID=America/Denver:20260429T170000
DTSTAMP:20260419T170409
CREATED:20260207T163740Z
LAST-MODIFIED:20260207T163741Z
UID:10005951-1777471200-1777482000@flatheadcountylibrary.org
SUMMARY:Kids Wednesday Workshop (Grades K-5)-Kalispell
DESCRIPTION:Join us every Wednesday for hands-on exploration\, including LEGO Club and STEAM Space (science\, technology\, engineering\, art\, and math activities). We’ll create art\, play games\, construct new worlds with LEGOs\, tackle an engineering challenge or learn a new craft. Especially for kids in grades K-5. Must be accompanied by an adult.
URL:https://flatheadcountylibrary.org/event/kids-wednesday-workshop-grades-k-5-kalispell-2/2026-04-29/
LOCATION:Kalispell Library\, 247 1st Ave East\, Kalispell\, MT\, 59901\, United States
CATEGORIES:Kids Program
END:VEVENT
BEGIN:VEVENT
DTSTART;TZID=America/Denver:20260429T143000
DTEND;TZID=America/Denver:20260429T160000
DTSTAMP:20260419T170410
CREATED:20260312T205948Z
LAST-MODIFIED:20260312T205956Z
UID:10006351-1777473000-1777478400@flatheadcountylibrary.org
SUMMARY:Savings Workshop: Level Up Your Money Skills (GRADES 6-12)
DESCRIPTION:Join us for an interactive savings workshop with Glacier Bank. Teens will get practical advice\, discover easy strategies to meet their goals\, and test their knowledge in a friendly game of Financial Jeopardy!
URL:https://flatheadcountylibrary.org/event/savings-workshop-level-up-your-money-skills-grades-6-12/
LOCATION:Kalispell Library\, 247 1st Ave East\, Kalispell\, MT\, 59901\, United States
CATEGORIES:Teen Program
END:VEVENT
BEGIN:VEVENT
DTSTART;TZID=America/Denver:20260429T153000
DTEND;TZID=America/Denver:20260429T173000
DTSTAMP:20260419T170410
CREATED:20260207T161328Z
LAST-MODIFIED:20260207T170022Z
UID:10005969-1777476600-1777483800@flatheadcountylibrary.org
SUMMARY:Kids Wednesday Workshop (Grades K-5) Bigfork
DESCRIPTION:Join us every Wednesday for hands-on exploration\, including LEGO Club and STEAM Space (science\, technology\, engineering\, art\, and math activities). We’ll create art\, play games\, construct new worlds with LEGOs\, tackle an engineering challenge or learn a new craft. Especially for kids in grades K-5. Must be accompanied by an adult.
URL:https://flatheadcountylibrary.org/event/kids-wednesday-workshop-grades-k-5-2-2/2026-04-29/
LOCATION:Bigfork Library\, 186 Bridge Street\, Bigfork\, MT\, 59911\, United States
CATEGORIES:Kids Program
END:VEVENT
BEGIN:VEVENT
DTSTART;VALUE=DATE:20260430
DTEND;VALUE=DATE:20260501
DTSTAMP:20260419T170410
CREATED:20260213T222300Z
LAST-MODIFIED:20260213T222315Z
UID:10006019-1777507200-1777593599@flatheadcountylibrary.org
SUMMARY:Teen Switch Days-Kalispell
DESCRIPTION:Bring your friends or come solo and battle it out on the Nintendo Switch in our Teen Zone.
URL:https://flatheadcountylibrary.org/event/teen-switch-days-kalispell-2/2026-04-30/
LOCATION:Kalispell Library\, 247 1st Ave East\, Kalispell\, MT\, 59901\, United States
CATEGORIES:Teen Program
END:VEVENT
BEGIN:VEVENT
DTSTART;TZID=America/Denver:20260430T110000
DTEND;TZID=America/Denver:20260430T120000
DTSTAMP:20260419T170410
CREATED:20260214T224216Z
LAST-MODIFIED:20260214T224338Z
UID:10006227-1777546800-1777550400@flatheadcountylibrary.org
SUMMARY:Preschool Storytime-Columbia Falls
DESCRIPTION:Enjoy longer stories and musical activities that promote listening skills and following directions. Following storytime\, children can explore activities that highlight math\, art\, dramatic play\, and science. Especially for ages 4 and 5.
URL:https://flatheadcountylibrary.org/event/preschool-storytime-columbia-falls-3-2/2026-04-30/
LOCATION:Columbia Falls Library\, 130 6th Street West #C\, Columbia Falls\, MT\, 59912\, United States
CATEGORIES:Storytime
END:VEVENT
BEGIN:VEVENT
DTSTART;TZID=America/Denver:20260430T110000
DTEND;TZID=America/Denver:20260430T120000
DTSTAMP:20260419T170410
CREATED:20260214T230129Z
LAST-MODIFIED:20260214T230129Z
UID:10006260-1777546800-1777550400@flatheadcountylibrary.org
SUMMARY:Preschool Storytime-Bigfork
DESCRIPTION:Enjoy longer stories and musical activities that promote listening skills and following directions. Following storytime\, children can explore activities that highlight math\, art\, dramatic play\, and science. Especially for ages 4 and 5.
URL:https://flatheadcountylibrary.org/event/preschool-storytime-bigfork-3-2/2026-04-30/
LOCATION:Bigfork Library\, 186 Bridge Street\, Bigfork\, MT\, 59911\, United States
CATEGORIES:Storytime
END:VEVENT
END:VCALENDAR