BEGIN:VCALENDAR
VERSION:2.0
PRODID:-//Flathead County Library - ECPv6.15.20//NONSGML v1.0//EN
CALSCALE:GREGORIAN
METHOD:PUBLISH
X-ORIGINAL-URL:https://flatheadcountylibrary.org
X-WR-CALDESC:Events for Flathead County Library
REFRESH-INTERVAL;VALUE=DURATION:PT1H
X-Robots-Tag:noindex
X-PUBLISHED-TTL:PT1H
BEGIN:VTIMEZONE
TZID:America/Denver
BEGIN:DAYLIGHT
TZOFFSETFROM:-0700
TZOFFSETTO:-0600
TZNAME:MDT
DTSTART:20240310T090000
END:DAYLIGHT
BEGIN:STANDARD
TZOFFSETFROM:-0600
TZOFFSETTO:-0700
TZNAME:MST
DTSTART:20241103T080000
END:STANDARD
BEGIN:DAYLIGHT
TZOFFSETFROM:-0700
TZOFFSETTO:-0600
TZNAME:MDT
DTSTART:20250309T090000
END:DAYLIGHT
BEGIN:STANDARD
TZOFFSETFROM:-0600
TZOFFSETTO:-0700
TZNAME:MST
DTSTART:20251102T080000
END:STANDARD
BEGIN:DAYLIGHT
TZOFFSETFROM:-0700
TZOFFSETTO:-0600
TZNAME:MDT
DTSTART:20260308T090000
END:DAYLIGHT
BEGIN:STANDARD
TZOFFSETFROM:-0600
TZOFFSETTO:-0700
TZNAME:MST
DTSTART:20261101T080000
END:STANDARD
END:VTIMEZONE
BEGIN:VEVENT
DTSTART;TZID=America/Denver:20250710T110000
DTEND;TZID=America/Denver:20250710T120000
DTSTAMP:20260420T021941
CREATED:20250516T212654Z
LAST-MODIFIED:20250516T212724Z
UID:10003690-1752145200-1752148800@flatheadcountylibrary.org
SUMMARY:Early Learners (3-5) - Bigfork
DESCRIPTION:Reading and exploring are combined to keep your summer busy and fun! Join us weekly at the library for STEAM inspired activities! Ages 3-5 and caregivers.
URL:https://flatheadcountylibrary.org/event/early-learners-3-5-columbia-falls-2/2025-07-10/
LOCATION:Bigfork Library\, 186 Bridge Street\, Bigfork\, MT\, 59911\, United States
CATEGORIES:Kids Program,Storytime
END:VEVENT
BEGIN:VEVENT
DTSTART;TZID=America/Denver:20250709T110000
DTEND;TZID=America/Denver:20250709T130000
DTSTAMP:20260420T021941
CREATED:20250516T213313Z
LAST-MODIFIED:20250516T213313Z
UID:10003750-1752058800-1752066000@flatheadcountylibrary.org
SUMMARY:Summer Reading Experience Kids (6-10) - Bigfork
DESCRIPTION:Reading and exploring are combined to keep your summer busy and fun! Join us weekly at the library for STEAM inspired activities! Kids ages 6-10 and caregivers.
URL:https://flatheadcountylibrary.org/event/summer-reading-experience-kids-6-10-bigfork/2025-07-09/
LOCATION:Bigfork Library\, 186 Bridge Street\, Bigfork\, MT\, 59911\, United States
CATEGORIES:Kids Program
END:VEVENT
BEGIN:VEVENT
DTSTART;TZID=America/Denver:20250708T110000
DTEND;TZID=America/Denver:20250708T120000
DTSTAMP:20260420T021941
CREATED:20250516T212654Z
LAST-MODIFIED:20250516T212724Z
UID:10003702-1751972400-1751976000@flatheadcountylibrary.org
SUMMARY:Early Learners (3-5) - Bigfork
DESCRIPTION:Reading and exploring are combined to keep your summer busy and fun! Join us weekly at the library for STEAM inspired activities! Ages 3-5 and caregivers.
URL:https://flatheadcountylibrary.org/event/early-learners-3-5-columbia-falls-2/2025-07-08/
LOCATION:Bigfork Library\, 186 Bridge Street\, Bigfork\, MT\, 59911\, United States
CATEGORIES:Kids Program,Storytime
END:VEVENT
BEGIN:VEVENT
DTSTART;TZID=America/Denver:20250708T103000
DTEND;TZID=America/Denver:20250708T123000
DTSTAMP:20260420T021941
CREATED:20250327T163555Z
LAST-MODIFIED:20250724T190623Z
UID:10003812-1751970600-1751977800@flatheadcountylibrary.org
SUMMARY:Genealogy Class
DESCRIPTION:Join instructors from Kalispell’s FamilySearch Center for genealogy classes geared toward individuals and families aged 13 and older. Learn personal researching skills\, connect with family history groups\, and get expert help navigating genealogical sites. This program will repeat every 2nd & 4Th Tuesday each month.
URL:https://flatheadcountylibrary.org/event/genealogy-class/2025-07-08/
LOCATION:Bigfork Library\, 186 Bridge Street\, Bigfork\, MT\, 59911\, United States
CATEGORIES:Adult Program
END:VEVENT
BEGIN:VEVENT
DTSTART;VALUE=DATE:20250704
DTEND;VALUE=DATE:20250705
DTSTAMP:20260420T021941
CREATED:20250521T152346Z
LAST-MODIFIED:20250521T152346Z
UID:10003819-1751587200-1751673599@flatheadcountylibrary.org
SUMMARY:Libraries Closed
DESCRIPTION:All locations closed Friday\, July 4 for Independence Day.
URL:https://flatheadcountylibrary.org/event/libraries-closed-2/
LOCATION:Bigfork Library\, 186 Bridge Street\, Bigfork\, MT\, 59911\, United States
END:VEVENT
BEGIN:VEVENT
DTSTART;TZID=America/Denver:20250703T110000
DTEND;TZID=America/Denver:20250703T120000
DTSTAMP:20260420T021941
CREATED:20250516T212654Z
LAST-MODIFIED:20250516T212724Z
UID:10003688-1751540400-1751544000@flatheadcountylibrary.org
SUMMARY:Early Learners (3-5) - Bigfork
DESCRIPTION:Reading and exploring are combined to keep your summer busy and fun! Join us weekly at the library for STEAM inspired activities! Ages 3-5 and caregivers.
URL:https://flatheadcountylibrary.org/event/early-learners-3-5-columbia-falls-2/2025-07-03/
LOCATION:Bigfork Library\, 186 Bridge Street\, Bigfork\, MT\, 59911\, United States
CATEGORIES:Kids Program,Storytime
END:VEVENT
BEGIN:VEVENT
DTSTART;TZID=America/Denver:20250702T110000
DTEND;TZID=America/Denver:20250702T130000
DTSTAMP:20260420T021941
CREATED:20250516T213313Z
LAST-MODIFIED:20250516T213313Z
UID:10003749-1751454000-1751461200@flatheadcountylibrary.org
SUMMARY:Summer Reading Experience Kids (6-10) - Bigfork
DESCRIPTION:Reading and exploring are combined to keep your summer busy and fun! Join us weekly at the library for STEAM inspired activities! Kids ages 6-10 and caregivers.
URL:https://flatheadcountylibrary.org/event/summer-reading-experience-kids-6-10-bigfork/2025-07-02/
LOCATION:Bigfork Library\, 186 Bridge Street\, Bigfork\, MT\, 59911\, United States
CATEGORIES:Kids Program
END:VEVENT
BEGIN:VEVENT
DTSTART;TZID=America/Denver:20250701T110000
DTEND;TZID=America/Denver:20250701T120000
DTSTAMP:20260420T021941
CREATED:20250516T212654Z
LAST-MODIFIED:20250516T212724Z
UID:10003701-1751367600-1751371200@flatheadcountylibrary.org
SUMMARY:Early Learners (3-5) - Bigfork
DESCRIPTION:Reading and exploring are combined to keep your summer busy and fun! Join us weekly at the library for STEAM inspired activities! Ages 3-5 and caregivers.
URL:https://flatheadcountylibrary.org/event/early-learners-3-5-columbia-falls-2/2025-07-01/
LOCATION:Bigfork Library\, 186 Bridge Street\, Bigfork\, MT\, 59911\, United States
CATEGORIES:Kids Program,Storytime
END:VEVENT
BEGIN:VEVENT
DTSTART;TZID=America/Denver:20250627T110000
DTEND;TZID=America/Denver:20250627T120000
DTSTAMP:20260420T021941
CREATED:20250516T214453Z
LAST-MODIFIED:20250623T145805Z
UID:10003784-1751022000-1751025600@flatheadcountylibrary.org
SUMMARY:Baby & Toddler Storytime (0-3) - Bigfork
DESCRIPTION:Make connections with other parents and learn fun techniques for using books\, songs\, and rhymes at home. Rhythm and repetition will get your little one recognizing and requesting favorite songs. Especially for ages birth – 3.
URL:https://flatheadcountylibrary.org/event/baby-toddler-storytime-0-3-bigfork/2025-06-27/
LOCATION:Bigfork Library\, 186 Bridge Street\, Bigfork\, MT\, 59911\, United States
CATEGORIES:Storytime
END:VEVENT
BEGIN:VEVENT
DTSTART;TZID=America/Denver:20250626T110000
DTEND;TZID=America/Denver:20250626T120000
DTSTAMP:20260420T021941
CREATED:20250516T212654Z
LAST-MODIFIED:20250516T212724Z
UID:10003686-1750935600-1750939200@flatheadcountylibrary.org
SUMMARY:Early Learners (3-5) - Bigfork
DESCRIPTION:Reading and exploring are combined to keep your summer busy and fun! Join us weekly at the library for STEAM inspired activities! Ages 3-5 and caregivers.
URL:https://flatheadcountylibrary.org/event/early-learners-3-5-columbia-falls-2/2025-06-26/
LOCATION:Bigfork Library\, 186 Bridge Street\, Bigfork\, MT\, 59911\, United States
CATEGORIES:Kids Program,Storytime
END:VEVENT
BEGIN:VEVENT
DTSTART;TZID=America/Denver:20250625T160000
DTEND;TZID=America/Denver:20250625T180000
DTSTAMP:20260420T021941
CREATED:20250521T150912Z
LAST-MODIFIED:20250521T150912Z
UID:10003809-1750867200-1750874400@flatheadcountylibrary.org
SUMMARY:Local Author Discussion with Butch Larcombe
DESCRIPTION:Local author Butch Larcombe will present\, “A Clearly Unscientific Discussion on Colorful People and Events in the History of Flathead Lake”. Butch is a lifelong Montana resident currently living in Woods Bay\, and the author of several books including “Historic Tales of Flathead Lake”.
URL:https://flatheadcountylibrary.org/event/local-author-discussion-with-butch-larcombe/
LOCATION:Bigfork Library\, 186 Bridge Street\, Bigfork\, MT\, 59911\, United States
CATEGORIES:Adult Program
END:VEVENT
BEGIN:VEVENT
DTSTART;TZID=America/Denver:20250625T110000
DTEND;TZID=America/Denver:20250625T130000
DTSTAMP:20260420T021941
CREATED:20250516T213313Z
LAST-MODIFIED:20250516T213313Z
UID:10003748-1750849200-1750856400@flatheadcountylibrary.org
SUMMARY:Summer Reading Experience Kids (6-10) - Bigfork
DESCRIPTION:Reading and exploring are combined to keep your summer busy and fun! Join us weekly at the library for STEAM inspired activities! Kids ages 6-10 and caregivers.
URL:https://flatheadcountylibrary.org/event/summer-reading-experience-kids-6-10-bigfork/2025-06-25/
LOCATION:Bigfork Library\, 186 Bridge Street\, Bigfork\, MT\, 59911\, United States
CATEGORIES:Kids Program
END:VEVENT
BEGIN:VEVENT
DTSTART;TZID=America/Denver:20250624T110000
DTEND;TZID=America/Denver:20250624T120000
DTSTAMP:20260420T021941
CREATED:20250516T212654Z
LAST-MODIFIED:20250516T212724Z
UID:10003700-1750762800-1750766400@flatheadcountylibrary.org
SUMMARY:Early Learners (3-5) - Bigfork
DESCRIPTION:Reading and exploring are combined to keep your summer busy and fun! Join us weekly at the library for STEAM inspired activities! Ages 3-5 and caregivers.
URL:https://flatheadcountylibrary.org/event/early-learners-3-5-columbia-falls-2/2025-06-24/
LOCATION:Bigfork Library\, 186 Bridge Street\, Bigfork\, MT\, 59911\, United States
CATEGORIES:Kids Program,Storytime
END:VEVENT
BEGIN:VEVENT
DTSTART;TZID=America/Denver:20250624T103000
DTEND;TZID=America/Denver:20250624T123000
DTSTAMP:20260420T021941
CREATED:20250327T163555Z
LAST-MODIFIED:20250724T190623Z
UID:10003811-1750761000-1750768200@flatheadcountylibrary.org
SUMMARY:Genealogy Class
DESCRIPTION:Join instructors from Kalispell’s FamilySearch Center for genealogy classes geared toward individuals and families aged 13 and older. Learn personal researching skills\, connect with family history groups\, and get expert help navigating genealogical sites. This program will repeat every 2nd & 4Th Tuesday each month.
URL:https://flatheadcountylibrary.org/event/genealogy-class/2025-06-24/
LOCATION:Bigfork Library\, 186 Bridge Street\, Bigfork\, MT\, 59911\, United States
CATEGORIES:Adult Program
END:VEVENT
BEGIN:VEVENT
DTSTART;TZID=America/Denver:20250620T110000
DTEND;TZID=America/Denver:20250620T120000
DTSTAMP:20260420T021941
CREATED:20250516T214453Z
LAST-MODIFIED:20250623T145805Z
UID:10003783-1750417200-1750420800@flatheadcountylibrary.org
SUMMARY:Baby & Toddler Storytime (0-3) - Bigfork
DESCRIPTION:Make connections with other parents and learn fun techniques for using books\, songs\, and rhymes at home. Rhythm and repetition will get your little one recognizing and requesting favorite songs. Especially for ages birth – 3.
URL:https://flatheadcountylibrary.org/event/baby-toddler-storytime-0-3-bigfork/2025-06-20/
LOCATION:Bigfork Library\, 186 Bridge Street\, Bigfork\, MT\, 59911\, United States
CATEGORIES:Storytime
END:VEVENT
BEGIN:VEVENT
DTSTART;TZID=America/Denver:20250619T110000
DTEND;TZID=America/Denver:20250619T120000
DTSTAMP:20260420T021941
CREATED:20250516T212654Z
LAST-MODIFIED:20250516T212724Z
UID:10003684-1750330800-1750334400@flatheadcountylibrary.org
SUMMARY:Early Learners (3-5) - Bigfork
DESCRIPTION:Reading and exploring are combined to keep your summer busy and fun! Join us weekly at the library for STEAM inspired activities! Ages 3-5 and caregivers.
URL:https://flatheadcountylibrary.org/event/early-learners-3-5-columbia-falls-2/2025-06-19/
LOCATION:Bigfork Library\, 186 Bridge Street\, Bigfork\, MT\, 59911\, United States
CATEGORIES:Kids Program,Storytime
END:VEVENT
BEGIN:VEVENT
DTSTART;TZID=America/Denver:20250618T110000
DTEND;TZID=America/Denver:20250618T130000
DTSTAMP:20260420T021941
CREATED:20250516T213313Z
LAST-MODIFIED:20250516T213313Z
UID:10003747-1750244400-1750251600@flatheadcountylibrary.org
SUMMARY:Summer Reading Experience Kids (6-10) - Bigfork
DESCRIPTION:Reading and exploring are combined to keep your summer busy and fun! Join us weekly at the library for STEAM inspired activities! Kids ages 6-10 and caregivers.
URL:https://flatheadcountylibrary.org/event/summer-reading-experience-kids-6-10-bigfork/2025-06-18/
LOCATION:Bigfork Library\, 186 Bridge Street\, Bigfork\, MT\, 59911\, United States
CATEGORIES:Kids Program
END:VEVENT
BEGIN:VEVENT
DTSTART;TZID=America/Denver:20250617T110000
DTEND;TZID=America/Denver:20250617T120000
DTSTAMP:20260420T021941
CREATED:20250516T212654Z
LAST-MODIFIED:20250516T212724Z
UID:10003699-1750158000-1750161600@flatheadcountylibrary.org
SUMMARY:Early Learners (3-5) - Bigfork
DESCRIPTION:Reading and exploring are combined to keep your summer busy and fun! Join us weekly at the library for STEAM inspired activities! Ages 3-5 and caregivers.
URL:https://flatheadcountylibrary.org/event/early-learners-3-5-columbia-falls-2/2025-06-17/
LOCATION:Bigfork Library\, 186 Bridge Street\, Bigfork\, MT\, 59911\, United States
CATEGORIES:Kids Program,Storytime
END:VEVENT
BEGIN:VEVENT
DTSTART;VALUE=DATE:20250617
DTEND;VALUE=DATE:20250621
DTSTAMP:20260420T021941
CREATED:20250521T151451Z
LAST-MODIFIED:20250521T151451Z
UID:10003816-1750118400-1750463999@flatheadcountylibrary.org
SUMMARY:DIY Paper Lantern Craft to Celebrate the Bridge Street Bridge
DESCRIPTION:
URL:https://flatheadcountylibrary.org/event/diy-paper-lantern-craft-to-celebrate-the-bridge-street-bridge/
LOCATION:Bigfork Library\, 186 Bridge Street\, Bigfork\, MT\, 59911\, United States
CATEGORIES:Adult Program,Kids Program,Teen Program
END:VEVENT
BEGIN:VEVENT
DTSTART;TZID=America/Denver:20250614T100000
DTEND;TZID=America/Denver:20250614T140000
DTSTAMP:20260420T021941
CREATED:20250521T151716Z
LAST-MODIFIED:20250521T151716Z
UID:10003817-1749895200-1749909600@flatheadcountylibrary.org
SUMMARY:Montana Art Therapy Association Reception and Presentation
DESCRIPTION:Join us for an art reception celebrating Montana Art Therapy Association’s Under the Surface exhibit on display at the Bigfork Library from June through August 2025. Learn about art therapy and mental health in a presentation starting at 10:30am\, followed by an experiential mixed media/collage art-making workshop. \n\n Reception: 10am-2pm\,  Presentation: 10:30am-11:30am
URL:https://flatheadcountylibrary.org/event/montana-art-therapy-association-reception-and-presentation/
LOCATION:Bigfork Library\, 186 Bridge Street\, Bigfork\, MT\, 59911\, United States
CATEGORIES:Adult Program
END:VEVENT
BEGIN:VEVENT
DTSTART;TZID=America/Denver:20250613T110000
DTEND;TZID=America/Denver:20250613T120000
DTSTAMP:20260420T021941
CREATED:20250516T214453Z
LAST-MODIFIED:20250623T145805Z
UID:10003782-1749812400-1749816000@flatheadcountylibrary.org
SUMMARY:Baby & Toddler Storytime (0-3) - Bigfork
DESCRIPTION:Make connections with other parents and learn fun techniques for using books\, songs\, and rhymes at home. Rhythm and repetition will get your little one recognizing and requesting favorite songs. Especially for ages birth – 3.
URL:https://flatheadcountylibrary.org/event/baby-toddler-storytime-0-3-bigfork/2025-06-13/
LOCATION:Bigfork Library\, 186 Bridge Street\, Bigfork\, MT\, 59911\, United States
CATEGORIES:Storytime
END:VEVENT
BEGIN:VEVENT
DTSTART;TZID=America/Denver:20250612T100000
DTEND;TZID=America/Denver:20250612T160000
DTSTAMP:20260420T021941
CREATED:20250516T211631Z
LAST-MODIFIED:20250516T211631Z
UID:10003641-1749722400-1749744000@flatheadcountylibrary.org
SUMMARY:Play Expo! - Bigfork
DESCRIPTION:Our summer kickoff is back with a play expo in all locations. Join us anytime between 10am-4pm for art\, sensory play\, movement and science! Don’t forget to pick up your Summer Reading Experience gameboard while you are here.
URL:https://flatheadcountylibrary.org/event/play-expo-bigfork/
LOCATION:Bigfork Library\, 186 Bridge Street\, Bigfork\, MT\, 59911\, United States
CATEGORIES:Kids Program
END:VEVENT
BEGIN:VEVENT
DTSTART;TZID=America/Denver:20250610T103000
DTEND;TZID=America/Denver:20250610T123000
DTSTAMP:20260420T021941
CREATED:20250327T163555Z
LAST-MODIFIED:20250724T190623Z
UID:10003810-1749551400-1749558600@flatheadcountylibrary.org
SUMMARY:Genealogy Class
DESCRIPTION:Join instructors from Kalispell’s FamilySearch Center for genealogy classes geared toward individuals and families aged 13 and older. Learn personal researching skills\, connect with family history groups\, and get expert help navigating genealogical sites. This program will repeat every 2nd & 4Th Tuesday each month.
URL:https://flatheadcountylibrary.org/event/genealogy-class/2025-06-10/
LOCATION:Bigfork Library\, 186 Bridge Street\, Bigfork\, MT\, 59911\, United States
CATEGORIES:Adult Program
END:VEVENT
BEGIN:VEVENT
DTSTART;VALUE=DATE:20250603
DTEND;VALUE=DATE:20250831
DTSTAMP:20260420T021941
CREATED:20250516T213506Z
LAST-MODIFIED:20250528T143622Z
UID:10003755-1748908800-1756598399@flatheadcountylibrary.org
SUMMARY:Teen Summer Reading Experience Game Board
DESCRIPTION:Grab a Teen Summer Experience Gameboard at any Flathead County Library location to begin your summer quest! As part of Summer Experience 2025\, the gameboard invites teens to read\, explore\, and create. Flip through the gameboard’s pages to find the Reading Challenge\, interactive map\, and summer schedule of Teen Workshops\, including info on a special edition of our Crafternoons program. Finish the gameboard any time over the summer to claim your prizes! \n\n Sponsored By: Don K Family Foundation\, Glacier Grins\, Glacier Bank\, Freedom Bank\, Town Pump\, Columbia Falls Ace\, & Cinemark
URL:https://flatheadcountylibrary.org/event/teen-summer-reading-experience-game-board/
LOCATION:Kalispell Library\, 247 1st Ave East\, Kalispell\, MT\, 59901\, United States
CATEGORIES:Teen Program
END:VEVENT
BEGIN:VEVENT
DTSTART;VALUE=DATE:20250603
DTEND;VALUE=DATE:20250812
DTSTAMP:20260420T021941
CREATED:20250516T211852Z
LAST-MODIFIED:20250528T143516Z
UID:10003642-1748908800-1754956799@flatheadcountylibrary.org
SUMMARY:Kids Summer Reading Experience
DESCRIPTION:Reading and exploring are combined to keep your summer busy and fun! Pick up a gameboard to challenge your reading adventure at home and join us weekly at the library for STEAM inspired activities!  June 3 – August 11: See schedule for details. \n\n Sponsored By: Don K Family Foundation\, Glacier Grins\, Kalispell Parks & Recreation\, Glacier Bank\, Freedom Bank\, Town Pump\, & Columbia Falls Ace
URL:https://flatheadcountylibrary.org/event/kids-summer-reading-experience/
LOCATION:Kalispell Library\, 247 1st Ave East\, Kalispell\, MT\, 59901\, United States
CATEGORIES:Kids Program
END:VEVENT
BEGIN:VEVENT
DTSTART;VALUE=DATE:20250602
DTEND;VALUE=DATE:20250603
DTSTAMP:20260420T021941
CREATED:20250521T152047Z
LAST-MODIFIED:20250521T152047Z
UID:10003818-1748822400-1748908799@flatheadcountylibrary.org
SUMMARY:Libraries Closed
DESCRIPTION:All locations closed Monday\, June 2 for staff in-service day.
URL:https://flatheadcountylibrary.org/event/libraries-closed/
LOCATION:Bigfork Library\, 186 Bridge Street\, Bigfork\, MT\, 59911\, United States
END:VEVENT
BEGIN:VEVENT
DTSTART;TZID=America/Denver:20250527T103000
DTEND;TZID=America/Denver:20250527T123000
DTSTAMP:20260420T021941
CREATED:20250327T163555Z
LAST-MODIFIED:20250724T190623Z
UID:10003614-1748341800-1748349000@flatheadcountylibrary.org
SUMMARY:Genealogy Class
DESCRIPTION:Join instructors from Kalispell’s FamilySearch Center for genealogy classes geared toward individuals and families aged 13 and older. Learn personal researching skills\, connect with family history groups\, and get expert help navigating genealogical sites. This program will repeat every 2nd & 4Th Tuesday each month.
URL:https://flatheadcountylibrary.org/event/genealogy-class/2025-05-27/
LOCATION:Bigfork Library\, 186 Bridge Street\, Bigfork\, MT\, 59911\, United States
CATEGORIES:Adult Program
END:VEVENT
BEGIN:VEVENT
DTSTART;TZID=America/Denver:20250524T120000
DTEND;TZID=America/Denver:20250524T140000
DTSTAMP:20260420T021941
CREATED:20250304T004745Z
LAST-MODIFIED:20250327T161832Z
UID:10002666-1748088000-1748095200@flatheadcountylibrary.org
SUMMARY:Sensory Play Saturday - Bigfork
DESCRIPTION:Sink your hands into a spectacular tub of fun! Mix\, measure\, pour or possibly search for tiny treasures. Children of all ages are welcome!
URL:https://flatheadcountylibrary.org/event/sensory-play-saturday-bigfork/2025-05-24/
LOCATION:Bigfork Library\, 186 Bridge Street\, Bigfork\, MT\, 59911\, United States
END:VEVENT
BEGIN:VEVENT
DTSTART;TZID=America/Denver:20250522T110000
DTEND;TZID=America/Denver:20250522T120000
DTSTAMP:20260420T021941
CREATED:20250301T005419Z
LAST-MODIFIED:20250327T165035Z
UID:10001323-1747911600-1747915200@flatheadcountylibrary.org
SUMMARY:Preschool Storytime - Bigfork
DESCRIPTION:Enjoy longer stories and musical activities that promote listening skills and following directions. Following storytime\, children can explore activities that highlight math\, art\, dramatic play and science. Especially for ages 4 and 5.
URL:https://flatheadcountylibrary.org/event/preschool-storytime-bigfork/2025-05-22/
LOCATION:Bigfork Library\, 186 Bridge Street\, Bigfork\, MT\, 59911\, United States
CATEGORIES:Storytime
END:VEVENT
BEGIN:VEVENT
DTSTART;TZID=America/Denver:20250521T153000
DTEND;TZID=America/Denver:20250521T173000
DTSTAMP:20260420T021941
CREATED:20250304T003348Z
LAST-MODIFIED:20250327T162619Z
UID:10003610-1747841400-1747848600@flatheadcountylibrary.org
SUMMARY:Kids Wednesday Workshop - Bigfork
DESCRIPTION:Join us every Wednesday for hands-on exploration\, including LEGO Club and STEAM Space (science\, technology\, engineering\, art\, and math activities). We’ll create art\, play games\, construct new worlds with LEGOs\, tackle an engineering challenge or learn a new craft. Especially for kids in grades K-5. Must be accompanied by an adult.
URL:https://flatheadcountylibrary.org/event/kids-wednesday-workshop-bigfork/2025-05-21/
LOCATION:Bigfork Library\, 186 Bridge Street\, Bigfork\, MT\, 59911\, United States
CATEGORIES:Kids Program
END:VEVENT
END:VCALENDAR