BEGIN:VCALENDAR
VERSION:2.0
PRODID:-//Flathead County Library - ECPv6.15.20//NONSGML v1.0//EN
CALSCALE:GREGORIAN
METHOD:PUBLISH
X-ORIGINAL-URL:https://flatheadcountylibrary.org
X-WR-CALDESC:Events for Flathead County Library
REFRESH-INTERVAL;VALUE=DURATION:PT1H
X-Robots-Tag:noindex
X-PUBLISHED-TTL:PT1H
BEGIN:VTIMEZONE
TZID:America/Denver
BEGIN:DAYLIGHT
TZOFFSETFROM:-0700
TZOFFSETTO:-0600
TZNAME:MDT
DTSTART:20250309T090000
END:DAYLIGHT
BEGIN:STANDARD
TZOFFSETFROM:-0600
TZOFFSETTO:-0700
TZNAME:MST
DTSTART:20251102T080000
END:STANDARD
BEGIN:DAYLIGHT
TZOFFSETFROM:-0700
TZOFFSETTO:-0600
TZNAME:MDT
DTSTART:20260308T090000
END:DAYLIGHT
BEGIN:STANDARD
TZOFFSETFROM:-0600
TZOFFSETTO:-0700
TZNAME:MST
DTSTART:20261101T080000
END:STANDARD
BEGIN:DAYLIGHT
TZOFFSETFROM:-0700
TZOFFSETTO:-0600
TZNAME:MDT
DTSTART:20270314T090000
END:DAYLIGHT
BEGIN:STANDARD
TZOFFSETFROM:-0600
TZOFFSETTO:-0700
TZNAME:MST
DTSTART:20271107T080000
END:STANDARD
END:VTIMEZONE
BEGIN:VEVENT
DTSTART;TZID=America/Denver:20260309T170000
DTEND;TZID=America/Denver:20260309T170000
DTSTAMP:20260420T150539
CREATED:20260214T194500Z
LAST-MODIFIED:20260220T222843Z
UID:10006168-1773075600-1773075600@flatheadcountylibrary.org
SUMMARY:Toddler Storytime-Kalispell
DESCRIPTION:Sing\, dance\, read and explore while also building social and emotional skills. This fun and interactive program is for toddlers who love to move! Caregiver participation encouraged. Especially for ages 2-4.
URL:https://flatheadcountylibrary.org/event/toddler-storytime-kalispell-2-2/2026-03-09/
LOCATION:Kalispell Library\, 247 1st Ave East\, Kalispell\, MT\, 59901\, United States
CATEGORIES:Storytime
END:VEVENT
BEGIN:VEVENT
DTSTART;VALUE=DATE:20260309
DTEND;VALUE=DATE:20260419
DTSTAMP:20260420T150539
CREATED:20260225T213327Z
LAST-MODIFIED:20260228T181216Z
UID:10006300-1773014400-1776556799@flatheadcountylibrary.org
SUMMARY:Spring Bookmark Contest for Teens (GRADES 6-12)
DESCRIPTION:Our Annual Spring Bookmark Contest for Teens is back and this year’s theme is Underwater. Create a bookmark with a deep-sea scene and submit your design using the form at: flatheadcountylibrary.org/programs/photo-gallery/.\nOr pick up a registration form in the Teen Zone at any Flathead County Library location.\n    Contest entry period: March 9 – April 18\n    Voting period:  April 1 – 18\n    Winners announced:  April 27
URL:https://flatheadcountylibrary.org/event/spring-bookmark-contest-for-teens-grades-6-12/
LOCATION:Kalispell Library\, 247 1st Ave East\, Kalispell\, MT\, 59901\, United States
CATEGORIES:Teen Program
END:VEVENT
BEGIN:VEVENT
DTSTART;VALUE=DATE:20260306
DTEND;VALUE=DATE:20260307
DTSTAMP:20260420T150539
CREATED:20260213T222300Z
LAST-MODIFIED:20260213T222315Z
UID:10005996-1772755200-1772841599@flatheadcountylibrary.org
SUMMARY:Teen Switch Days-Kalispell
DESCRIPTION:Bring your friends or come solo and battle it out on the Nintendo Switch in our Teen Zone.
URL:https://flatheadcountylibrary.org/event/teen-switch-days-kalispell-2/2026-03-06/
LOCATION:Kalispell Library\, 247 1st Ave East\, Kalispell\, MT\, 59901\, United States
CATEGORIES:Teen Program
END:VEVENT
BEGIN:VEVENT
DTSTART;VALUE=DATE:20260305
DTEND;VALUE=DATE:20260306
DTSTAMP:20260420T150539
CREATED:20260213T222300Z
LAST-MODIFIED:20260213T222315Z
UID:10005995-1772668800-1772755199@flatheadcountylibrary.org
SUMMARY:Teen Switch Days-Kalispell
DESCRIPTION:Bring your friends or come solo and battle it out on the Nintendo Switch in our Teen Zone.
URL:https://flatheadcountylibrary.org/event/teen-switch-days-kalispell-2/2026-03-05/
LOCATION:Kalispell Library\, 247 1st Ave East\, Kalispell\, MT\, 59901\, United States
CATEGORIES:Teen Program
END:VEVENT
BEGIN:VEVENT
DTSTART;TZID=America/Denver:20260304T143000
DTEND;TZID=America/Denver:20260304T160000
DTSTAMP:20260420T150539
CREATED:20260207T172617Z
LAST-MODIFIED:20260207T172617Z
UID:10005977-1772634600-1772640000@flatheadcountylibrary.org
SUMMARY:Fandom (GRADES 6-12) – Motif Stamp Making
DESCRIPTION:Come chill with us in the Teen Zone on the 1st Wednesday every month. We’ll watch anime\, create unique merchandise\, and totally geek out.
URL:https://flatheadcountylibrary.org/event/fandom-grades-6-12-motif-stamp-making/
LOCATION:Kalispell Library\, 247 1st Ave East\, Kalispell\, MT\, 59901\, United States
CATEGORIES:Teen Program
END:VEVENT
BEGIN:VEVENT
DTSTART;TZID=America/Denver:20260304T140000
DTEND;TZID=America/Denver:20260304T170000
DTSTAMP:20260420T150539
CREATED:20260115T220649Z
LAST-MODIFIED:20260207T171610Z
UID:10005975-1772632800-1772643600@flatheadcountylibrary.org
SUMMARY:Wednesday Workshop: Wild Explorers-Kalispell
DESCRIPTION:Join us for Wild Explorers\, an exciting hands-on workshop where kids dive into the wonders of the natural world with the help of special guest experts from our local outdoor education community.
URL:https://flatheadcountylibrary.org/event/wednesday-workshop-wild-explorers-kalispell/2026-03-04/
LOCATION:Kalispell Library\, 247 1st Ave East\, Kalispell\, MT\, 59901\, United States
CATEGORIES:Kids Program
END:VEVENT
BEGIN:VEVENT
DTSTART;TZID=America/Denver:20260304T110000
DTEND;TZID=America/Denver:20260304T120000
DTSTAMP:20260420T150539
CREATED:20260214T223817Z
LAST-MODIFIED:20260214T223818Z
UID:10004698-1772622000-1772625600@flatheadcountylibrary.org
SUMMARY:Baby Storytime-Kalispell
DESCRIPTION:Make connections with other parents and learn fun techniques for using books\, songs\, and rhymes at home. Rhythm and repetition will get your little one recognizing and requesting favorite songs. Especially for ages birth to 24 months.
URL:https://flatheadcountylibrary.org/event/baby-storytime-3-2/2026-03-04/
LOCATION:Kalispell Library\, 247 1st Ave East\, Kalispell\, MT\, 59901\, United States
CATEGORIES:Storytime
END:VEVENT
BEGIN:VEVENT
DTSTART;VALUE=DATE:20260304
DTEND;VALUE=DATE:20260305
DTSTAMP:20260420T150539
CREATED:20260213T222300Z
LAST-MODIFIED:20260213T222315Z
UID:10005994-1772582400-1772668799@flatheadcountylibrary.org
SUMMARY:Teen Switch Days-Kalispell
DESCRIPTION:Bring your friends or come solo and battle it out on the Nintendo Switch in our Teen Zone.
URL:https://flatheadcountylibrary.org/event/teen-switch-days-kalispell-2/2026-03-04/
LOCATION:Kalispell Library\, 247 1st Ave East\, Kalispell\, MT\, 59901\, United States
CATEGORIES:Teen Program
END:VEVENT
BEGIN:VEVENT
DTSTART;TZID=America/Denver:20260303T110000
DTEND;TZID=America/Denver:20260303T120000
DTSTAMP:20260420T150539
CREATED:20260214T225024Z
LAST-MODIFIED:20260404T155622Z
UID:10006367-1772535600-1772539200@flatheadcountylibrary.org
SUMMARY:Preschool Storytime-Kalispell
DESCRIPTION:Enjoy longer stories and musical activities that promote listening skills and following directions. Following storytime\, children can explore activities that highlight math\, art\, dramatic play\, and science. Especially for ages 4 and 5.
URL:https://flatheadcountylibrary.org/event/preschool-storytime-kalispell-3-2/2026-03-03/
LOCATION:Kalispell Library\, 247 1st Ave East\, Kalispell\, MT\, 59901\, United States
CATEGORIES:Storytime
END:VEVENT
BEGIN:VEVENT
DTSTART;TZID=America/Denver:20260303T103000
DTEND;TZID=America/Denver:20260303T123000
DTSTAMP:20260420T150539
CREATED:20251204T212438Z
LAST-MODIFIED:20251204T212438Z
UID:10004633-1772533800-1772541000@flatheadcountylibrary.org
SUMMARY:Genealogy Class
DESCRIPTION:Join instructors from Kalispell’s FamilySearch Center for genealogy classes geared toward individuals and families aged 13 and older. Learn personal researching skills\, connect with family history groups\, and get expert help navigating genealogical sites. This program will repeat every 1st and 3rd Tuesday in Kalispell.
URL:https://flatheadcountylibrary.org/event/genealogy-class-6/2026-03-03/
LOCATION:Kalispell Library\, 247 1st Ave East\, Kalispell\, MT\, 59901\, United States
CATEGORIES:Adult Program
END:VEVENT
BEGIN:VEVENT
DTSTART;TZID=America/Denver:20260302T170000
DTEND;TZID=America/Denver:20260302T170000
DTSTAMP:20260420T150539
CREATED:20260214T194500Z
LAST-MODIFIED:20260220T222843Z
UID:10006167-1772470800-1772470800@flatheadcountylibrary.org
SUMMARY:Toddler Storytime-Kalispell
DESCRIPTION:Sing\, dance\, read and explore while also building social and emotional skills. This fun and interactive program is for toddlers who love to move! Caregiver participation encouraged. Especially for ages 2-4.
URL:https://flatheadcountylibrary.org/event/toddler-storytime-kalispell-2-2/2026-03-02/
LOCATION:Kalispell Library\, 247 1st Ave East\, Kalispell\, MT\, 59901\, United States
CATEGORIES:Storytime
END:VEVENT
BEGIN:VEVENT
DTSTART;VALUE=DATE:20260227
DTEND;VALUE=DATE:20260228
DTSTAMP:20260420T150539
CREATED:20260213T222300Z
LAST-MODIFIED:20260213T222315Z
UID:10005902-1772150400-1772236799@flatheadcountylibrary.org
SUMMARY:Teen Switch Days-Kalispell
DESCRIPTION:Bring your friends or come solo and battle it out on the Nintendo Switch in our Teen Zone.
URL:https://flatheadcountylibrary.org/event/teen-switch-days-kalispell-2/2026-02-27/
LOCATION:Kalispell Library\, 247 1st Ave East\, Kalispell\, MT\, 59901\, United States
CATEGORIES:Teen Program
END:VEVENT
BEGIN:VEVENT
DTSTART;VALUE=DATE:20260226
DTEND;VALUE=DATE:20260227
DTSTAMP:20260420T150539
CREATED:20260213T222300Z
LAST-MODIFIED:20260213T222315Z
UID:10005740-1772064000-1772150399@flatheadcountylibrary.org
SUMMARY:Teen Switch Days-Kalispell
DESCRIPTION:Bring your friends or come solo and battle it out on the Nintendo Switch in our Teen Zone.
URL:https://flatheadcountylibrary.org/event/teen-switch-days-kalispell-2/2026-02-26/
LOCATION:Kalispell Library\, 247 1st Ave East\, Kalispell\, MT\, 59901\, United States
CATEGORIES:Teen Program
END:VEVENT
BEGIN:VEVENT
DTSTART;TZID=America/Denver:20260225T140000
DTEND;TZID=America/Denver:20260225T170000
DTSTAMP:20260420T150539
CREATED:20260207T163740Z
LAST-MODIFIED:20260207T163741Z
UID:10004941-1772028000-1772038800@flatheadcountylibrary.org
SUMMARY:Kids Wednesday Workshop (Grades K-5)-Kalispell
DESCRIPTION:Join us every Wednesday for hands-on exploration\, including LEGO Club and STEAM Space (science\, technology\, engineering\, art\, and math activities). We’ll create art\, play games\, construct new worlds with LEGOs\, tackle an engineering challenge or learn a new craft. Especially for kids in grades K-5. Must be accompanied by an adult.
URL:https://flatheadcountylibrary.org/event/kids-wednesday-workshop-grades-k-5-kalispell-2/2026-02-25/
LOCATION:Kalispell Library\, 247 1st Ave East\, Kalispell\, MT\, 59901\, United States
CATEGORIES:Kids Program
END:VEVENT
BEGIN:VEVENT
DTSTART;TZID=America/Denver:20260225T110000
DTEND;TZID=America/Denver:20260225T120000
DTSTAMP:20260420T150539
CREATED:20260214T223817Z
LAST-MODIFIED:20260214T223818Z
UID:10004697-1772017200-1772020800@flatheadcountylibrary.org
SUMMARY:Baby Storytime-Kalispell
DESCRIPTION:Make connections with other parents and learn fun techniques for using books\, songs\, and rhymes at home. Rhythm and repetition will get your little one recognizing and requesting favorite songs. Especially for ages birth to 24 months.
URL:https://flatheadcountylibrary.org/event/baby-storytime-3-2/2026-02-25/
LOCATION:Kalispell Library\, 247 1st Ave East\, Kalispell\, MT\, 59901\, United States
CATEGORIES:Storytime
END:VEVENT
BEGIN:VEVENT
DTSTART;VALUE=DATE:20260225
DTEND;VALUE=DATE:20260226
DTSTAMP:20260420T150539
CREATED:20260213T222300Z
LAST-MODIFIED:20260213T222315Z
UID:10005739-1771977600-1772063999@flatheadcountylibrary.org
SUMMARY:Teen Switch Days-Kalispell
DESCRIPTION:Bring your friends or come solo and battle it out on the Nintendo Switch in our Teen Zone.
URL:https://flatheadcountylibrary.org/event/teen-switch-days-kalispell-2/2026-02-25/
LOCATION:Kalispell Library\, 247 1st Ave East\, Kalispell\, MT\, 59901\, United States
CATEGORIES:Teen Program
END:VEVENT
BEGIN:VEVENT
DTSTART;TZID=America/Denver:20260224T110000
DTEND;TZID=America/Denver:20260224T120000
DTSTAMP:20260420T150539
CREATED:20260214T225024Z
LAST-MODIFIED:20260404T155622Z
UID:10006366-1771930800-1771934400@flatheadcountylibrary.org
SUMMARY:Preschool Storytime-Kalispell
DESCRIPTION:Enjoy longer stories and musical activities that promote listening skills and following directions. Following storytime\, children can explore activities that highlight math\, art\, dramatic play\, and science. Especially for ages 4 and 5.
URL:https://flatheadcountylibrary.org/event/preschool-storytime-kalispell-3-2/2026-02-24/
LOCATION:Kalispell Library\, 247 1st Ave East\, Kalispell\, MT\, 59901\, United States
CATEGORIES:Storytime
END:VEVENT
BEGIN:VEVENT
DTSTART;TZID=America/Denver:20260223T170000
DTEND;TZID=America/Denver:20260223T170000
DTSTAMP:20260420T150539
CREATED:20260214T194500Z
LAST-MODIFIED:20260220T222843Z
UID:10006166-1771866000-1771866000@flatheadcountylibrary.org
SUMMARY:Toddler Storytime-Kalispell
DESCRIPTION:Sing\, dance\, read and explore while also building social and emotional skills. This fun and interactive program is for toddlers who love to move! Caregiver participation encouraged. Especially for ages 2-4.
URL:https://flatheadcountylibrary.org/event/toddler-storytime-kalispell-2-2/2026-02-23/
LOCATION:Kalispell Library\, 247 1st Ave East\, Kalispell\, MT\, 59901\, United States
CATEGORIES:Storytime
END:VEVENT
BEGIN:VEVENT
DTSTART;VALUE=DATE:20260220
DTEND;VALUE=DATE:20260221
DTSTAMP:20260420T150539
CREATED:20260213T222300Z
LAST-MODIFIED:20260213T222315Z
UID:10005738-1771545600-1771631999@flatheadcountylibrary.org
SUMMARY:Teen Switch Days-Kalispell
DESCRIPTION:Bring your friends or come solo and battle it out on the Nintendo Switch in our Teen Zone.
URL:https://flatheadcountylibrary.org/event/teen-switch-days-kalispell-2/2026-02-20/
LOCATION:Kalispell Library\, 247 1st Ave East\, Kalispell\, MT\, 59901\, United States
CATEGORIES:Teen Program
END:VEVENT
BEGIN:VEVENT
DTSTART;VALUE=DATE:20260219
DTEND;VALUE=DATE:20260220
DTSTAMP:20260420T150539
CREATED:20260213T222300Z
LAST-MODIFIED:20260213T222315Z
UID:10005737-1771459200-1771545599@flatheadcountylibrary.org
SUMMARY:Teen Switch Days-Kalispell
DESCRIPTION:Bring your friends or come solo and battle it out on the Nintendo Switch in our Teen Zone.
URL:https://flatheadcountylibrary.org/event/teen-switch-days-kalispell-2/2026-02-19/
LOCATION:Kalispell Library\, 247 1st Ave East\, Kalispell\, MT\, 59901\, United States
CATEGORIES:Teen Program
END:VEVENT
BEGIN:VEVENT
DTSTART;TZID=America/Denver:20260218T143000
DTEND;TZID=America/Denver:20260218T160000
DTSTAMP:20260420T150539
CREATED:20260115T222950Z
LAST-MODIFIED:20260115T222950Z
UID:10005729-1771425000-1771430400@flatheadcountylibrary.org
SUMMARY:Challenge Accepted (GRADES 6-12) - DIY Bouncy Balls
DESCRIPTION:Do you have what it takes to win an engineering\, tech\, or gaming challenge? See us once a month to get competitive\, get creative\, and discover something new!
URL:https://flatheadcountylibrary.org/event/challenge-accepted-grades-6-12-diy-bouncy-balls/
LOCATION:Kalispell Library\, 247 1st Ave East\, Kalispell\, MT\, 59901\, United States
CATEGORIES:Teen Program
END:VEVENT
BEGIN:VEVENT
DTSTART;TZID=America/Denver:20260218T140000
DTEND;TZID=America/Denver:20260218T170000
DTSTAMP:20260420T150539
CREATED:20260207T163740Z
LAST-MODIFIED:20260207T163741Z
UID:10004940-1771423200-1771434000@flatheadcountylibrary.org
SUMMARY:Kids Wednesday Workshop (Grades K-5)-Kalispell
DESCRIPTION:Join us every Wednesday for hands-on exploration\, including LEGO Club and STEAM Space (science\, technology\, engineering\, art\, and math activities). We’ll create art\, play games\, construct new worlds with LEGOs\, tackle an engineering challenge or learn a new craft. Especially for kids in grades K-5. Must be accompanied by an adult.
URL:https://flatheadcountylibrary.org/event/kids-wednesday-workshop-grades-k-5-kalispell-2/2026-02-18/
LOCATION:Kalispell Library\, 247 1st Ave East\, Kalispell\, MT\, 59901\, United States
CATEGORIES:Kids Program
END:VEVENT
BEGIN:VEVENT
DTSTART;TZID=America/Denver:20260218T110000
DTEND;TZID=America/Denver:20260218T120000
DTSTAMP:20260420T150539
CREATED:20260214T223817Z
LAST-MODIFIED:20260214T223818Z
UID:10004696-1771412400-1771416000@flatheadcountylibrary.org
SUMMARY:Baby Storytime-Kalispell
DESCRIPTION:Make connections with other parents and learn fun techniques for using books\, songs\, and rhymes at home. Rhythm and repetition will get your little one recognizing and requesting favorite songs. Especially for ages birth to 24 months.
URL:https://flatheadcountylibrary.org/event/baby-storytime-3-2/2026-02-18/
LOCATION:Kalispell Library\, 247 1st Ave East\, Kalispell\, MT\, 59901\, United States
CATEGORIES:Storytime
END:VEVENT
BEGIN:VEVENT
DTSTART;VALUE=DATE:20260218
DTEND;VALUE=DATE:20260219
DTSTAMP:20260420T150539
CREATED:20260213T222300Z
LAST-MODIFIED:20260213T222315Z
UID:10005736-1771372800-1771459199@flatheadcountylibrary.org
SUMMARY:Teen Switch Days-Kalispell
DESCRIPTION:Bring your friends or come solo and battle it out on the Nintendo Switch in our Teen Zone.
URL:https://flatheadcountylibrary.org/event/teen-switch-days-kalispell-2/2026-02-18/
LOCATION:Kalispell Library\, 247 1st Ave East\, Kalispell\, MT\, 59901\, United States
CATEGORIES:Teen Program
END:VEVENT
BEGIN:VEVENT
DTSTART;TZID=America/Denver:20260217T110000
DTEND;TZID=America/Denver:20260217T120000
DTSTAMP:20260420T150539
CREATED:20260214T225024Z
LAST-MODIFIED:20260404T155622Z
UID:10006365-1771326000-1771329600@flatheadcountylibrary.org
SUMMARY:Preschool Storytime-Kalispell
DESCRIPTION:Enjoy longer stories and musical activities that promote listening skills and following directions. Following storytime\, children can explore activities that highlight math\, art\, dramatic play\, and science. Especially for ages 4 and 5.
URL:https://flatheadcountylibrary.org/event/preschool-storytime-kalispell-3-2/2026-02-17/
LOCATION:Kalispell Library\, 247 1st Ave East\, Kalispell\, MT\, 59901\, United States
CATEGORIES:Storytime
END:VEVENT
BEGIN:VEVENT
DTSTART;TZID=America/Denver:20260217T103000
DTEND;TZID=America/Denver:20260217T123000
DTSTAMP:20260420T150539
CREATED:20251204T212438Z
LAST-MODIFIED:20251204T212438Z
UID:10004632-1771324200-1771331400@flatheadcountylibrary.org
SUMMARY:Genealogy Class
DESCRIPTION:Join instructors from Kalispell’s FamilySearch Center for genealogy classes geared toward individuals and families aged 13 and older. Learn personal researching skills\, connect with family history groups\, and get expert help navigating genealogical sites. This program will repeat every 1st and 3rd Tuesday in Kalispell.
URL:https://flatheadcountylibrary.org/event/genealogy-class-6/2026-02-17/
LOCATION:Kalispell Library\, 247 1st Ave East\, Kalispell\, MT\, 59901\, United States
CATEGORIES:Adult Program
END:VEVENT
BEGIN:VEVENT
DTSTART;TZID=America/Denver:20260214T100000
DTEND;TZID=America/Denver:20260214T120000
DTSTAMP:20260420T150539
CREATED:20260214T184717Z
LAST-MODIFIED:20260214T184717Z
UID:10004661-1771063200-1771070400@flatheadcountylibrary.org
SUMMARY:Sensory Play Saturday-Kalispell
DESCRIPTION:Sink your hands into a spectacular tub of fun! Mix\, measure\, pour\, or possibly search for tiny treasures. Children of all ages are welcome to join us at each library one Saturday a month!
URL:https://flatheadcountylibrary.org/event/sensory-play-saturday-2-2/2026-02-14/
LOCATION:Kalispell Library\, 247 1st Ave East\, Kalispell\, MT\, 59901\, United States
CATEGORIES:Kids Program
END:VEVENT
BEGIN:VEVENT
DTSTART;VALUE=DATE:20260213
DTEND;VALUE=DATE:20260214
DTSTAMP:20260420T150539
CREATED:20260213T222300Z
LAST-MODIFIED:20260213T222315Z
UID:10005735-1770940800-1771027199@flatheadcountylibrary.org
SUMMARY:Teen Switch Days-Kalispell
DESCRIPTION:Bring your friends or come solo and battle it out on the Nintendo Switch in our Teen Zone.
URL:https://flatheadcountylibrary.org/event/teen-switch-days-kalispell-2/2026-02-13/
LOCATION:Kalispell Library\, 247 1st Ave East\, Kalispell\, MT\, 59901\, United States
CATEGORIES:Teen Program
END:VEVENT
BEGIN:VEVENT
DTSTART;VALUE=DATE:20260212
DTEND;VALUE=DATE:20260213
DTSTAMP:20260420T150539
CREATED:20260115T223309Z
LAST-MODIFIED:20260207T173612Z
UID:10005734-1770854400-1770940799@flatheadcountylibrary.org
SUMMARY:Teen Switch Days-Kalispell
DESCRIPTION:Bring your friends or come solo and battle it out on the Nintendo Switch in our Teen Zone.
URL:https://flatheadcountylibrary.org/event/teen-switch-days-kalispell/2026-02-12/
LOCATION:Kalispell Library\, 247 1st Ave East\, Kalispell\, MT\, 59901\, United States
END:VEVENT
BEGIN:VEVENT
DTSTART;TZID=America/Denver:20260211T143000
DTEND;TZID=America/Denver:20260211T160000
DTSTAMP:20260420T150539
CREATED:20260115T222814Z
LAST-MODIFIED:20260115T222814Z
UID:10005728-1770820200-1770825600@flatheadcountylibrary.org
SUMMARY:LVL-Up (GRADES 6-12) – Create a Creature
DESCRIPTION:Join us on the 2nd Wednesday of every month for LVL-Up. We’ll explore unique DIY projects\, learn new skills\, and expand your creativity.
URL:https://flatheadcountylibrary.org/event/lvl-up-grades-6-12-create-a-creature/
LOCATION:Kalispell Library\, 247 1st Ave East\, Kalispell\, MT\, 59901\, United States
CATEGORIES:Teen Program
END:VEVENT
END:VCALENDAR