BEGIN:VCALENDAR
VERSION:2.0
PRODID:-//Flathead County Library - ECPv6.15.20//NONSGML v1.0//EN
CALSCALE:GREGORIAN
METHOD:PUBLISH
X-ORIGINAL-URL:https://flatheadcountylibrary.org
X-WR-CALDESC:Events for Flathead County Library
REFRESH-INTERVAL;VALUE=DURATION:PT1H
X-Robots-Tag:noindex
X-PUBLISHED-TTL:PT1H
BEGIN:VTIMEZONE
TZID:America/Denver
BEGIN:DAYLIGHT
TZOFFSETFROM:-0700
TZOFFSETTO:-0600
TZNAME:MDT
DTSTART:20240310T090000
END:DAYLIGHT
BEGIN:STANDARD
TZOFFSETFROM:-0600
TZOFFSETTO:-0700
TZNAME:MST
DTSTART:20241103T080000
END:STANDARD
BEGIN:DAYLIGHT
TZOFFSETFROM:-0700
TZOFFSETTO:-0600
TZNAME:MDT
DTSTART:20250309T090000
END:DAYLIGHT
BEGIN:STANDARD
TZOFFSETFROM:-0600
TZOFFSETTO:-0700
TZNAME:MST
DTSTART:20251102T080000
END:STANDARD
BEGIN:DAYLIGHT
TZOFFSETFROM:-0700
TZOFFSETTO:-0600
TZNAME:MDT
DTSTART:20260308T090000
END:DAYLIGHT
BEGIN:STANDARD
TZOFFSETFROM:-0600
TZOFFSETTO:-0700
TZNAME:MST
DTSTART:20261101T080000
END:STANDARD
BEGIN:DAYLIGHT
TZOFFSETFROM:-0700
TZOFFSETTO:-0600
TZNAME:MDT
DTSTART:20270314T090000
END:DAYLIGHT
BEGIN:STANDARD
TZOFFSETFROM:-0600
TZOFFSETTO:-0700
TZNAME:MST
DTSTART:20271107T080000
END:STANDARD
END:VTIMEZONE
BEGIN:VEVENT
DTSTART;TZID=America/Denver:20260112T110000
DTEND;TZID=America/Denver:20260112T120000
DTSTAMP:20260421T040256
CREATED:20251219T182157Z
LAST-MODIFIED:20251219T182448Z
UID:10004836-1768215600-1768219200@flatheadcountylibrary.org
SUMMARY:Toddler Storytime-Kalispell
DESCRIPTION:Sing\, dance\, read and explore while also building social and emotional skills. This fun and interactive program is for toddlers who love to move! Caregiver participation encouraged. Especially for ages 2-4.
URL:https://flatheadcountylibrary.org/event/toddler-storytime-kalispell-2/2026-01-12/
LOCATION:Kalispell Library\, 247 1st Ave East\, Kalispell\, MT\, 59901\, United States
CATEGORIES:Storytime
END:VEVENT
BEGIN:VEVENT
DTSTART;TZID=America/Denver:20260110T100000
DTEND;TZID=America/Denver:20260110T120000
DTSTAMP:20260421T040256
CREATED:20251210T235816Z
LAST-MODIFIED:20251218T220355Z
UID:10004645-1768039200-1768046400@flatheadcountylibrary.org
SUMMARY:Sensory Play Saturday-Kalispell
DESCRIPTION:Sink your hands into a spectacular tub of fun! Mix\, measure\, pour\, or possibly search for tiny treasures. Children of all ages are welcome to join us at each library one Saturday a month!
URL:https://flatheadcountylibrary.org/event/sensory-play-saturday-2/
LOCATION:Kalispell Library\, 247 1st Ave East\, Kalispell\, MT\, 59901\, United States
CATEGORIES:Kids Program
END:VEVENT
BEGIN:VEVENT
DTSTART;TZID=America/Denver:20260107T143000
DTEND;TZID=America/Denver:20260107T160000
DTSTAMP:20260421T040256
CREATED:20251204T212951Z
LAST-MODIFIED:20251204T212951Z
UID:10004642-1767796200-1767801600@flatheadcountylibrary.org
SUMMARY:Fandom (GRADES 6-12) – Decoupage keychains
DESCRIPTION:Come chill with us in the Teen Zone on the 1st Wednesday every month. We’ll watch anime\, create unique merchandise\, and totally geek out.
URL:https://flatheadcountylibrary.org/event/fandom-grades-6-12-decoupage-keychains/
LOCATION:Kalispell Library\, 247 1st Ave East\, Kalispell\, MT\, 59901\, United States
CATEGORIES:Teen Program
END:VEVENT
BEGIN:VEVENT
DTSTART;TZID=America/Denver:20260107T140000
DTEND;TZID=America/Denver:20260107T170000
DTSTAMP:20260421T040256
CREATED:20251219T190006Z
LAST-MODIFIED:20251219T190006Z
UID:10004935-1767794400-1767805200@flatheadcountylibrary.org
SUMMARY:Kids Wednesday Workshop (Grades K-5)-Kalispell
DESCRIPTION:Join us every Wednesday for hands-on exploration\, including LEGO Club and STEAM Space (science\, technology\, engineering\, art\, and math activities). We’ll create art\, play games\, construct new worlds with LEGOs\, tackle an engineering challenge or learn a new craft. Especially for kids in grades K-5. Must be accompanied by an adult.
URL:https://flatheadcountylibrary.org/event/kids-wednesday-workshop-grades-k-5-kalispell/2026-01-07/
LOCATION:Kalispell Library\, 247 1st Ave East\, Kalispell\, MT\, 59901\, United States
CATEGORIES:Kids Program
END:VEVENT
BEGIN:VEVENT
DTSTART;TZID=America/Denver:20260107T110000
DTEND;TZID=America/Denver:20260107T120000
DTSTAMP:20260421T040257
CREATED:20251211T000620Z
LAST-MODIFIED:20251218T231044Z
UID:10004690-1767783600-1767787200@flatheadcountylibrary.org
SUMMARY:Baby Storytime-Kalispell
DESCRIPTION:Make connections with other parents and learn fun techniques for using books\, songs\, and rhymes at home. Rhythm and repetition will get your little one recognizing and requesting favorite songs. Especially for ages birth to 24 months.
URL:https://flatheadcountylibrary.org/event/baby-storytime-3/2026-01-07/
LOCATION:Kalispell Library\, 247 1st Ave East\, Kalispell\, MT\, 59901\, United States
CATEGORIES:Storytime
END:VEVENT
BEGIN:VEVENT
DTSTART;TZID=America/Denver:20260106T103000
DTEND;TZID=America/Denver:20260106T123000
DTSTAMP:20260421T040257
CREATED:20251204T212438Z
LAST-MODIFIED:20251204T212438Z
UID:10004629-1767695400-1767702600@flatheadcountylibrary.org
SUMMARY:Genealogy Class
DESCRIPTION:Join instructors from Kalispell’s FamilySearch Center for genealogy classes geared toward individuals and families aged 13 and older. Learn personal researching skills\, connect with family history groups\, and get expert help navigating genealogical sites. This program will repeat every 1st and 3rd Tuesday in Kalispell.
URL:https://flatheadcountylibrary.org/event/genealogy-class-6/2026-01-06/
LOCATION:Kalispell Library\, 247 1st Ave East\, Kalispell\, MT\, 59901\, United States
CATEGORIES:Adult Program
END:VEVENT
BEGIN:VEVENT
DTSTART;TZID=America/Denver:20260106T080000
DTEND;TZID=America/Denver:20260106T170000
DTSTAMP:20260421T040257
CREATED:20251219T184552Z
LAST-MODIFIED:20251219T184552Z
UID:10004898-1767686400-1767718800@flatheadcountylibrary.org
SUMMARY:Preschool Storytime-Kalispell
DESCRIPTION:Enjoy longer stories and musical activities that promote listening skills and following directions. Following storytime\, children can explore activities that highlight math\, art\, dramatic play\, and science. Especially for ages 4 and 5.
URL:https://flatheadcountylibrary.org/event/preschool-storytime-kalispell-3/2026-01-06/
LOCATION:Kalispell Library\, 247 1st Ave East\, Kalispell\, MT\, 59901\, United States
CATEGORIES:Storytime
END:VEVENT
BEGIN:VEVENT
DTSTART;TZID=America/Denver:20260105T110000
DTEND;TZID=America/Denver:20260105T120000
DTSTAMP:20260421T040257
CREATED:20251219T182157Z
LAST-MODIFIED:20251219T182448Z
UID:10004835-1767610800-1767614400@flatheadcountylibrary.org
SUMMARY:Toddler Storytime-Kalispell
DESCRIPTION:Sing\, dance\, read and explore while also building social and emotional skills. This fun and interactive program is for toddlers who love to move! Caregiver participation encouraged. Especially for ages 2-4.
URL:https://flatheadcountylibrary.org/event/toddler-storytime-kalispell-2/2026-01-05/
LOCATION:Kalispell Library\, 247 1st Ave East\, Kalispell\, MT\, 59901\, United States
CATEGORIES:Storytime
END:VEVENT
BEGIN:VEVENT
DTSTART;VALUE=DATE:20260101
DTEND;VALUE=DATE:20260102
DTSTAMP:20260421T040257
CREATED:20251025T215439Z
LAST-MODIFIED:20251025T215439Z
UID:10004434-1767225600-1767311999@flatheadcountylibrary.org
SUMMARY:Libraries Closed
DESCRIPTION:All Library branches will be closed in observance of New Year’s Day
URL:https://flatheadcountylibrary.org/event/libraries-closed-6/
LOCATION:Bigfork Library\, 186 Bridge Street\, Bigfork\, MT\, 59911\, United States
CATEGORIES:Library Closure
END:VEVENT
BEGIN:VEVENT
DTSTART;VALUE=DATE:20251225
DTEND;VALUE=DATE:20251226
DTSTAMP:20260421T040257
CREATED:20251025T215214Z
LAST-MODIFIED:20251025T215214Z
UID:10004433-1766620800-1766707199@flatheadcountylibrary.org
SUMMARY:Libraries Closed
DESCRIPTION:All branches will be closed in observance of Christmas.
URL:https://flatheadcountylibrary.org/event/libraries-closed-5/
LOCATION:Bigfork Library\, 186 Bridge Street\, Bigfork\, MT\, 59911\, United States
CATEGORIES:Library Closure
END:VEVENT
BEGIN:VEVENT
DTSTART;TZID=America/Denver:20251224T150000
DTEND;TZID=America/Denver:20251224T180000
DTSTAMP:20260421T040257
CREATED:20251025T215850Z
LAST-MODIFIED:20251101T192738Z
UID:10004435-1766588400-1766599200@flatheadcountylibrary.org
SUMMARY:Library Closing Early
DESCRIPTION:All Library branches will close at 3 pm in observance of Christmas Eve
URL:https://flatheadcountylibrary.org/event/library-closing-early/
LOCATION:Bigfork Library\, 186 Bridge Street\, Bigfork\, MT\, 59911\, United States
CATEGORIES:Library Closure
END:VEVENT
BEGIN:VEVENT
DTSTART;TZID=America/Denver:20251217T143000
DTEND;TZID=America/Denver:20251217T160000
DTSTAMP:20260421T040257
CREATED:20251106T223954Z
LAST-MODIFIED:20251106T223954Z
UID:10004444-1765981800-1765987200@flatheadcountylibrary.org
SUMMARY:Challenge Accepted (GRADES 6-12)-Foosbots
DESCRIPTION:Do you have what it takes to win an engineering\, tech\, or gaming challenge? See us once a month to get competitive\, get creative\, and discover something new!
URL:https://flatheadcountylibrary.org/event/challenge-accepted-grades-6-12-foosbots/
LOCATION:Kalispell Library\, 247 1st Ave East\, Kalispell\, MT\, 59901\, United States
CATEGORIES:Teen Program
END:VEVENT
BEGIN:VEVENT
DTSTART;TZID=America/Denver:20251217T140000
DTEND;TZID=America/Denver:20251217T170000
DTSTAMP:20260421T040257
CREATED:20250813T215359Z
LAST-MODIFIED:20250813T215359Z
UID:10004049-1765980000-1765990800@flatheadcountylibrary.org
SUMMARY:Kids Wednesday Workshop - Kalispell
DESCRIPTION:Join us every Wednesday for hands-on exploration\, including LEGO Club and STEAM Space (science\, technology\, engineering\, art\, and math activities). We’ll create art\, play games\, construct new worlds with LEGOs\, tackle an engineering challenge or learn a new craft. Especially for kids in grades K-5. Must be accompanied by an adult.
URL:https://flatheadcountylibrary.org/event/kids-wednesday-workshop-kalispell-2/2025-12-17/
LOCATION:Kalispell Library\, 247 1st Ave East\, Kalispell\, MT\, 59901\, United States
CATEGORIES:Kids Program
END:VEVENT
BEGIN:VEVENT
DTSTART;TZID=America/Denver:20251217T110000
DTEND;TZID=America/Denver:20251217T120000
DTSTAMP:20260421T040257
CREATED:20250813T215744Z
LAST-MODIFIED:20250813T215744Z
UID:10004077-1765969200-1765972800@flatheadcountylibrary.org
SUMMARY:Baby Storytime - Kalispell
DESCRIPTION:Make connections with other parents and learn fun techniques for using books\, songs\, and rhymes at home. Rhythm and repetition will get your little one recognizing and requesting favorite songs. Especially for ages birth to 24 months.
URL:https://flatheadcountylibrary.org/event/baby-storytime-kalispell-2/2025-12-17/
LOCATION:Kalispell Library\, 247 1st Ave East\, Kalispell\, MT\, 59901\, United States
CATEGORIES:Storytime
END:VEVENT
BEGIN:VEVENT
DTSTART;TZID=America/Denver:20251216T110000
DTEND;TZID=America/Denver:20251216T120000
DTSTAMP:20260421T040257
CREATED:20250813T220519Z
LAST-MODIFIED:20250813T220519Z
UID:10004232-1765882800-1765886400@flatheadcountylibrary.org
SUMMARY:Preschool Storytime - Kalispell
DESCRIPTION:Enjoy longer stories and musical activities that promote listening skills and following directions. Following storytime\, children can explore activities that highlight math\, art\, dramatic play and science. Especially for ages 4 and 5.
URL:https://flatheadcountylibrary.org/event/preschool-storytime-kalispell-2/2025-12-16/
LOCATION:Kalispell Library\, 247 1st Ave East\, Kalispell\, MT\, 59901\, United States
CATEGORIES:Storytime
END:VEVENT
BEGIN:VEVENT
DTSTART;TZID=America/Denver:20251215T160000
DTEND;TZID=America/Denver:20251215T180000
DTSTAMP:20260421T040257
CREATED:20251106T224515Z
LAST-MODIFIED:20251106T224515Z
UID:10004437-1765814400-1765821600@flatheadcountylibrary.org
SUMMARY:Bird Collisions in the Anthropocene: Community Art Workshop
DESCRIPTION:Meet Flathead Audubon at the library for a hands-on art and conservation event supporting the national project Bird Collisions in the Anthropocene. Help create fabric bird sculptures to honor the billions of birds lost to window strikes each year—and learn how you can make your home safer for birds. 16+; all materials provided.
URL:https://flatheadcountylibrary.org/event/bird-collisions-in-the-anthropocene-community-art-workshop-2/
LOCATION:Kalispell Library\, 247 1st Ave East\, Kalispell\, MT\, 59901\, United States
CATEGORIES:Adult Program
END:VEVENT
BEGIN:VEVENT
DTSTART;TZID=America/Denver:20251215T110000
DTEND;TZID=America/Denver:20251215T120000
DTSTAMP:20260421T040257
CREATED:20250813T220413Z
LAST-MODIFIED:20250813T220413Z
UID:10004204-1765796400-1765800000@flatheadcountylibrary.org
SUMMARY:Toddler Storytime - Kalispell
DESCRIPTION:Sing\, dance\, read and explore while also building social and emotional skills. This fun and interactive program is for toddlers who love to move! Caregiver participation encouraged. Especially for ages 2-4.
URL:https://flatheadcountylibrary.org/event/toddler-storytime-kalispell/2025-12-15/
LOCATION:Kalispell Library\, 247 1st Ave East\, Kalispell\, MT\, 59901\, United States
CATEGORIES:Storytime
END:VEVENT
BEGIN:VEVENT
DTSTART;TZID=America/Denver:20251213T100000
DTEND;TZID=America/Denver:20251213T130000
DTSTAMP:20260421T040257
CREATED:20251106T223700Z
LAST-MODIFIED:20251106T223700Z
UID:10004439-1765620000-1765630800@flatheadcountylibrary.org
SUMMARY:The Art of Giving (Grades 6-12)
DESCRIPTION:Learn the joy of gift giving! In this workshop\, teens will get creative by making their own greeting cards and help us spread cheer by making paper snowflakes that will be shared with seniors this holiday season. In addition\, at the Kalispell and Bigfork locations\, make a memorable gift of hot cocoa in a jar to give to someone you love.
URL:https://flatheadcountylibrary.org/event/the-art-of-giving-grades-6-12-2/
LOCATION:Kalispell Library\, 247 1st Ave East\, Kalispell\, MT\, 59901\, United States
CATEGORIES:Teen Program
END:VEVENT
BEGIN:VEVENT
DTSTART;TZID=America/Denver:20251213T100000
DTEND;TZID=America/Denver:20251213T120000
DTSTAMP:20260421T040257
CREATED:20251011T224808Z
LAST-MODIFIED:20251011T224820Z
UID:10004398-1765620000-1765627200@flatheadcountylibrary.org
SUMMARY:Sensory Play Saturday - Kalispell
DESCRIPTION:Sink your hands into a spectacular tub of fun! Mix\, measure\, pour or possibly search for tiny treasures. Children of all ages are welcome to join us at each library one Saturday a month!
URL:https://flatheadcountylibrary.org/event/sensory-play-saturday-kalispell-2-4/2025-12-13/
LOCATION:Kalispell Library\, 247 1st Ave East\, Kalispell\, MT\, 59901\, United States
CATEGORIES:Kids Program
END:VEVENT
BEGIN:VEVENT
DTSTART;TZID=America/Denver:20251210T143000
DTEND;TZID=America/Denver:20251210T160000
DTSTAMP:20260421T040257
CREATED:20251106T224102Z
LAST-MODIFIED:20251106T224102Z
UID:10004443-1765377000-1765382400@flatheadcountylibrary.org
SUMMARY:LVL-Up (GRADES 6-12)-Beaded Ornaments
DESCRIPTION:Live\, laugh\, learn (we could cook\, practice a fiber arts skill\, or just tinker). We’ll also play the Switch.
URL:https://flatheadcountylibrary.org/event/lvl-up-grades-6-12-beaded-ornaments/
LOCATION:Kalispell Library\, 247 1st Ave East\, Kalispell\, MT\, 59901\, United States
CATEGORIES:Teen Program
END:VEVENT
BEGIN:VEVENT
DTSTART;TZID=America/Denver:20251210T140000
DTEND;TZID=America/Denver:20251210T170000
DTSTAMP:20260421T040257
CREATED:20250813T215359Z
LAST-MODIFIED:20250813T215359Z
UID:10004048-1765375200-1765386000@flatheadcountylibrary.org
SUMMARY:Kids Wednesday Workshop - Kalispell
DESCRIPTION:Join us every Wednesday for hands-on exploration\, including LEGO Club and STEAM Space (science\, technology\, engineering\, art\, and math activities). We’ll create art\, play games\, construct new worlds with LEGOs\, tackle an engineering challenge or learn a new craft. Especially for kids in grades K-5. Must be accompanied by an adult.
URL:https://flatheadcountylibrary.org/event/kids-wednesday-workshop-kalispell-2/2025-12-10/
LOCATION:Kalispell Library\, 247 1st Ave East\, Kalispell\, MT\, 59901\, United States
CATEGORIES:Kids Program
END:VEVENT
BEGIN:VEVENT
DTSTART;TZID=America/Denver:20251210T110000
DTEND;TZID=America/Denver:20251210T120000
DTSTAMP:20260421T040257
CREATED:20250813T215744Z
LAST-MODIFIED:20250813T215744Z
UID:10004076-1765364400-1765368000@flatheadcountylibrary.org
SUMMARY:Baby Storytime - Kalispell
DESCRIPTION:Make connections with other parents and learn fun techniques for using books\, songs\, and rhymes at home. Rhythm and repetition will get your little one recognizing and requesting favorite songs. Especially for ages birth to 24 months.
URL:https://flatheadcountylibrary.org/event/baby-storytime-kalispell-2/2025-12-10/
LOCATION:Kalispell Library\, 247 1st Ave East\, Kalispell\, MT\, 59901\, United States
CATEGORIES:Storytime
END:VEVENT
BEGIN:VEVENT
DTSTART;TZID=America/Denver:20251210T110000
DTEND;TZID=America/Denver:20251210T120000
DTSTAMP:20260421T040257
CREATED:20250813T212207Z
LAST-MODIFIED:20250813T212207Z
UID:10003587-1765364400-1765368000@flatheadcountylibrary.org
SUMMARY:Community Library Tour
DESCRIPTION:You’re invited to a fun and informative tour of your public library! Get a behind the scenes look into how your tax dollars work to bring great library services to the Flathead Valley! The second Wednesday of each month at 11am at your Kalispell Public Library. Tours are approximately 45 minutes long.
URL:https://flatheadcountylibrary.org/event/community-library-tour-2-2/2025-12-10/
LOCATION:Kalispell Library\, 247 1st Ave East\, Kalispell\, MT\, 59901\, United States
CATEGORIES:Adult Program
END:VEVENT
BEGIN:VEVENT
DTSTART;TZID=America/Denver:20251209T150000
DTEND;TZID=America/Denver:20251209T160000
DTSTAMP:20260421T040257
CREATED:20250306T204205Z
LAST-MODIFIED:20251016T223023Z
UID:10004418-1765292400-1765296000@flatheadcountylibrary.org
SUMMARY:Friends of the Library Book Club
DESCRIPTION:Meet with other book enthusiasts on the 2nd Tuesday of the month at 3pm in the Meeting Room at Flathead County Library Kalispell.
URL:https://flatheadcountylibrary.org/event/friends-of-the-library-book-club/2025-12-09/
LOCATION:Kalispell Library\, 247 1st Ave East\, Kalispell\, MT\, 59901\, United States
CATEGORIES:Book Club
END:VEVENT
BEGIN:VEVENT
DTSTART;TZID=America/Denver:20251209T110000
DTEND;TZID=America/Denver:20251209T120000
DTSTAMP:20260421T040257
CREATED:20250813T220519Z
LAST-MODIFIED:20250813T220519Z
UID:10004231-1765278000-1765281600@flatheadcountylibrary.org
SUMMARY:Preschool Storytime - Kalispell
DESCRIPTION:Enjoy longer stories and musical activities that promote listening skills and following directions. Following storytime\, children can explore activities that highlight math\, art\, dramatic play and science. Especially for ages 4 and 5.
URL:https://flatheadcountylibrary.org/event/preschool-storytime-kalispell-2/2025-12-09/
LOCATION:Kalispell Library\, 247 1st Ave East\, Kalispell\, MT\, 59901\, United States
CATEGORIES:Storytime
END:VEVENT
BEGIN:VEVENT
DTSTART;TZID=America/Denver:20251208T110000
DTEND;TZID=America/Denver:20251208T120000
DTSTAMP:20260421T040257
CREATED:20250813T220413Z
LAST-MODIFIED:20250813T220413Z
UID:10004203-1765191600-1765195200@flatheadcountylibrary.org
SUMMARY:Toddler Storytime - Kalispell
DESCRIPTION:Sing\, dance\, read and explore while also building social and emotional skills. This fun and interactive program is for toddlers who love to move! Caregiver participation encouraged. Especially for ages 2-4.
URL:https://flatheadcountylibrary.org/event/toddler-storytime-kalispell/2025-12-08/
LOCATION:Kalispell Library\, 247 1st Ave East\, Kalispell\, MT\, 59901\, United States
CATEGORIES:Storytime
END:VEVENT
BEGIN:VEVENT
DTSTART;TZID=America/Denver:20251204T123000
DTEND;TZID=America/Denver:20251204T153000
DTSTAMP:20260421T040257
CREATED:20251118T211017Z
LAST-MODIFIED:20251118T211100Z
UID:10004627-1764851400-1764862200@flatheadcountylibrary.org
SUMMARY:Library Board Meeting
DESCRIPTION:The Flathead County Library Board of Trustees will hold a regular meeting on Thursday\, December 4th at 12:30-3:30pm. The meeting will be held in the Library Meeting Room at Kalispell library. Please call Rhonda Hawkins at 406.758.5824 if you have questions.
URL:https://flatheadcountylibrary.org/event/library-board-meeting-7/
LOCATION:Kalispell Library\, 247 1st Ave East\, Kalispell\, MT\, 59901\, United States
CATEGORIES:Board Meeting
END:VEVENT
BEGIN:VEVENT
DTSTART;TZID=America/Denver:20251203T143000
DTEND;TZID=America/Denver:20251203T160000
DTSTAMP:20260421T040257
CREATED:20251106T223918Z
LAST-MODIFIED:20251106T223918Z
UID:10004442-1764772200-1764777600@flatheadcountylibrary.org
SUMMARY:Fandom (GRADES 6-12)-Melted Crayon Art
DESCRIPTION:Come chill with us in the Teen Zone on the 1st Wednesday every month. We’ll watch anime\, create unique merchandise\, and totally geek out.
URL:https://flatheadcountylibrary.org/event/fandom-grades-6-12-melted-crayon-art/
LOCATION:Kalispell Library\, 247 1st Ave East\, Kalispell\, MT\, 59901\, United States
CATEGORIES:Teen Program
END:VEVENT
BEGIN:VEVENT
DTSTART;TZID=America/Denver:20251203T140000
DTEND;TZID=America/Denver:20251203T170000
DTSTAMP:20260421T040257
CREATED:20250813T215359Z
LAST-MODIFIED:20250813T215359Z
UID:10004047-1764770400-1764781200@flatheadcountylibrary.org
SUMMARY:Kids Wednesday Workshop - Kalispell
DESCRIPTION:Join us every Wednesday for hands-on exploration\, including LEGO Club and STEAM Space (science\, technology\, engineering\, art\, and math activities). We’ll create art\, play games\, construct new worlds with LEGOs\, tackle an engineering challenge or learn a new craft. Especially for kids in grades K-5. Must be accompanied by an adult.
URL:https://flatheadcountylibrary.org/event/kids-wednesday-workshop-kalispell-2/2025-12-03/
LOCATION:Kalispell Library\, 247 1st Ave East\, Kalispell\, MT\, 59901\, United States
CATEGORIES:Kids Program
END:VEVENT
BEGIN:VEVENT
DTSTART;TZID=America/Denver:20251203T110000
DTEND;TZID=America/Denver:20251203T120000
DTSTAMP:20260421T040257
CREATED:20250813T215744Z
LAST-MODIFIED:20250813T215744Z
UID:10004075-1764759600-1764763200@flatheadcountylibrary.org
SUMMARY:Baby Storytime - Kalispell
DESCRIPTION:Make connections with other parents and learn fun techniques for using books\, songs\, and rhymes at home. Rhythm and repetition will get your little one recognizing and requesting favorite songs. Especially for ages birth to 24 months.
URL:https://flatheadcountylibrary.org/event/baby-storytime-kalispell-2/2025-12-03/
LOCATION:Kalispell Library\, 247 1st Ave East\, Kalispell\, MT\, 59901\, United States
CATEGORIES:Storytime
END:VEVENT
END:VCALENDAR