BEGIN:VCALENDAR
VERSION:2.0
PRODID:-//Flathead County Library - ECPv6.15.20//NONSGML v1.0//EN
CALSCALE:GREGORIAN
METHOD:PUBLISH
X-ORIGINAL-URL:https://flatheadcountylibrary.org
X-WR-CALDESC:Events for Flathead County Library
REFRESH-INTERVAL;VALUE=DURATION:PT1H
X-Robots-Tag:noindex
X-PUBLISHED-TTL:PT1H
BEGIN:VTIMEZONE
TZID:America/Denver
BEGIN:DAYLIGHT
TZOFFSETFROM:-0700
TZOFFSETTO:-0600
TZNAME:MDT
DTSTART:20240310T090000
END:DAYLIGHT
BEGIN:STANDARD
TZOFFSETFROM:-0600
TZOFFSETTO:-0700
TZNAME:MST
DTSTART:20241103T080000
END:STANDARD
BEGIN:DAYLIGHT
TZOFFSETFROM:-0700
TZOFFSETTO:-0600
TZNAME:MDT
DTSTART:20250309T090000
END:DAYLIGHT
BEGIN:STANDARD
TZOFFSETFROM:-0600
TZOFFSETTO:-0700
TZNAME:MST
DTSTART:20251102T080000
END:STANDARD
BEGIN:DAYLIGHT
TZOFFSETFROM:-0700
TZOFFSETTO:-0600
TZNAME:MDT
DTSTART:20260308T090000
END:DAYLIGHT
BEGIN:STANDARD
TZOFFSETFROM:-0600
TZOFFSETTO:-0700
TZNAME:MST
DTSTART:20261101T080000
END:STANDARD
BEGIN:DAYLIGHT
TZOFFSETFROM:-0700
TZOFFSETTO:-0600
TZNAME:MDT
DTSTART:20270314T090000
END:DAYLIGHT
BEGIN:STANDARD
TZOFFSETFROM:-0600
TZOFFSETTO:-0700
TZNAME:MST
DTSTART:20271107T080000
END:STANDARD
END:VTIMEZONE
BEGIN:VEVENT
DTSTART;TZID=America/Denver:20251209T110000
DTEND;TZID=America/Denver:20251209T120000
DTSTAMP:20260421T104216
CREATED:20250813T220519Z
LAST-MODIFIED:20250813T220519Z
UID:10004231-1765278000-1765281600@flatheadcountylibrary.org
SUMMARY:Preschool Storytime - Kalispell
DESCRIPTION:Enjoy longer stories and musical activities that promote listening skills and following directions. Following storytime\, children can explore activities that highlight math\, art\, dramatic play and science. Especially for ages 4 and 5.
URL:https://flatheadcountylibrary.org/event/preschool-storytime-kalispell-2/2025-12-09/
LOCATION:Kalispell Library\, 247 1st Ave East\, Kalispell\, MT\, 59901\, United States
CATEGORIES:Storytime
END:VEVENT
BEGIN:VEVENT
DTSTART;TZID=America/Denver:20251208T110000
DTEND;TZID=America/Denver:20251208T120000
DTSTAMP:20260421T104216
CREATED:20250813T220413Z
LAST-MODIFIED:20250813T220413Z
UID:10004203-1765191600-1765195200@flatheadcountylibrary.org
SUMMARY:Toddler Storytime - Kalispell
DESCRIPTION:Sing\, dance\, read and explore while also building social and emotional skills. This fun and interactive program is for toddlers who love to move! Caregiver participation encouraged. Especially for ages 2-4.
URL:https://flatheadcountylibrary.org/event/toddler-storytime-kalispell/2025-12-08/
LOCATION:Kalispell Library\, 247 1st Ave East\, Kalispell\, MT\, 59901\, United States
CATEGORIES:Storytime
END:VEVENT
BEGIN:VEVENT
DTSTART;TZID=America/Denver:20251204T123000
DTEND;TZID=America/Denver:20251204T153000
DTSTAMP:20260421T104216
CREATED:20251118T211017Z
LAST-MODIFIED:20251118T211100Z
UID:10004627-1764851400-1764862200@flatheadcountylibrary.org
SUMMARY:Library Board Meeting
DESCRIPTION:The Flathead County Library Board of Trustees will hold a regular meeting on Thursday\, December 4th at 12:30-3:30pm. The meeting will be held in the Library Meeting Room at Kalispell library. Please call Rhonda Hawkins at 406.758.5824 if you have questions.
URL:https://flatheadcountylibrary.org/event/library-board-meeting-7/
LOCATION:Kalispell Library\, 247 1st Ave East\, Kalispell\, MT\, 59901\, United States
CATEGORIES:Board Meeting
END:VEVENT
BEGIN:VEVENT
DTSTART;TZID=America/Denver:20251203T143000
DTEND;TZID=America/Denver:20251203T160000
DTSTAMP:20260421T104216
CREATED:20251106T223918Z
LAST-MODIFIED:20251106T223918Z
UID:10004442-1764772200-1764777600@flatheadcountylibrary.org
SUMMARY:Fandom (GRADES 6-12)-Melted Crayon Art
DESCRIPTION:Come chill with us in the Teen Zone on the 1st Wednesday every month. We’ll watch anime\, create unique merchandise\, and totally geek out.
URL:https://flatheadcountylibrary.org/event/fandom-grades-6-12-melted-crayon-art/
LOCATION:Kalispell Library\, 247 1st Ave East\, Kalispell\, MT\, 59901\, United States
CATEGORIES:Teen Program
END:VEVENT
BEGIN:VEVENT
DTSTART;TZID=America/Denver:20251203T140000
DTEND;TZID=America/Denver:20251203T170000
DTSTAMP:20260421T104216
CREATED:20250813T215359Z
LAST-MODIFIED:20250813T215359Z
UID:10004047-1764770400-1764781200@flatheadcountylibrary.org
SUMMARY:Kids Wednesday Workshop - Kalispell
DESCRIPTION:Join us every Wednesday for hands-on exploration\, including LEGO Club and STEAM Space (science\, technology\, engineering\, art\, and math activities). We’ll create art\, play games\, construct new worlds with LEGOs\, tackle an engineering challenge or learn a new craft. Especially for kids in grades K-5. Must be accompanied by an adult.
URL:https://flatheadcountylibrary.org/event/kids-wednesday-workshop-kalispell-2/2025-12-03/
LOCATION:Kalispell Library\, 247 1st Ave East\, Kalispell\, MT\, 59901\, United States
CATEGORIES:Kids Program
END:VEVENT
BEGIN:VEVENT
DTSTART;TZID=America/Denver:20251203T110000
DTEND;TZID=America/Denver:20251203T120000
DTSTAMP:20260421T104216
CREATED:20250813T215744Z
LAST-MODIFIED:20250813T215744Z
UID:10004075-1764759600-1764763200@flatheadcountylibrary.org
SUMMARY:Baby Storytime - Kalispell
DESCRIPTION:Make connections with other parents and learn fun techniques for using books\, songs\, and rhymes at home. Rhythm and repetition will get your little one recognizing and requesting favorite songs. Especially for ages birth to 24 months.
URL:https://flatheadcountylibrary.org/event/baby-storytime-kalispell-2/2025-12-03/
LOCATION:Kalispell Library\, 247 1st Ave East\, Kalispell\, MT\, 59901\, United States
CATEGORIES:Storytime
END:VEVENT
BEGIN:VEVENT
DTSTART;TZID=America/Denver:20251202T110000
DTEND;TZID=America/Denver:20251202T120000
DTSTAMP:20260421T104216
CREATED:20250813T220519Z
LAST-MODIFIED:20250813T220519Z
UID:10004230-1764673200-1764676800@flatheadcountylibrary.org
SUMMARY:Preschool Storytime - Kalispell
DESCRIPTION:Enjoy longer stories and musical activities that promote listening skills and following directions. Following storytime\, children can explore activities that highlight math\, art\, dramatic play and science. Especially for ages 4 and 5.
URL:https://flatheadcountylibrary.org/event/preschool-storytime-kalispell-2/2025-12-02/
LOCATION:Kalispell Library\, 247 1st Ave East\, Kalispell\, MT\, 59901\, United States
CATEGORIES:Storytime
END:VEVENT
BEGIN:VEVENT
DTSTART;TZID=America/Denver:20251201T110000
DTEND;TZID=America/Denver:20251201T150000
DTSTAMP:20260421T104216
CREATED:20251107T212151Z
LAST-MODIFIED:20251107T212151Z
UID:10004626-1764586800-1764601200@flatheadcountylibrary.org
SUMMARY:AARP Smart Driver Course
DESCRIPTION:Get up to speed with the latest driving strategies\, auto safety features\, and new state and local traffic laws in this course designed especially for drivers age 50 and older. All drivers welcome. Upon completion of the course\, you may be eligible to receive auto insurance discounts. Registration is required. To register call: (406)758-2445; $20 for AARP members\, $25 for non-members
URL:https://flatheadcountylibrary.org/event/aarp-smart-driver-course-2/
LOCATION:Kalispell Library\, 247 1st Ave East\, Kalispell\, MT\, 59901\, United States
CATEGORIES:Adult Program
END:VEVENT
BEGIN:VEVENT
DTSTART;TZID=America/Denver:20251201T110000
DTEND;TZID=America/Denver:20251201T120000
DTSTAMP:20260421T104216
CREATED:20250813T220413Z
LAST-MODIFIED:20250813T220413Z
UID:10004202-1764586800-1764590400@flatheadcountylibrary.org
SUMMARY:Toddler Storytime - Kalispell
DESCRIPTION:Sing\, dance\, read and explore while also building social and emotional skills. This fun and interactive program is for toddlers who love to move! Caregiver participation encouraged. Especially for ages 2-4.
URL:https://flatheadcountylibrary.org/event/toddler-storytime-kalispell/2025-12-01/
LOCATION:Kalispell Library\, 247 1st Ave East\, Kalispell\, MT\, 59901\, United States
CATEGORIES:Storytime
END:VEVENT
BEGIN:VEVENT
DTSTART;VALUE=DATE:20251201
DTEND;VALUE=DATE:20260301
DTSTAMP:20260421T104216
CREATED:20251106T224204Z
LAST-MODIFIED:20251224T000719Z
UID:10004535-1764547200-1772323199@flatheadcountylibrary.org
SUMMARY:Cooking Bingo
DESCRIPTION:Bingo continues this winter with a cooking theme! Pick up a Cooking Bingo board at any library location this winter and challenge yourself try different recipes\, techniques\, and foods. Get a bingo and win a collectible sticker.
URL:https://flatheadcountylibrary.org/event/cooking-bingo/
LOCATION:Bigfork Library\, 186 Bridge Street\, Bigfork\, MT\, 59911\, United States
END:VEVENT
BEGIN:VEVENT
DTSTART;VALUE=DATE:20251127
DTEND;VALUE=DATE:20251128
DTSTAMP:20260421T104216
CREATED:20251016T224300Z
LAST-MODIFIED:20251016T224827Z
UID:10004400-1764201600-1764287999@flatheadcountylibrary.org
SUMMARY:Libraries Closed
DESCRIPTION:All library branches will be closed in observance of Thanksgiving Day.
URL:https://flatheadcountylibrary.org/event/libraries-closed-4/
LOCATION:Bigfork Library\, 186 Bridge Street\, Bigfork\, MT\, 59911\, United States
CATEGORIES:Library Closure
END:VEVENT
BEGIN:VEVENT
DTSTART;TZID=America/Denver:20251126T140000
DTEND;TZID=America/Denver:20251126T170000
DTSTAMP:20260421T104216
CREATED:20250813T215359Z
LAST-MODIFIED:20250813T215359Z
UID:10004046-1764165600-1764176400@flatheadcountylibrary.org
SUMMARY:Kids Wednesday Workshop - Kalispell
DESCRIPTION:Join us every Wednesday for hands-on exploration\, including LEGO Club and STEAM Space (science\, technology\, engineering\, art\, and math activities). We’ll create art\, play games\, construct new worlds with LEGOs\, tackle an engineering challenge or learn a new craft. Especially for kids in grades K-5. Must be accompanied by an adult.
URL:https://flatheadcountylibrary.org/event/kids-wednesday-workshop-kalispell-2/2025-11-26/
LOCATION:Kalispell Library\, 247 1st Ave East\, Kalispell\, MT\, 59901\, United States
CATEGORIES:Kids Program
END:VEVENT
BEGIN:VEVENT
DTSTART;TZID=America/Denver:20251126T110000
DTEND;TZID=America/Denver:20251126T120000
DTSTAMP:20260421T104216
CREATED:20250813T215744Z
LAST-MODIFIED:20250813T215744Z
UID:10004074-1764154800-1764158400@flatheadcountylibrary.org
SUMMARY:Baby Storytime - Kalispell
DESCRIPTION:Make connections with other parents and learn fun techniques for using books\, songs\, and rhymes at home. Rhythm and repetition will get your little one recognizing and requesting favorite songs. Especially for ages birth to 24 months.
URL:https://flatheadcountylibrary.org/event/baby-storytime-kalispell-2/2025-11-26/
LOCATION:Kalispell Library\, 247 1st Ave East\, Kalispell\, MT\, 59901\, United States
CATEGORIES:Storytime
END:VEVENT
BEGIN:VEVENT
DTSTART;TZID=America/Denver:20251125T110000
DTEND;TZID=America/Denver:20251125T120000
DTSTAMP:20260421T104216
CREATED:20250813T220519Z
LAST-MODIFIED:20250813T220519Z
UID:10004229-1764068400-1764072000@flatheadcountylibrary.org
SUMMARY:Preschool Storytime - Kalispell
DESCRIPTION:Enjoy longer stories and musical activities that promote listening skills and following directions. Following storytime\, children can explore activities that highlight math\, art\, dramatic play and science. Especially for ages 4 and 5.
URL:https://flatheadcountylibrary.org/event/preschool-storytime-kalispell-2/2025-11-25/
LOCATION:Kalispell Library\, 247 1st Ave East\, Kalispell\, MT\, 59901\, United States
CATEGORIES:Storytime
END:VEVENT
BEGIN:VEVENT
DTSTART;TZID=America/Denver:20251124T110000
DTEND;TZID=America/Denver:20251124T120000
DTSTAMP:20260421T104216
CREATED:20250813T220413Z
LAST-MODIFIED:20250813T220413Z
UID:10004201-1763982000-1763985600@flatheadcountylibrary.org
SUMMARY:Toddler Storytime - Kalispell
DESCRIPTION:Sing\, dance\, read and explore while also building social and emotional skills. This fun and interactive program is for toddlers who love to move! Caregiver participation encouraged. Especially for ages 2-4.
URL:https://flatheadcountylibrary.org/event/toddler-storytime-kalispell/2025-11-24/
LOCATION:Kalispell Library\, 247 1st Ave East\, Kalispell\, MT\, 59901\, United States
CATEGORIES:Storytime
END:VEVENT
BEGIN:VEVENT
DTSTART;TZID=America/Denver:20251119T143000
DTEND;TZID=America/Denver:20251119T160000
DTSTAMP:20260421T104216
CREATED:20251018T193647Z
LAST-MODIFIED:20251018T193647Z
UID:10004428-1763562600-1763568000@flatheadcountylibrary.org
SUMMARY:Challenge Accepted (GRADES 6-12)
DESCRIPTION:Do you have what it takes to win an engineering\, tech\, or gaming challenge? See us once a month to get competitive\, get creative\, and discover something new! 
URL:https://flatheadcountylibrary.org/event/challenge-accepted-grades-6-12-2/
LOCATION:Kalispell Library\, 247 1st Ave East\, Kalispell\, MT\, 59901\, United States
CATEGORIES:Teen Program
END:VEVENT
BEGIN:VEVENT
DTSTART;TZID=America/Denver:20251119T140000
DTEND;TZID=America/Denver:20251119T170000
DTSTAMP:20260421T104216
CREATED:20250813T215359Z
LAST-MODIFIED:20250813T215359Z
UID:10004045-1763560800-1763571600@flatheadcountylibrary.org
SUMMARY:Kids Wednesday Workshop - Kalispell
DESCRIPTION:Join us every Wednesday for hands-on exploration\, including LEGO Club and STEAM Space (science\, technology\, engineering\, art\, and math activities). We’ll create art\, play games\, construct new worlds with LEGOs\, tackle an engineering challenge or learn a new craft. Especially for kids in grades K-5. Must be accompanied by an adult.
URL:https://flatheadcountylibrary.org/event/kids-wednesday-workshop-kalispell-2/2025-11-19/
LOCATION:Kalispell Library\, 247 1st Ave East\, Kalispell\, MT\, 59901\, United States
CATEGORIES:Kids Program
END:VEVENT
BEGIN:VEVENT
DTSTART;TZID=America/Denver:20251119T110000
DTEND;TZID=America/Denver:20251119T120000
DTSTAMP:20260421T104216
CREATED:20250813T215744Z
LAST-MODIFIED:20250813T215744Z
UID:10004073-1763550000-1763553600@flatheadcountylibrary.org
SUMMARY:Baby Storytime - Kalispell
DESCRIPTION:Make connections with other parents and learn fun techniques for using books\, songs\, and rhymes at home. Rhythm and repetition will get your little one recognizing and requesting favorite songs. Especially for ages birth to 24 months.
URL:https://flatheadcountylibrary.org/event/baby-storytime-kalispell-2/2025-11-19/
LOCATION:Kalispell Library\, 247 1st Ave East\, Kalispell\, MT\, 59901\, United States
CATEGORIES:Storytime
END:VEVENT
BEGIN:VEVENT
DTSTART;TZID=America/Denver:20251118T110000
DTEND;TZID=America/Denver:20251118T120000
DTSTAMP:20260421T104216
CREATED:20250813T220519Z
LAST-MODIFIED:20250813T220519Z
UID:10004228-1763463600-1763467200@flatheadcountylibrary.org
SUMMARY:Preschool Storytime - Kalispell
DESCRIPTION:Enjoy longer stories and musical activities that promote listening skills and following directions. Following storytime\, children can explore activities that highlight math\, art\, dramatic play and science. Especially for ages 4 and 5.
URL:https://flatheadcountylibrary.org/event/preschool-storytime-kalispell-2/2025-11-18/
LOCATION:Kalispell Library\, 247 1st Ave East\, Kalispell\, MT\, 59901\, United States
CATEGORIES:Storytime
END:VEVENT
BEGIN:VEVENT
DTSTART;TZID=America/Denver:20251118T103000
DTEND;TZID=America/Denver:20251118T123000
DTSTAMP:20260421T104216
CREATED:20251011T220932Z
LAST-MODIFIED:20251029T212813Z
UID:10004384-1763461800-1763469000@flatheadcountylibrary.org
SUMMARY:Genealogy Class
DESCRIPTION:Join instructors from Kalispell’s FamilySearch Center for genealogy classes geared toward individuals and families aged 13 and older. Learn personal researching skills\, connect with family history groups\, and get expert help navigating genealogical sites. This program will repeat every 1st and 3rd Tuesday in Kalispell and every 2nd and 4th Tuesday in Bigfork.
URL:https://flatheadcountylibrary.org/event/genealogy-class-7/2025-11-18/
LOCATION:Kalispell Library\, 247 1st Ave East\, Kalispell\, MT\, 59901\, United States
CATEGORIES:Adult Program
END:VEVENT
BEGIN:VEVENT
DTSTART;TZID=America/Denver:20251117T110000
DTEND;TZID=America/Denver:20251117T120000
DTSTAMP:20260421T104216
CREATED:20250813T220413Z
LAST-MODIFIED:20250813T220413Z
UID:10004200-1763377200-1763380800@flatheadcountylibrary.org
SUMMARY:Toddler Storytime - Kalispell
DESCRIPTION:Sing\, dance\, read and explore while also building social and emotional skills. This fun and interactive program is for toddlers who love to move! Caregiver participation encouraged. Especially for ages 2-4.
URL:https://flatheadcountylibrary.org/event/toddler-storytime-kalispell/2025-11-17/
LOCATION:Kalispell Library\, 247 1st Ave East\, Kalispell\, MT\, 59901\, United States
CATEGORIES:Storytime
END:VEVENT
BEGIN:VEVENT
DTSTART;TZID=America/Denver:20251113T150000
DTEND;TZID=America/Denver:20251113T160000
DTSTAMP:20260421T104216
CREATED:20251105T212407Z
LAST-MODIFIED:20251105T212407Z
UID:10004625-1763046000-1763049600@flatheadcountylibrary.org
SUMMARY:Friends of the Library Book Club
DESCRIPTION:Meet with other book enthusiasts at 3pm in the Meeting Room at Flathead County Library Kalispell. November’s book club meets on a Thursday due to a library closure on Veteran’s Day.  \n\n See this month’s book  HERE.
URL:https://flatheadcountylibrary.org/event/friends-of-the-library-book-club-3/
LOCATION:Kalispell Library\, 247 1st Ave East\, Kalispell\, MT\, 59901\, United States
CATEGORIES:Book Club
END:VEVENT
BEGIN:VEVENT
DTSTART;TZID=America/Denver:20251112T140000
DTEND;TZID=America/Denver:20251112T170000
DTSTAMP:20260421T104216
CREATED:20250813T215359Z
LAST-MODIFIED:20250813T215359Z
UID:10004044-1762956000-1762966800@flatheadcountylibrary.org
SUMMARY:Kids Wednesday Workshop - Kalispell
DESCRIPTION:Join us every Wednesday for hands-on exploration\, including LEGO Club and STEAM Space (science\, technology\, engineering\, art\, and math activities). We’ll create art\, play games\, construct new worlds with LEGOs\, tackle an engineering challenge or learn a new craft. Especially for kids in grades K-5. Must be accompanied by an adult.
URL:https://flatheadcountylibrary.org/event/kids-wednesday-workshop-kalispell-2/2025-11-12/
LOCATION:Kalispell Library\, 247 1st Ave East\, Kalispell\, MT\, 59901\, United States
CATEGORIES:Kids Program
END:VEVENT
BEGIN:VEVENT
DTSTART;TZID=America/Denver:20251112T110000
DTEND;TZID=America/Denver:20251112T120000
DTSTAMP:20260421T104216
CREATED:20250813T215744Z
LAST-MODIFIED:20250813T215744Z
UID:10004072-1762945200-1762948800@flatheadcountylibrary.org
SUMMARY:Baby Storytime - Kalispell
DESCRIPTION:Make connections with other parents and learn fun techniques for using books\, songs\, and rhymes at home. Rhythm and repetition will get your little one recognizing and requesting favorite songs. Especially for ages birth to 24 months.
URL:https://flatheadcountylibrary.org/event/baby-storytime-kalispell-2/2025-11-12/
LOCATION:Kalispell Library\, 247 1st Ave East\, Kalispell\, MT\, 59901\, United States
CATEGORIES:Storytime
END:VEVENT
BEGIN:VEVENT
DTSTART;TZID=America/Denver:20251112T110000
DTEND;TZID=America/Denver:20251112T120000
DTSTAMP:20260421T104216
CREATED:20250813T212207Z
LAST-MODIFIED:20250813T212207Z
UID:10003586-1762945200-1762948800@flatheadcountylibrary.org
SUMMARY:Community Library Tour
DESCRIPTION:You’re invited to a fun and informative tour of your public library! Get a behind the scenes look into how your tax dollars work to bring great library services to the Flathead Valley! The second Wednesday of each month at 11am at your Kalispell Public Library. Tours are approximately 45 minutes long.
URL:https://flatheadcountylibrary.org/event/community-library-tour-2-2/2025-11-12/
LOCATION:Kalispell Library\, 247 1st Ave East\, Kalispell\, MT\, 59901\, United States
CATEGORIES:Adult Program
END:VEVENT
BEGIN:VEVENT
DTSTART;TZID=America/Denver:20251111T110000
DTEND;TZID=America/Denver:20251111T120000
DTSTAMP:20260421T104216
CREATED:20250813T220519Z
LAST-MODIFIED:20250813T220519Z
UID:10004227-1762858800-1762862400@flatheadcountylibrary.org
SUMMARY:Preschool Storytime - Kalispell
DESCRIPTION:Enjoy longer stories and musical activities that promote listening skills and following directions. Following storytime\, children can explore activities that highlight math\, art\, dramatic play and science. Especially for ages 4 and 5.
URL:https://flatheadcountylibrary.org/event/preschool-storytime-kalispell-2/2025-11-11/
LOCATION:Kalispell Library\, 247 1st Ave East\, Kalispell\, MT\, 59901\, United States
CATEGORIES:Storytime
END:VEVENT
BEGIN:VEVENT
DTSTART;VALUE=DATE:20251111
DTEND;VALUE=DATE:20251112
DTSTAMP:20260421T104216
CREATED:20251016T224615Z
LAST-MODIFIED:20251016T224615Z
UID:10004399-1762819200-1762905599@flatheadcountylibrary.org
SUMMARY:Libraries Closed
DESCRIPTION:All library branches will be closed in honor of Veterans Day.
URL:https://flatheadcountylibrary.org/event/libraries-closed-3/
LOCATION:Bigfork Library\, 186 Bridge Street\, Bigfork\, MT\, 59911\, United States
CATEGORIES:Library Closure
END:VEVENT
BEGIN:VEVENT
DTSTART;TZID=America/Denver:20251110T110000
DTEND;TZID=America/Denver:20251110T120000
DTSTAMP:20260421T104216
CREATED:20250813T220413Z
LAST-MODIFIED:20250813T220413Z
UID:10004199-1762772400-1762776000@flatheadcountylibrary.org
SUMMARY:Toddler Storytime - Kalispell
DESCRIPTION:Sing\, dance\, read and explore while also building social and emotional skills. This fun and interactive program is for toddlers who love to move! Caregiver participation encouraged. Especially for ages 2-4.
URL:https://flatheadcountylibrary.org/event/toddler-storytime-kalispell/2025-11-10/
LOCATION:Kalispell Library\, 247 1st Ave East\, Kalispell\, MT\, 59901\, United States
CATEGORIES:Storytime
END:VEVENT
BEGIN:VEVENT
DTSTART;TZID=America/Denver:20251108T100000
DTEND;TZID=America/Denver:20251108T120000
DTSTAMP:20260421T104216
CREATED:20251011T224808Z
LAST-MODIFIED:20251011T224820Z
UID:10003950-1762596000-1762603200@flatheadcountylibrary.org
SUMMARY:Sensory Play Saturday - Kalispell
DESCRIPTION:Sink your hands into a spectacular tub of fun! Mix\, measure\, pour or possibly search for tiny treasures. Children of all ages are welcome to join us at each library one Saturday a month!
URL:https://flatheadcountylibrary.org/event/sensory-play-saturday-kalispell-2-4/2025-11-08/
LOCATION:Kalispell Library\, 247 1st Ave East\, Kalispell\, MT\, 59901\, United States
CATEGORIES:Kids Program
END:VEVENT
BEGIN:VEVENT
DTSTART;TZID=America/Denver:20251106T150000
DTEND;TZID=America/Denver:20251106T170000
DTSTAMP:20260421T104216
CREATED:20250923T181905Z
LAST-MODIFIED:20251011T212709Z
UID:10004350-1762441200-1762448400@flatheadcountylibrary.org
SUMMARY:Seed Cleaning & Packing Party
DESCRIPTION:Join our friends from Land to Hand for another round of seed cleaning and seed packing parties at the library! Volunteers of all ages and abilities are welcome as we either separate and clean seeds or label and spoon seeds into envelopes. Stop by these family-friendly events and help us restock the Columbia Falls Library’s seed library and save seeds for next year’s Free the Seeds event.
URL:https://flatheadcountylibrary.org/event/seed-cleaning-packing-party-2/
LOCATION:Kalispell Library\, 247 1st Ave East\, Kalispell\, MT\, 59901\, United States
CATEGORIES:Adult Program
END:VEVENT
END:VCALENDAR