BEGIN:VCALENDAR
VERSION:2.0
PRODID:-//Flathead County Library - ECPv6.15.20//NONSGML v1.0//EN
CALSCALE:GREGORIAN
METHOD:PUBLISH
X-WR-CALNAME:Flathead County Library
X-ORIGINAL-URL:https://flatheadcountylibrary.org
X-WR-CALDESC:Events for Flathead County Library
REFRESH-INTERVAL;VALUE=DURATION:PT1H
X-Robots-Tag:noindex
X-PUBLISHED-TTL:PT1H
BEGIN:VTIMEZONE
TZID:America/Denver
BEGIN:DAYLIGHT
TZOFFSETFROM:-0700
TZOFFSETTO:-0600
TZNAME:MDT
DTSTART:20250309T090000
END:DAYLIGHT
BEGIN:STANDARD
TZOFFSETFROM:-0600
TZOFFSETTO:-0700
TZNAME:MST
DTSTART:20251102T080000
END:STANDARD
BEGIN:DAYLIGHT
TZOFFSETFROM:-0700
TZOFFSETTO:-0600
TZNAME:MDT
DTSTART:20260308T090000
END:DAYLIGHT
BEGIN:STANDARD
TZOFFSETFROM:-0600
TZOFFSETTO:-0700
TZNAME:MST
DTSTART:20261101T080000
END:STANDARD
BEGIN:DAYLIGHT
TZOFFSETFROM:-0700
TZOFFSETTO:-0600
TZNAME:MDT
DTSTART:20270314T090000
END:DAYLIGHT
BEGIN:STANDARD
TZOFFSETFROM:-0600
TZOFFSETTO:-0700
TZNAME:MST
DTSTART:20271107T080000
END:STANDARD
END:VTIMEZONE
BEGIN:VEVENT
DTSTART;TZID=America/Denver:20260506T110000
DTEND;TZID=America/Denver:20260506T120000
DTSTAMP:20260420T072835
CREATED:20260214T223817Z
LAST-MODIFIED:20260214T223818Z
UID:10006204-1778065200-1778068800@flatheadcountylibrary.org
SUMMARY:Baby Storytime-Kalispell
DESCRIPTION:Make connections with other parents and learn fun techniques for using books\, songs\, and rhymes at home. Rhythm and repetition will get your little one recognizing and requesting favorite songs. Especially for ages birth to 24 months.
URL:https://flatheadcountylibrary.org/event/baby-storytime-3-2/2026-05-06/
LOCATION:Kalispell Library\, 247 1st Ave East\, Kalispell\, MT\, 59901\, United States
CATEGORIES:Storytime
END:VEVENT
BEGIN:VEVENT
DTSTART;TZID=America/Denver:20260506T140000
DTEND;TZID=America/Denver:20260506T170000
DTSTAMP:20260420T072835
CREATED:20260207T163740Z
LAST-MODIFIED:20260207T163741Z
UID:10005952-1778076000-1778086800@flatheadcountylibrary.org
SUMMARY:Kids Wednesday Workshop (Grades K-5)-Kalispell
DESCRIPTION:Join us every Wednesday for hands-on exploration\, including LEGO Club and STEAM Space (science\, technology\, engineering\, art\, and math activities). We’ll create art\, play games\, construct new worlds with LEGOs\, tackle an engineering challenge or learn a new craft. Especially for kids in grades K-5. Must be accompanied by an adult.
URL:https://flatheadcountylibrary.org/event/kids-wednesday-workshop-grades-k-5-kalispell-2/2026-05-06/
LOCATION:Kalispell Library\, 247 1st Ave East\, Kalispell\, MT\, 59901\, United States
CATEGORIES:Kids Program
END:VEVENT
BEGIN:VEVENT
DTSTART;TZID=America/Denver:20260506T143000
DTEND;TZID=America/Denver:20260506T160000
DTSTAMP:20260420T072835
CREATED:20260411T191040Z
LAST-MODIFIED:20260411T191040Z
UID:10006382-1778077800-1778083200@flatheadcountylibrary.org
SUMMARY:Fandom (GRADES 6-12) – Glow-in-the-Dark Underwater Decorating
DESCRIPTION:Come chill with us in the Teen Zone on the 1st Wednesday every month. We’ll watch anime\, create unique merchandise\, and totally geek out.
URL:https://flatheadcountylibrary.org/event/fandom-grades-6-12-glow-in-the-dark-underwater-decorating/
LOCATION:Kalispell Library\, 247 1st Ave East\, Kalispell\, MT\, 59901\, United States
CATEGORIES:Teen Program
END:VEVENT
BEGIN:VEVENT
DTSTART;VALUE=DATE:20260507
DTEND;VALUE=DATE:20260508
DTSTAMP:20260420T072835
CREATED:20260213T222300Z
LAST-MODIFIED:20260213T222315Z
UID:10006022-1778112000-1778198399@flatheadcountylibrary.org
SUMMARY:Teen Switch Days-Kalispell
DESCRIPTION:Bring your friends or come solo and battle it out on the Nintendo Switch in our Teen Zone.
URL:https://flatheadcountylibrary.org/event/teen-switch-days-kalispell-2/2026-05-07/
LOCATION:Kalispell Library\, 247 1st Ave East\, Kalispell\, MT\, 59901\, United States
CATEGORIES:Teen Program
END:VEVENT
BEGIN:VEVENT
DTSTART;VALUE=DATE:20260508
DTEND;VALUE=DATE:20260509
DTSTAMP:20260420T072835
CREATED:20260213T222300Z
LAST-MODIFIED:20260213T222315Z
UID:10006023-1778198400-1778284799@flatheadcountylibrary.org
SUMMARY:Teen Switch Days-Kalispell
DESCRIPTION:Bring your friends or come solo and battle it out on the Nintendo Switch in our Teen Zone.
URL:https://flatheadcountylibrary.org/event/teen-switch-days-kalispell-2/2026-05-08/
LOCATION:Kalispell Library\, 247 1st Ave East\, Kalispell\, MT\, 59901\, United States
CATEGORIES:Teen Program
END:VEVENT
BEGIN:VEVENT
DTSTART;TZID=America/Denver:20260509T100000
DTEND;TZID=America/Denver:20260509T120000
DTSTAMP:20260420T072835
CREATED:20260214T184717Z
LAST-MODIFIED:20260214T184717Z
UID:10006142-1778320800-1778328000@flatheadcountylibrary.org
SUMMARY:Sensory Play Saturday-Kalispell
DESCRIPTION:Sink your hands into a spectacular tub of fun! Mix\, measure\, pour\, or possibly search for tiny treasures. Children of all ages are welcome to join us at each library one Saturday a month!
URL:https://flatheadcountylibrary.org/event/sensory-play-saturday-2-2/2026-05-09/
LOCATION:Kalispell Library\, 247 1st Ave East\, Kalispell\, MT\, 59901\, United States
CATEGORIES:Kids Program
END:VEVENT
BEGIN:VEVENT
DTSTART;TZID=America/Denver:20260511T110000
DTEND;TZID=America/Denver:20260511T120000
DTSTAMP:20260420T072835
CREATED:20260404T155244Z
LAST-MODIFIED:20260404T160804Z
UID:10006363-1778497200-1778500800@flatheadcountylibrary.org
SUMMARY:Toddler Storytime-Kalispell
DESCRIPTION:Sing\, dance\, read and explore while also building social and emotional skills. This fun and interactive program is for toddlers who love to move! Caregiver participation encouraged. Especially for ages 2-4.
URL:https://flatheadcountylibrary.org/event/toddler-storytime-kalispell-2-2-2/2026-05-11/
LOCATION:Kalispell Library\, 247 1st Ave East\, Kalispell\, MT\, 59901\, United States
CATEGORIES:Storytime
END:VEVENT
BEGIN:VEVENT
DTSTART;TZID=America/Denver:20260512T110000
DTEND;TZID=America/Denver:20260512T120000
DTSTAMP:20260420T072835
CREATED:20260214T225024Z
LAST-MODIFIED:20260404T155622Z
UID:10006377-1778583600-1778587200@flatheadcountylibrary.org
SUMMARY:Preschool Storytime-Kalispell
DESCRIPTION:Enjoy longer stories and musical activities that promote listening skills and following directions. Following storytime\, children can explore activities that highlight math\, art\, dramatic play\, and science. Especially for ages 4 and 5.
URL:https://flatheadcountylibrary.org/event/preschool-storytime-kalispell-3-2/2026-05-12/
LOCATION:Kalispell Library\, 247 1st Ave East\, Kalispell\, MT\, 59901\, United States
CATEGORIES:Storytime
END:VEVENT
BEGIN:VEVENT
DTSTART;TZID=America/Denver:20260512T150000
DTEND;TZID=America/Denver:20260512T160000
DTSTAMP:20260420T072835
CREATED:20251016T223853Z
LAST-MODIFIED:20251211T235827Z
UID:10004423-1778598000-1778601600@flatheadcountylibrary.org
SUMMARY:Friends of the Library Book Club
DESCRIPTION:Meet with other book enthusiasts on the 2nd Tuesday of the month at 3pm in the Meeting Room at Flathead County Library Kalispell.  \n\n See this month’s book  HERE.
URL:https://flatheadcountylibrary.org/event/friends-of-the-library-book-club-2/2026-05-12/
LOCATION:Kalispell Library\, 247 1st Ave East\, Kalispell\, MT\, 59901\, United States
CATEGORIES:Book Club
END:VEVENT
BEGIN:VEVENT
DTSTART;VALUE=DATE:20260513
DTEND;VALUE=DATE:20260514
DTSTAMP:20260420T072835
CREATED:20260213T222300Z
LAST-MODIFIED:20260213T222315Z
UID:10006024-1778630400-1778716799@flatheadcountylibrary.org
SUMMARY:Teen Switch Days-Kalispell
DESCRIPTION:Bring your friends or come solo and battle it out on the Nintendo Switch in our Teen Zone.
URL:https://flatheadcountylibrary.org/event/teen-switch-days-kalispell-2/2026-05-13/
LOCATION:Kalispell Library\, 247 1st Ave East\, Kalispell\, MT\, 59901\, United States
CATEGORIES:Teen Program
END:VEVENT
BEGIN:VEVENT
DTSTART;TZID=America/Denver:20260513T110000
DTEND;TZID=America/Denver:20260513T120000
DTSTAMP:20260420T072835
CREATED:20260214T223817Z
LAST-MODIFIED:20260214T223818Z
UID:10006205-1778670000-1778673600@flatheadcountylibrary.org
SUMMARY:Baby Storytime-Kalispell
DESCRIPTION:Make connections with other parents and learn fun techniques for using books\, songs\, and rhymes at home. Rhythm and repetition will get your little one recognizing and requesting favorite songs. Especially for ages birth to 24 months.
URL:https://flatheadcountylibrary.org/event/baby-storytime-3-2/2026-05-13/
LOCATION:Kalispell Library\, 247 1st Ave East\, Kalispell\, MT\, 59901\, United States
CATEGORIES:Storytime
END:VEVENT
BEGIN:VEVENT
DTSTART;TZID=America/Denver:20260513T140000
DTEND;TZID=America/Denver:20260513T170000
DTSTAMP:20260420T072835
CREATED:20260207T163740Z
LAST-MODIFIED:20260207T163741Z
UID:10005953-1778680800-1778691600@flatheadcountylibrary.org
SUMMARY:Kids Wednesday Workshop (Grades K-5)-Kalispell
DESCRIPTION:Join us every Wednesday for hands-on exploration\, including LEGO Club and STEAM Space (science\, technology\, engineering\, art\, and math activities). We’ll create art\, play games\, construct new worlds with LEGOs\, tackle an engineering challenge or learn a new craft. Especially for kids in grades K-5. Must be accompanied by an adult.
URL:https://flatheadcountylibrary.org/event/kids-wednesday-workshop-grades-k-5-kalispell-2/2026-05-13/
LOCATION:Kalispell Library\, 247 1st Ave East\, Kalispell\, MT\, 59901\, United States
CATEGORIES:Kids Program
END:VEVENT
BEGIN:VEVENT
DTSTART;TZID=America/Denver:20260513T143000
DTEND;TZID=America/Denver:20260513T160000
DTSTAMP:20260420T072836
CREATED:20260411T190748Z
LAST-MODIFIED:20260411T190748Z
UID:10006383-1778682600-1778688000@flatheadcountylibrary.org
SUMMARY:LVL-Up (GRADES 6-12) Kalispell – Jar Ramen
DESCRIPTION:Join us every month for LVL-Up. We’ll explore unique DIY projects\, learn new skills\, and expand your creativity.
URL:https://flatheadcountylibrary.org/event/lvl-up-grades-6-12-kalispell-jar-ramen/
LOCATION:Kalispell Library\, 247 1st Ave East\, Kalispell\, MT\, 59901\, United States
CATEGORIES:Teen Program
END:VEVENT
BEGIN:VEVENT
DTSTART;VALUE=DATE:20260514
DTEND;VALUE=DATE:20260515
DTSTAMP:20260420T072836
CREATED:20260213T222300Z
LAST-MODIFIED:20260213T222315Z
UID:10006025-1778716800-1778803199@flatheadcountylibrary.org
SUMMARY:Teen Switch Days-Kalispell
DESCRIPTION:Bring your friends or come solo and battle it out on the Nintendo Switch in our Teen Zone.
URL:https://flatheadcountylibrary.org/event/teen-switch-days-kalispell-2/2026-05-14/
LOCATION:Kalispell Library\, 247 1st Ave East\, Kalispell\, MT\, 59901\, United States
CATEGORIES:Teen Program
END:VEVENT
BEGIN:VEVENT
DTSTART;VALUE=DATE:20260515
DTEND;VALUE=DATE:20260516
DTSTAMP:20260420T072836
CREATED:20260213T222300Z
LAST-MODIFIED:20260213T222315Z
UID:10006026-1778803200-1778889599@flatheadcountylibrary.org
SUMMARY:Teen Switch Days-Kalispell
DESCRIPTION:Bring your friends or come solo and battle it out on the Nintendo Switch in our Teen Zone.
URL:https://flatheadcountylibrary.org/event/teen-switch-days-kalispell-2/2026-05-15/
LOCATION:Kalispell Library\, 247 1st Ave East\, Kalispell\, MT\, 59901\, United States
CATEGORIES:Teen Program
END:VEVENT
BEGIN:VEVENT
DTSTART;TZID=America/Denver:20260518T110000
DTEND;TZID=America/Denver:20260518T120000
DTSTAMP:20260420T072836
CREATED:20260404T155244Z
LAST-MODIFIED:20260404T160804Z
UID:10006364-1779102000-1779105600@flatheadcountylibrary.org
SUMMARY:Toddler Storytime-Kalispell
DESCRIPTION:Sing\, dance\, read and explore while also building social and emotional skills. This fun and interactive program is for toddlers who love to move! Caregiver participation encouraged. Especially for ages 2-4.
URL:https://flatheadcountylibrary.org/event/toddler-storytime-kalispell-2-2-2/2026-05-18/
LOCATION:Kalispell Library\, 247 1st Ave East\, Kalispell\, MT\, 59901\, United States
CATEGORIES:Storytime
END:VEVENT
BEGIN:VEVENT
DTSTART;TZID=America/Denver:20260519T103000
DTEND;TZID=America/Denver:20260519T123000
DTSTAMP:20260420T072836
CREATED:20260221T231636Z
LAST-MODIFIED:20260221T231636Z
UID:10006284-1779186600-1779193800@flatheadcountylibrary.org
SUMMARY:Genealogy Class - Kalispell
DESCRIPTION:Join instructors from Kalispell’s FamilySearch Center for genealogy classes geared toward individuals and families aged 13 and older. Learn personal researching skills\, connect with family history groups\, and get expert help navigating genealogical sites. This program will repeat every 1st and 3rd Tuesday in Kalispell and 2nd and 4th Tuesday in Bigfork.
URL:https://flatheadcountylibrary.org/event/genealogy-class-kalispell/2026-05-19/
LOCATION:Kalispell Library\, 247 1st Ave East\, Kalispell\, MT\, 59901\, United States
CATEGORIES:Adult Program
END:VEVENT
BEGIN:VEVENT
DTSTART;TZID=America/Denver:20260519T110000
DTEND;TZID=America/Denver:20260519T120000
DTSTAMP:20260420T072836
CREATED:20260214T225024Z
LAST-MODIFIED:20260404T155622Z
UID:10006378-1779188400-1779192000@flatheadcountylibrary.org
SUMMARY:Preschool Storytime-Kalispell
DESCRIPTION:Enjoy longer stories and musical activities that promote listening skills and following directions. Following storytime\, children can explore activities that highlight math\, art\, dramatic play\, and science. Especially for ages 4 and 5.
URL:https://flatheadcountylibrary.org/event/preschool-storytime-kalispell-3-2/2026-05-19/
LOCATION:Kalispell Library\, 247 1st Ave East\, Kalispell\, MT\, 59901\, United States
CATEGORIES:Storytime
END:VEVENT
BEGIN:VEVENT
DTSTART;VALUE=DATE:20260520
DTEND;VALUE=DATE:20260521
DTSTAMP:20260420T072836
CREATED:20260213T222300Z
LAST-MODIFIED:20260213T222315Z
UID:10006027-1779235200-1779321599@flatheadcountylibrary.org
SUMMARY:Teen Switch Days-Kalispell
DESCRIPTION:Bring your friends or come solo and battle it out on the Nintendo Switch in our Teen Zone.
URL:https://flatheadcountylibrary.org/event/teen-switch-days-kalispell-2/2026-05-20/
LOCATION:Kalispell Library\, 247 1st Ave East\, Kalispell\, MT\, 59901\, United States
CATEGORIES:Teen Program
END:VEVENT
BEGIN:VEVENT
DTSTART;TZID=America/Denver:20260520T110000
DTEND;TZID=America/Denver:20260520T120000
DTSTAMP:20260420T072836
CREATED:20260214T223817Z
LAST-MODIFIED:20260214T223818Z
UID:10006206-1779274800-1779278400@flatheadcountylibrary.org
SUMMARY:Baby Storytime-Kalispell
DESCRIPTION:Make connections with other parents and learn fun techniques for using books\, songs\, and rhymes at home. Rhythm and repetition will get your little one recognizing and requesting favorite songs. Especially for ages birth to 24 months.
URL:https://flatheadcountylibrary.org/event/baby-storytime-3-2/2026-05-20/
LOCATION:Kalispell Library\, 247 1st Ave East\, Kalispell\, MT\, 59901\, United States
CATEGORIES:Storytime
END:VEVENT
BEGIN:VEVENT
DTSTART;TZID=America/Denver:20260520T140000
DTEND;TZID=America/Denver:20260520T170000
DTSTAMP:20260420T072836
CREATED:20260207T163740Z
LAST-MODIFIED:20260207T163741Z
UID:10005954-1779285600-1779296400@flatheadcountylibrary.org
SUMMARY:Kids Wednesday Workshop (Grades K-5)-Kalispell
DESCRIPTION:Join us every Wednesday for hands-on exploration\, including LEGO Club and STEAM Space (science\, technology\, engineering\, art\, and math activities). We’ll create art\, play games\, construct new worlds with LEGOs\, tackle an engineering challenge or learn a new craft. Especially for kids in grades K-5. Must be accompanied by an adult.
URL:https://flatheadcountylibrary.org/event/kids-wednesday-workshop-grades-k-5-kalispell-2/2026-05-20/
LOCATION:Kalispell Library\, 247 1st Ave East\, Kalispell\, MT\, 59901\, United States
CATEGORIES:Kids Program
END:VEVENT
BEGIN:VEVENT
DTSTART;TZID=America/Denver:20260520T143000
DTEND;TZID=America/Denver:20260520T160000
DTSTAMP:20260420T072836
CREATED:20260411T190610Z
LAST-MODIFIED:20260411T190610Z
UID:10006385-1779287400-1779292800@flatheadcountylibrary.org
SUMMARY:Challenge Accepted (GRADES 6-12) – Homemade Ice Cream
DESCRIPTION:Join us once a month for hands on STEAM challenges where you’ll build\, design\, and experiment your way through fun projects that spark creativity and discovery.
URL:https://flatheadcountylibrary.org/event/challenge-accepted-grades-6-12-homemade-ice-cream/
LOCATION:Kalispell Library\, 247 1st Ave East\, Kalispell\, MT\, 59901\, United States
CATEGORIES:Teen Program
END:VEVENT
BEGIN:VEVENT
DTSTART;VALUE=DATE:20260521
DTEND;VALUE=DATE:20260522
DTSTAMP:20260420T072836
CREATED:20260213T222300Z
LAST-MODIFIED:20260213T222315Z
UID:10006028-1779321600-1779407999@flatheadcountylibrary.org
SUMMARY:Teen Switch Days-Kalispell
DESCRIPTION:Bring your friends or come solo and battle it out on the Nintendo Switch in our Teen Zone.
URL:https://flatheadcountylibrary.org/event/teen-switch-days-kalispell-2/2026-05-21/
LOCATION:Kalispell Library\, 247 1st Ave East\, Kalispell\, MT\, 59901\, United States
CATEGORIES:Teen Program
END:VEVENT
BEGIN:VEVENT
DTSTART;VALUE=DATE:20260522
DTEND;VALUE=DATE:20260523
DTSTAMP:20260420T072836
CREATED:20260213T222300Z
LAST-MODIFIED:20260213T222315Z
UID:10006029-1779408000-1779494399@flatheadcountylibrary.org
SUMMARY:Teen Switch Days-Kalispell
DESCRIPTION:Bring your friends or come solo and battle it out on the Nintendo Switch in our Teen Zone.
URL:https://flatheadcountylibrary.org/event/teen-switch-days-kalispell-2/2026-05-22/
LOCATION:Kalispell Library\, 247 1st Ave East\, Kalispell\, MT\, 59901\, United States
CATEGORIES:Teen Program
END:VEVENT
BEGIN:VEVENT
DTSTART;VALUE=DATE:20260525
DTEND;VALUE=DATE:20260526
DTSTAMP:20260420T072836
CREATED:20260214T202147Z
LAST-MODIFIED:20260220T223109Z
UID:10006180-1779667200-1779753599@flatheadcountylibrary.org
SUMMARY:Library Closed
DESCRIPTION:All Locations will be closed Monday\, May 25 in observance of Memorial Day.
URL:https://flatheadcountylibrary.org/event/library-closed-2/
LOCATION:Kalispell Library\, 247 1st Ave East\, Kalispell\, MT\, 59901\, United States
END:VEVENT
BEGIN:VEVENT
DTSTART;TZID=America/Denver:20260526T110000
DTEND;TZID=America/Denver:20260526T120000
DTSTAMP:20260420T072836
CREATED:20260214T225024Z
LAST-MODIFIED:20260404T155622Z
UID:10006379-1779793200-1779796800@flatheadcountylibrary.org
SUMMARY:Preschool Storytime-Kalispell
DESCRIPTION:Enjoy longer stories and musical activities that promote listening skills and following directions. Following storytime\, children can explore activities that highlight math\, art\, dramatic play\, and science. Especially for ages 4 and 5.
URL:https://flatheadcountylibrary.org/event/preschool-storytime-kalispell-3-2/2026-05-26/
LOCATION:Kalispell Library\, 247 1st Ave East\, Kalispell\, MT\, 59901\, United States
CATEGORIES:Storytime
END:VEVENT
BEGIN:VEVENT
DTSTART;VALUE=DATE:20260527
DTEND;VALUE=DATE:20260528
DTSTAMP:20260420T072836
CREATED:20260213T222300Z
LAST-MODIFIED:20260213T222315Z
UID:10006030-1779840000-1779926399@flatheadcountylibrary.org
SUMMARY:Teen Switch Days-Kalispell
DESCRIPTION:Bring your friends or come solo and battle it out on the Nintendo Switch in our Teen Zone.
URL:https://flatheadcountylibrary.org/event/teen-switch-days-kalispell-2/2026-05-27/
LOCATION:Kalispell Library\, 247 1st Ave East\, Kalispell\, MT\, 59901\, United States
CATEGORIES:Teen Program
END:VEVENT
BEGIN:VEVENT
DTSTART;TZID=America/Denver:20260527T110000
DTEND;TZID=America/Denver:20260527T120000
DTSTAMP:20260420T072836
CREATED:20260214T223817Z
LAST-MODIFIED:20260214T223818Z
UID:10006207-1779879600-1779883200@flatheadcountylibrary.org
SUMMARY:Baby Storytime-Kalispell
DESCRIPTION:Make connections with other parents and learn fun techniques for using books\, songs\, and rhymes at home. Rhythm and repetition will get your little one recognizing and requesting favorite songs. Especially for ages birth to 24 months.
URL:https://flatheadcountylibrary.org/event/baby-storytime-3-2/2026-05-27/
LOCATION:Kalispell Library\, 247 1st Ave East\, Kalispell\, MT\, 59901\, United States
CATEGORIES:Storytime
END:VEVENT
BEGIN:VEVENT
DTSTART;TZID=America/Denver:20260527T140000
DTEND;TZID=America/Denver:20260527T170000
DTSTAMP:20260420T072836
CREATED:20260207T163740Z
LAST-MODIFIED:20260207T163741Z
UID:10005955-1779890400-1779901200@flatheadcountylibrary.org
SUMMARY:Kids Wednesday Workshop (Grades K-5)-Kalispell
DESCRIPTION:Join us every Wednesday for hands-on exploration\, including LEGO Club and STEAM Space (science\, technology\, engineering\, art\, and math activities). We’ll create art\, play games\, construct new worlds with LEGOs\, tackle an engineering challenge or learn a new craft. Especially for kids in grades K-5. Must be accompanied by an adult.
URL:https://flatheadcountylibrary.org/event/kids-wednesday-workshop-grades-k-5-kalispell-2/2026-05-27/
LOCATION:Kalispell Library\, 247 1st Ave East\, Kalispell\, MT\, 59901\, United States
CATEGORIES:Kids Program
END:VEVENT
BEGIN:VEVENT
DTSTART;TZID=America/Denver:20260527T153000
DTEND;TZID=America/Denver:20260527T170000
DTSTAMP:20260420T072836
CREATED:20260411T190513Z
LAST-MODIFIED:20260411T190513Z
UID:10006381-1779895800-1779901200@flatheadcountylibrary.org
SUMMARY:Resume & Interview Workshop
DESCRIPTION:In this hands-on workshop\, teens will learn how to build a standout resume\, identify their strengths and skills\, and practice interview questions with professional job coaches from Express Employment Professionals. Come join us in this fun\, low‑pressure\, environment!
URL:https://flatheadcountylibrary.org/event/resume-interview-workshop/
LOCATION:Kalispell Library\, 247 1st Ave East\, Kalispell\, MT\, 59901\, United States
CATEGORIES:Teen Program
END:VEVENT
END:VCALENDAR