BEGIN:VCALENDAR
VERSION:2.0
PRODID:-//Flathead County Library - ECPv6.15.20//NONSGML v1.0//EN
CALSCALE:GREGORIAN
METHOD:PUBLISH
X-ORIGINAL-URL:https://flatheadcountylibrary.org
X-WR-CALDESC:Events for Flathead County Library
REFRESH-INTERVAL;VALUE=DURATION:PT1H
X-Robots-Tag:noindex
X-PUBLISHED-TTL:PT1H
BEGIN:VTIMEZONE
TZID:America/Denver
BEGIN:DAYLIGHT
TZOFFSETFROM:-0700
TZOFFSETTO:-0600
TZNAME:MDT
DTSTART:20240310T090000
END:DAYLIGHT
BEGIN:STANDARD
TZOFFSETFROM:-0600
TZOFFSETTO:-0700
TZNAME:MST
DTSTART:20241103T080000
END:STANDARD
BEGIN:DAYLIGHT
TZOFFSETFROM:-0700
TZOFFSETTO:-0600
TZNAME:MDT
DTSTART:20250309T090000
END:DAYLIGHT
BEGIN:STANDARD
TZOFFSETFROM:-0600
TZOFFSETTO:-0700
TZNAME:MST
DTSTART:20251102T080000
END:STANDARD
BEGIN:DAYLIGHT
TZOFFSETFROM:-0700
TZOFFSETTO:-0600
TZNAME:MDT
DTSTART:20260308T090000
END:DAYLIGHT
BEGIN:STANDARD
TZOFFSETFROM:-0600
TZOFFSETTO:-0700
TZNAME:MST
DTSTART:20261101T080000
END:STANDARD
END:VTIMEZONE
BEGIN:VEVENT
DTSTART;VALUE=DATE:20250328
DTEND;VALUE=DATE:20250329
DTSTAMP:20260423T162224
CREATED:20250304T204144Z
LAST-MODIFIED:20250304T205306Z
UID:10003403-1743120000-1743206399@flatheadcountylibrary.org
SUMMARY:Switch Days - Kalispell
DESCRIPTION:Bring your friends or come solo and battle it out on the Nintendo Switch in our Teen Zone.
URL:https://flatheadcountylibrary.org/event/switch-days-kalispell/2025-03-28/
LOCATION:Kalispell Library\, 247 1st Ave East\, Kalispell\, MT\, 59901\, United States
CATEGORIES:Teen Program
END:VEVENT
BEGIN:VEVENT
DTSTART;VALUE=DATE:20250327
DTEND;VALUE=DATE:20250328
DTSTAMP:20260423T162224
CREATED:20250304T204144Z
LAST-MODIFIED:20250304T205306Z
UID:10003402-1743033600-1743119999@flatheadcountylibrary.org
SUMMARY:Switch Days - Kalispell
DESCRIPTION:Bring your friends or come solo and battle it out on the Nintendo Switch in our Teen Zone.
URL:https://flatheadcountylibrary.org/event/switch-days-kalispell/2025-03-27/
LOCATION:Kalispell Library\, 247 1st Ave East\, Kalispell\, MT\, 59901\, United States
CATEGORIES:Teen Program
END:VEVENT
BEGIN:VEVENT
DTSTART;TZID=America/Denver:20250326T160000
DTEND;TZID=America/Denver:20250326T173000
DTSTAMP:20260423T162224
CREATED:20250304T202826Z
LAST-MODIFIED:20250327T170737Z
UID:10002772-1743004800-1743010200@flatheadcountylibrary.org
SUMMARY:Challenge Accepted (Grades 6-12)
DESCRIPTION:Card games\, Switch showdowns\, and awesome challenges!  Bring your best game\, relax\, get creative\, and discover something new! Walk-ins are welcome!
URL:https://flatheadcountylibrary.org/event/challenge-accepted/2025-03-26/
LOCATION:Kalispell Library\, 247 1st Ave East\, Kalispell\, MT\, 59901\, United States
CATEGORIES:Teen Program
END:VEVENT
BEGIN:VEVENT
DTSTART;TZID=America/Denver:20250326T140000
DTEND;TZID=America/Denver:20250326T170000
DTSTAMP:20260423T162224
CREATED:20250304T002412Z
LAST-MODIFIED:20250327T163001Z
UID:10002097-1742997600-1743008400@flatheadcountylibrary.org
SUMMARY:Kids Wednesday Workshop - Kalispell
DESCRIPTION:Join us every Wednesday for hands-on exploration\, including LEGO Club and STEAM Space (science\, technology\, engineering\, art\, and math activities). We’ll create art\, play games\, construct new worlds with LEGOs\, tackle an engineering challenge or learn a new craft. Especially for kids in grades K-5. Must be accompanied by an adult.
URL:https://flatheadcountylibrary.org/event/kids-wednesday-workshop-kalispell/2025-03-26/
LOCATION:Kalispell Library\, 247 1st Ave East\, Kalispell\, MT\, 59901\, United States
CATEGORIES:Kids Program,Storytime
END:VEVENT
BEGIN:VEVENT
DTSTART;TZID=America/Denver:20250326T110000
DTEND;TZID=America/Denver:20250326T120000
DTSTAMP:20260423T162224
CREATED:20250301T005721Z
LAST-MODIFIED:20250327T165219Z
UID:10001576-1742986800-1742990400@flatheadcountylibrary.org
SUMMARY:Baby Storytime - Kalispell
DESCRIPTION:Make connections with other parents and learn fun techniques for using books\, songs\, and rhymes at home. Rhythm and repetition will get your little one recognizing and requesting favorite songs. Especially for ages birth to 24 months.
URL:https://flatheadcountylibrary.org/event/baby-storytime-kalispell/2025-03-26/
LOCATION:Kalispell Library\, 247 1st Ave East\, Kalispell\, MT\, 59901\, United States
CATEGORIES:Storytime
END:VEVENT
BEGIN:VEVENT
DTSTART;VALUE=DATE:20250326
DTEND;VALUE=DATE:20250327
DTSTAMP:20260423T162224
CREATED:20250304T204144Z
LAST-MODIFIED:20250304T205306Z
UID:10002794-1742947200-1743033599@flatheadcountylibrary.org
SUMMARY:Switch Days - Kalispell
DESCRIPTION:Bring your friends or come solo and battle it out on the Nintendo Switch in our Teen Zone.
URL:https://flatheadcountylibrary.org/event/switch-days-kalispell/2025-03-26/
LOCATION:Kalispell Library\, 247 1st Ave East\, Kalispell\, MT\, 59901\, United States
CATEGORIES:Teen Program
END:VEVENT
BEGIN:VEVENT
DTSTART;TZID=America/Denver:20250325T110000
DTEND;TZID=America/Denver:20250325T120000
DTSTAMP:20260423T162224
CREATED:20250301T005020Z
LAST-MODIFIED:20250327T164624Z
UID:10000793-1742900400-1742904000@flatheadcountylibrary.org
SUMMARY:Preschool Storytime - Kalispell
DESCRIPTION:Enjoy longer stories and musical activities that promote listening skills and following directions. Following storytime\, children can explore activities that highlight math\, art\, dramatic play and science. Especially for ages 4 and 5.
URL:https://flatheadcountylibrary.org/event/preschool-storytime-kalispell/2025-03-25/
LOCATION:Kalispell Library\, 247 1st Ave East\, Kalispell\, MT\, 59901\, United States
CATEGORIES:Storytime
END:VEVENT
BEGIN:VEVENT
DTSTART;TZID=America/Denver:20250324T110000
DTEND;TZID=America/Denver:20250324T120000
DTSTAMP:20260423T162224
CREATED:20250228T004610Z
LAST-MODIFIED:20250327T164028Z
UID:10000267-1742814000-1742817600@flatheadcountylibrary.org
SUMMARY:Toddler Storytime - Kalispell
DESCRIPTION:Sing\, dance\, read and explore while also building social and emotional skills. This fun and interactive program is for toddlers who love to move! Caregiver participation encouraged. Especially for ages 2-4.
URL:https://flatheadcountylibrary.org/event/toddler-storytime/2025-03-24/
LOCATION:Kalispell Library\, 247 1st Ave East\, Kalispell\, MT\, 59901\, United States
CATEGORIES:Storytime
END:VEVENT
BEGIN:VEVENT
DTSTART;VALUE=DATE:20250321
DTEND;VALUE=DATE:20250322
DTSTAMP:20260423T162224
CREATED:20250304T204144Z
LAST-MODIFIED:20250304T205306Z
UID:10003401-1742515200-1742601599@flatheadcountylibrary.org
SUMMARY:Switch Days - Kalispell
DESCRIPTION:Bring your friends or come solo and battle it out on the Nintendo Switch in our Teen Zone.
URL:https://flatheadcountylibrary.org/event/switch-days-kalispell/2025-03-21/
LOCATION:Kalispell Library\, 247 1st Ave East\, Kalispell\, MT\, 59901\, United States
CATEGORIES:Teen Program
END:VEVENT
BEGIN:VEVENT
DTSTART;VALUE=DATE:20250320
DTEND;VALUE=DATE:20250321
DTSTAMP:20260423T162224
CREATED:20250304T204144Z
LAST-MODIFIED:20250304T205306Z
UID:10002792-1742428800-1742515199@flatheadcountylibrary.org
SUMMARY:Switch Days - Kalispell
DESCRIPTION:Bring your friends or come solo and battle it out on the Nintendo Switch in our Teen Zone.
URL:https://flatheadcountylibrary.org/event/switch-days-kalispell/2025-03-20/
LOCATION:Kalispell Library\, 247 1st Ave East\, Kalispell\, MT\, 59901\, United States
CATEGORIES:Teen Program
END:VEVENT
BEGIN:VEVENT
DTSTART;TZID=America/Denver:20250319T140000
DTEND;TZID=America/Denver:20250319T170000
DTSTAMP:20260423T162224
CREATED:20250304T002412Z
LAST-MODIFIED:20250327T163001Z
UID:10002096-1742392800-1742403600@flatheadcountylibrary.org
SUMMARY:Kids Wednesday Workshop - Kalispell
DESCRIPTION:Join us every Wednesday for hands-on exploration\, including LEGO Club and STEAM Space (science\, technology\, engineering\, art\, and math activities). We’ll create art\, play games\, construct new worlds with LEGOs\, tackle an engineering challenge or learn a new craft. Especially for kids in grades K-5. Must be accompanied by an adult.
URL:https://flatheadcountylibrary.org/event/kids-wednesday-workshop-kalispell/2025-03-19/
LOCATION:Kalispell Library\, 247 1st Ave East\, Kalispell\, MT\, 59901\, United States
CATEGORIES:Kids Program,Storytime
END:VEVENT
BEGIN:VEVENT
DTSTART;TZID=America/Denver:20250319T110000
DTEND;TZID=America/Denver:20250319T120000
DTSTAMP:20260423T162224
CREATED:20250301T005721Z
LAST-MODIFIED:20250327T165219Z
UID:10001575-1742382000-1742385600@flatheadcountylibrary.org
SUMMARY:Baby Storytime - Kalispell
DESCRIPTION:Make connections with other parents and learn fun techniques for using books\, songs\, and rhymes at home. Rhythm and repetition will get your little one recognizing and requesting favorite songs. Especially for ages birth to 24 months.
URL:https://flatheadcountylibrary.org/event/baby-storytime-kalispell/2025-03-19/
LOCATION:Kalispell Library\, 247 1st Ave East\, Kalispell\, MT\, 59901\, United States
CATEGORIES:Storytime
END:VEVENT
BEGIN:VEVENT
DTSTART;VALUE=DATE:20250319
DTEND;VALUE=DATE:20250320
DTSTAMP:20260423T162224
CREATED:20250304T204144Z
LAST-MODIFIED:20250304T205306Z
UID:10003400-1742342400-1742428799@flatheadcountylibrary.org
SUMMARY:Switch Days - Kalispell
DESCRIPTION:Bring your friends or come solo and battle it out on the Nintendo Switch in our Teen Zone.
URL:https://flatheadcountylibrary.org/event/switch-days-kalispell/2025-03-19/
LOCATION:Kalispell Library\, 247 1st Ave East\, Kalispell\, MT\, 59901\, United States
CATEGORIES:Teen Program
END:VEVENT
BEGIN:VEVENT
DTSTART;TZID=America/Denver:20250318T110000
DTEND;TZID=America/Denver:20250318T120000
DTSTAMP:20260423T162224
CREATED:20250301T005020Z
LAST-MODIFIED:20250327T164624Z
UID:10000792-1742295600-1742299200@flatheadcountylibrary.org
SUMMARY:Preschool Storytime - Kalispell
DESCRIPTION:Enjoy longer stories and musical activities that promote listening skills and following directions. Following storytime\, children can explore activities that highlight math\, art\, dramatic play and science. Especially for ages 4 and 5.
URL:https://flatheadcountylibrary.org/event/preschool-storytime-kalispell/2025-03-18/
LOCATION:Kalispell Library\, 247 1st Ave East\, Kalispell\, MT\, 59901\, United States
CATEGORIES:Storytime
END:VEVENT
BEGIN:VEVENT
DTSTART;TZID=America/Denver:20250317T110000
DTEND;TZID=America/Denver:20250317T120000
DTSTAMP:20260423T162224
CREATED:20250228T004610Z
LAST-MODIFIED:20250327T164028Z
UID:10000266-1742209200-1742212800@flatheadcountylibrary.org
SUMMARY:Toddler Storytime - Kalispell
DESCRIPTION:Sing\, dance\, read and explore while also building social and emotional skills. This fun and interactive program is for toddlers who love to move! Caregiver participation encouraged. Especially for ages 2-4.
URL:https://flatheadcountylibrary.org/event/toddler-storytime/2025-03-17/
LOCATION:Kalispell Library\, 247 1st Ave East\, Kalispell\, MT\, 59901\, United States
CATEGORIES:Storytime
END:VEVENT
BEGIN:VEVENT
DTSTART;VALUE=DATE:20250314
DTEND;VALUE=DATE:20250315
DTSTAMP:20260423T162224
CREATED:20250304T204144Z
LAST-MODIFIED:20250304T205306Z
UID:10002790-1741910400-1741996799@flatheadcountylibrary.org
SUMMARY:Switch Days - Kalispell
DESCRIPTION:Bring your friends or come solo and battle it out on the Nintendo Switch in our Teen Zone.
URL:https://flatheadcountylibrary.org/event/switch-days-kalispell/2025-03-14/
LOCATION:Kalispell Library\, 247 1st Ave East\, Kalispell\, MT\, 59901\, United States
CATEGORIES:Teen Program
END:VEVENT
BEGIN:VEVENT
DTSTART;VALUE=DATE:20250313
DTEND;VALUE=DATE:20250314
DTSTAMP:20260423T162224
CREATED:20250304T204144Z
LAST-MODIFIED:20250304T205306Z
UID:10003399-1741824000-1741910399@flatheadcountylibrary.org
SUMMARY:Switch Days - Kalispell
DESCRIPTION:Bring your friends or come solo and battle it out on the Nintendo Switch in our Teen Zone.
URL:https://flatheadcountylibrary.org/event/switch-days-kalispell/2025-03-13/
LOCATION:Kalispell Library\, 247 1st Ave East\, Kalispell\, MT\, 59901\, United States
CATEGORIES:Teen Program
END:VEVENT
BEGIN:VEVENT
DTSTART;TZID=America/Denver:20250312T160000
DTEND;TZID=America/Denver:20250312T173000
DTSTAMP:20260423T162224
CREATED:20250304T005155Z
LAST-MODIFIED:20250327T170231Z
UID:10002679-1741795200-1741800600@flatheadcountylibrary.org
SUMMARY:Crafternoons (Grades 6-12) - Kalispell
DESCRIPTION:Looking for a fun\, creative way to spend your afternoons? Join us every 2nd Wednesday of the month for Crafternoons at the Kalispell Teen Zone! Dive into fiber arts with free yarn\, crochet hooks\, patterns\, and expert tutors. Bring your own project or start something new. All skill levels are welcome. Walk-ins are welcome! For teens in grades 6-12.
URL:https://flatheadcountylibrary.org/event/crafternoons-kalispell/2025-03-12/
LOCATION:Kalispell Library\, 247 1st Ave East\, Kalispell\, MT\, 59901\, United States
CATEGORIES:Teen Program
END:VEVENT
BEGIN:VEVENT
DTSTART;TZID=America/Denver:20250312T140000
DTEND;TZID=America/Denver:20250312T170000
DTSTAMP:20260423T162224
CREATED:20250304T002412Z
LAST-MODIFIED:20250327T163001Z
UID:10002095-1741788000-1741798800@flatheadcountylibrary.org
SUMMARY:Kids Wednesday Workshop - Kalispell
DESCRIPTION:Join us every Wednesday for hands-on exploration\, including LEGO Club and STEAM Space (science\, technology\, engineering\, art\, and math activities). We’ll create art\, play games\, construct new worlds with LEGOs\, tackle an engineering challenge or learn a new craft. Especially for kids in grades K-5. Must be accompanied by an adult.
URL:https://flatheadcountylibrary.org/event/kids-wednesday-workshop-kalispell/2025-03-12/
LOCATION:Kalispell Library\, 247 1st Ave East\, Kalispell\, MT\, 59901\, United States
CATEGORIES:Kids Program,Storytime
END:VEVENT
BEGIN:VEVENT
DTSTART;TZID=America/Denver:20250312T110000
DTEND;TZID=America/Denver:20250312T120000
DTSTAMP:20260423T162224
CREATED:20250301T005721Z
LAST-MODIFIED:20250327T165219Z
UID:10001574-1741777200-1741780800@flatheadcountylibrary.org
SUMMARY:Baby Storytime - Kalispell
DESCRIPTION:Make connections with other parents and learn fun techniques for using books\, songs\, and rhymes at home. Rhythm and repetition will get your little one recognizing and requesting favorite songs. Especially for ages birth to 24 months.
URL:https://flatheadcountylibrary.org/event/baby-storytime-kalispell/2025-03-12/
LOCATION:Kalispell Library\, 247 1st Ave East\, Kalispell\, MT\, 59901\, United States
CATEGORIES:Storytime
END:VEVENT
BEGIN:VEVENT
DTSTART;VALUE=DATE:20250312
DTEND;VALUE=DATE:20250313
DTSTAMP:20260423T162224
CREATED:20250304T204144Z
LAST-MODIFIED:20250304T205306Z
UID:10003398-1741737600-1741823999@flatheadcountylibrary.org
SUMMARY:Switch Days - Kalispell
DESCRIPTION:Bring your friends or come solo and battle it out on the Nintendo Switch in our Teen Zone.
URL:https://flatheadcountylibrary.org/event/switch-days-kalispell/2025-03-12/
LOCATION:Kalispell Library\, 247 1st Ave East\, Kalispell\, MT\, 59901\, United States
CATEGORIES:Teen Program
END:VEVENT
BEGIN:VEVENT
DTSTART;TZID=America/Denver:20250311T150000
DTEND;TZID=America/Denver:20250311T160000
DTSTAMP:20260423T162224
CREATED:20250306T204205Z
LAST-MODIFIED:20251016T223023Z
UID:10003484-1741705200-1741708800@flatheadcountylibrary.org
SUMMARY:Friends of the Library Book Club
DESCRIPTION:Meet with other book enthusiasts on the 2nd Tuesday of the month at 3pm in the Meeting Room at Flathead County Library Kalispell.
URL:https://flatheadcountylibrary.org/event/friends-of-the-library-book-club/2025-03-11/
LOCATION:Kalispell Library\, 247 1st Ave East\, Kalispell\, MT\, 59901\, United States
CATEGORIES:Book Club
END:VEVENT
BEGIN:VEVENT
DTSTART;TZID=America/Denver:20250311T110000
DTEND;TZID=America/Denver:20250311T120000
DTSTAMP:20260423T162224
CREATED:20250301T005020Z
LAST-MODIFIED:20250327T164624Z
UID:10000791-1741690800-1741694400@flatheadcountylibrary.org
SUMMARY:Preschool Storytime - Kalispell
DESCRIPTION:Enjoy longer stories and musical activities that promote listening skills and following directions. Following storytime\, children can explore activities that highlight math\, art\, dramatic play and science. Especially for ages 4 and 5.
URL:https://flatheadcountylibrary.org/event/preschool-storytime-kalispell/2025-03-11/
LOCATION:Kalispell Library\, 247 1st Ave East\, Kalispell\, MT\, 59901\, United States
CATEGORIES:Storytime
END:VEVENT
BEGIN:VEVENT
DTSTART;TZID=America/Denver:20250310T110000
DTEND;TZID=America/Denver:20250310T120000
DTSTAMP:20260423T162224
CREATED:20250228T004610Z
LAST-MODIFIED:20250327T164028Z
UID:10000265-1741604400-1741608000@flatheadcountylibrary.org
SUMMARY:Toddler Storytime - Kalispell
DESCRIPTION:Sing\, dance\, read and explore while also building social and emotional skills. This fun and interactive program is for toddlers who love to move! Caregiver participation encouraged. Especially for ages 2-4.
URL:https://flatheadcountylibrary.org/event/toddler-storytime/2025-03-10/
LOCATION:Kalispell Library\, 247 1st Ave East\, Kalispell\, MT\, 59901\, United States
CATEGORIES:Storytime
END:VEVENT
BEGIN:VEVENT
DTSTART;TZID=America/Denver:20250308T100000
DTEND;TZID=America/Denver:20250308T123000
DTSTAMP:20260423T162224
CREATED:20250304T004220Z
LAST-MODIFIED:20250327T162348Z
UID:10003597-1741428000-1741437000@flatheadcountylibrary.org
SUMMARY:Sensory Play Saturday - Kalispell
DESCRIPTION:Sink your hands into a spectacular tub of fun! Mix\, measure\, pour or possibly search for tiny treasures. Children of all ages are welcome!
URL:https://flatheadcountylibrary.org/event/sensory-play-saturday-kalispell/2025-03-08/
LOCATION:Kalispell Library\, 247 1st Ave East\, Kalispell\, MT\, 59901\, United States
CATEGORIES:Kids Program
END:VEVENT
BEGIN:VEVENT
DTSTART;VALUE=DATE:20250307
DTEND;VALUE=DATE:20250308
DTSTAMP:20260423T162224
CREATED:20250304T204144Z
LAST-MODIFIED:20250304T205306Z
UID:10003397-1741305600-1741391999@flatheadcountylibrary.org
SUMMARY:Switch Days - Kalispell
DESCRIPTION:Bring your friends or come solo and battle it out on the Nintendo Switch in our Teen Zone.
URL:https://flatheadcountylibrary.org/event/switch-days-kalispell/2025-03-07/
LOCATION:Kalispell Library\, 247 1st Ave East\, Kalispell\, MT\, 59901\, United States
CATEGORIES:Teen Program
END:VEVENT
BEGIN:VEVENT
DTSTART;VALUE=DATE:20250306
DTEND;VALUE=DATE:20250307
DTSTAMP:20260423T162224
CREATED:20250304T204144Z
LAST-MODIFIED:20250304T205306Z
UID:10003396-1741219200-1741305599@flatheadcountylibrary.org
SUMMARY:Switch Days - Kalispell
DESCRIPTION:Bring your friends or come solo and battle it out on the Nintendo Switch in our Teen Zone.
URL:https://flatheadcountylibrary.org/event/switch-days-kalispell/2025-03-06/
LOCATION:Kalispell Library\, 247 1st Ave East\, Kalispell\, MT\, 59901\, United States
CATEGORIES:Teen Program
END:VEVENT
BEGIN:VEVENT
DTSTART;TZID=America/Denver:20250305T153000
DTEND;TZID=America/Denver:20250305T170000
DTSTAMP:20260423T162224
CREATED:20250304T195834Z
LAST-MODIFIED:20250327T170030Z
UID:10002741-1741188600-1741194000@flatheadcountylibrary.org
SUMMARY:Teen Fandom
DESCRIPTION:Come chill with us in the Teen Zone on the 1st Wednesday of every month. We’ll watch anime\, create unique merchandise\, and totally geek out. Walk-ins are welcome!
URL:https://flatheadcountylibrary.org/event/teen-fandom/2025-03-05/
LOCATION:Kalispell Library\, 247 1st Ave East\, Kalispell\, MT\, 59901\, United States
CATEGORIES:Teen Program
END:VEVENT
BEGIN:VEVENT
DTSTART;TZID=America/Denver:20250305T140000
DTEND;TZID=America/Denver:20250305T170000
DTSTAMP:20260423T162224
CREATED:20250304T002412Z
LAST-MODIFIED:20250327T163001Z
UID:10002094-1741183200-1741194000@flatheadcountylibrary.org
SUMMARY:Kids Wednesday Workshop - Kalispell
DESCRIPTION:Join us every Wednesday for hands-on exploration\, including LEGO Club and STEAM Space (science\, technology\, engineering\, art\, and math activities). We’ll create art\, play games\, construct new worlds with LEGOs\, tackle an engineering challenge or learn a new craft. Especially for kids in grades K-5. Must be accompanied by an adult.
URL:https://flatheadcountylibrary.org/event/kids-wednesday-workshop-kalispell/2025-03-05/
LOCATION:Kalispell Library\, 247 1st Ave East\, Kalispell\, MT\, 59901\, United States
CATEGORIES:Kids Program,Storytime
END:VEVENT
BEGIN:VEVENT
DTSTART;TZID=America/Denver:20250305T110000
DTEND;TZID=America/Denver:20250305T120000
DTSTAMP:20260423T162224
CREATED:20250301T005721Z
LAST-MODIFIED:20250327T165219Z
UID:10001573-1741172400-1741176000@flatheadcountylibrary.org
SUMMARY:Baby Storytime - Kalispell
DESCRIPTION:Make connections with other parents and learn fun techniques for using books\, songs\, and rhymes at home. Rhythm and repetition will get your little one recognizing and requesting favorite songs. Especially for ages birth to 24 months.
URL:https://flatheadcountylibrary.org/event/baby-storytime-kalispell/2025-03-05/
LOCATION:Kalispell Library\, 247 1st Ave East\, Kalispell\, MT\, 59901\, United States
CATEGORIES:Storytime
END:VEVENT
END:VCALENDAR