BEGIN:VCALENDAR
VERSION:2.0
PRODID:-//Flathead County Library - ECPv6.15.20//NONSGML v1.0//EN
CALSCALE:GREGORIAN
METHOD:PUBLISH
X-ORIGINAL-URL:https://flatheadcountylibrary.org
X-WR-CALDESC:Events for Flathead County Library
REFRESH-INTERVAL;VALUE=DURATION:PT1H
X-Robots-Tag:noindex
X-PUBLISHED-TTL:PT1H
BEGIN:VTIMEZONE
TZID:America/Denver
BEGIN:DAYLIGHT
TZOFFSETFROM:-0700
TZOFFSETTO:-0600
TZNAME:MDT
DTSTART:20250309T090000
END:DAYLIGHT
BEGIN:STANDARD
TZOFFSETFROM:-0600
TZOFFSETTO:-0700
TZNAME:MST
DTSTART:20251102T080000
END:STANDARD
BEGIN:DAYLIGHT
TZOFFSETFROM:-0700
TZOFFSETTO:-0600
TZNAME:MDT
DTSTART:20260308T090000
END:DAYLIGHT
BEGIN:STANDARD
TZOFFSETFROM:-0600
TZOFFSETTO:-0700
TZNAME:MST
DTSTART:20261101T080000
END:STANDARD
BEGIN:DAYLIGHT
TZOFFSETFROM:-0700
TZOFFSETTO:-0600
TZNAME:MDT
DTSTART:20270314T090000
END:DAYLIGHT
BEGIN:STANDARD
TZOFFSETFROM:-0600
TZOFFSETTO:-0700
TZNAME:MST
DTSTART:20271107T080000
END:STANDARD
END:VTIMEZONE
BEGIN:VEVENT
DTSTART;TZID=America/Denver:20260325T140000
DTEND;TZID=America/Denver:20260325T170000
DTSTAMP:20260420T095237
CREATED:20260207T163740Z
LAST-MODIFIED:20260207T163741Z
UID:10004944-1774447200-1774458000@flatheadcountylibrary.org
SUMMARY:Kids Wednesday Workshop (Grades K-5)-Kalispell
DESCRIPTION:Join us every Wednesday for hands-on exploration\, including LEGO Club and STEAM Space (science\, technology\, engineering\, art\, and math activities). We’ll create art\, play games\, construct new worlds with LEGOs\, tackle an engineering challenge or learn a new craft. Especially for kids in grades K-5. Must be accompanied by an adult.
URL:https://flatheadcountylibrary.org/event/kids-wednesday-workshop-grades-k-5-kalispell-2/2026-03-25/
LOCATION:Kalispell Library\, 247 1st Ave East\, Kalispell\, MT\, 59901\, United States
CATEGORIES:Kids Program
END:VEVENT
BEGIN:VEVENT
DTSTART;TZID=America/Denver:20260325T110000
DTEND;TZID=America/Denver:20260325T120000
DTSTAMP:20260420T095237
CREATED:20260214T223817Z
LAST-MODIFIED:20260214T223818Z
UID:10004701-1774436400-1774440000@flatheadcountylibrary.org
SUMMARY:Baby Storytime-Kalispell
DESCRIPTION:Make connections with other parents and learn fun techniques for using books\, songs\, and rhymes at home. Rhythm and repetition will get your little one recognizing and requesting favorite songs. Especially for ages birth to 24 months.
URL:https://flatheadcountylibrary.org/event/baby-storytime-3-2/2026-03-25/
LOCATION:Kalispell Library\, 247 1st Ave East\, Kalispell\, MT\, 59901\, United States
CATEGORIES:Storytime
END:VEVENT
BEGIN:VEVENT
DTSTART;VALUE=DATE:20260325
DTEND;VALUE=DATE:20260326
DTSTAMP:20260420T095237
CREATED:20260213T222300Z
LAST-MODIFIED:20260213T222315Z
UID:10006003-1774396800-1774483199@flatheadcountylibrary.org
SUMMARY:Teen Switch Days-Kalispell
DESCRIPTION:Bring your friends or come solo and battle it out on the Nintendo Switch in our Teen Zone.
URL:https://flatheadcountylibrary.org/event/teen-switch-days-kalispell-2/2026-03-25/
LOCATION:Kalispell Library\, 247 1st Ave East\, Kalispell\, MT\, 59901\, United States
CATEGORIES:Teen Program
END:VEVENT
BEGIN:VEVENT
DTSTART;TZID=America/Denver:20260324T110000
DTEND;TZID=America/Denver:20260324T120000
DTSTAMP:20260420T095237
CREATED:20260214T225024Z
LAST-MODIFIED:20260404T155622Z
UID:10006370-1774350000-1774353600@flatheadcountylibrary.org
SUMMARY:Preschool Storytime-Kalispell
DESCRIPTION:Enjoy longer stories and musical activities that promote listening skills and following directions. Following storytime\, children can explore activities that highlight math\, art\, dramatic play\, and science. Especially for ages 4 and 5.
URL:https://flatheadcountylibrary.org/event/preschool-storytime-kalispell-3-2/2026-03-24/
LOCATION:Kalispell Library\, 247 1st Ave East\, Kalispell\, MT\, 59901\, United States
CATEGORIES:Storytime
END:VEVENT
BEGIN:VEVENT
DTSTART;VALUE=DATE:20260320
DTEND;VALUE=DATE:20260321
DTSTAMP:20260420T095237
CREATED:20260213T222300Z
LAST-MODIFIED:20260213T222315Z
UID:10006002-1773964800-1774051199@flatheadcountylibrary.org
SUMMARY:Teen Switch Days-Kalispell
DESCRIPTION:Bring your friends or come solo and battle it out on the Nintendo Switch in our Teen Zone.
URL:https://flatheadcountylibrary.org/event/teen-switch-days-kalispell-2/2026-03-20/
LOCATION:Kalispell Library\, 247 1st Ave East\, Kalispell\, MT\, 59901\, United States
CATEGORIES:Teen Program
END:VEVENT
BEGIN:VEVENT
DTSTART;VALUE=DATE:20260319
DTEND;VALUE=DATE:20260320
DTSTAMP:20260420T095237
CREATED:20260213T222300Z
LAST-MODIFIED:20260213T222315Z
UID:10006001-1773878400-1773964799@flatheadcountylibrary.org
SUMMARY:Teen Switch Days-Kalispell
DESCRIPTION:Bring your friends or come solo and battle it out on the Nintendo Switch in our Teen Zone.
URL:https://flatheadcountylibrary.org/event/teen-switch-days-kalispell-2/2026-03-19/
LOCATION:Kalispell Library\, 247 1st Ave East\, Kalispell\, MT\, 59901\, United States
CATEGORIES:Teen Program
END:VEVENT
BEGIN:VEVENT
DTSTART;TZID=America/Denver:20260318T143000
DTEND;TZID=America/Denver:20260318T160000
DTSTAMP:20260420T095237
CREATED:20260207T173209Z
LAST-MODIFIED:20260213T222134Z
UID:10005980-1773844200-1773849600@flatheadcountylibrary.org
SUMMARY:Challenge Accepted (GRADES 6-12) – FrankenToys
DESCRIPTION:Join us once a month for hands on STEAM challenges where you’ll build\, design\, and experiment your way through fun projects that spark creativity and discovery.
URL:https://flatheadcountylibrary.org/event/challenge-accepted-grades-6-12-franken-toys/
LOCATION:Kalispell Library\, 247 1st Ave East\, Kalispell\, MT\, 59901\, United States
CATEGORIES:Teen Program
END:VEVENT
BEGIN:VEVENT
DTSTART;TZID=America/Denver:20260318T140000
DTEND;TZID=America/Denver:20260318T170000
DTSTAMP:20260420T095237
CREATED:20260207T163740Z
LAST-MODIFIED:20260207T163741Z
UID:10004943-1773842400-1773853200@flatheadcountylibrary.org
SUMMARY:Kids Wednesday Workshop (Grades K-5)-Kalispell
DESCRIPTION:Join us every Wednesday for hands-on exploration\, including LEGO Club and STEAM Space (science\, technology\, engineering\, art\, and math activities). We’ll create art\, play games\, construct new worlds with LEGOs\, tackle an engineering challenge or learn a new craft. Especially for kids in grades K-5. Must be accompanied by an adult.
URL:https://flatheadcountylibrary.org/event/kids-wednesday-workshop-grades-k-5-kalispell-2/2026-03-18/
LOCATION:Kalispell Library\, 247 1st Ave East\, Kalispell\, MT\, 59901\, United States
CATEGORIES:Kids Program
END:VEVENT
BEGIN:VEVENT
DTSTART;TZID=America/Denver:20260318T110000
DTEND;TZID=America/Denver:20260318T120000
DTSTAMP:20260420T095237
CREATED:20260214T223817Z
LAST-MODIFIED:20260214T223818Z
UID:10004700-1773831600-1773835200@flatheadcountylibrary.org
SUMMARY:Baby Storytime-Kalispell
DESCRIPTION:Make connections with other parents and learn fun techniques for using books\, songs\, and rhymes at home. Rhythm and repetition will get your little one recognizing and requesting favorite songs. Especially for ages birth to 24 months.
URL:https://flatheadcountylibrary.org/event/baby-storytime-3-2/2026-03-18/
LOCATION:Kalispell Library\, 247 1st Ave East\, Kalispell\, MT\, 59901\, United States
CATEGORIES:Storytime
END:VEVENT
BEGIN:VEVENT
DTSTART;VALUE=DATE:20260318
DTEND;VALUE=DATE:20260319
DTSTAMP:20260420T095237
CREATED:20260213T222300Z
LAST-MODIFIED:20260213T222315Z
UID:10006000-1773792000-1773878399@flatheadcountylibrary.org
SUMMARY:Teen Switch Days-Kalispell
DESCRIPTION:Bring your friends or come solo and battle it out on the Nintendo Switch in our Teen Zone.
URL:https://flatheadcountylibrary.org/event/teen-switch-days-kalispell-2/2026-03-18/
LOCATION:Kalispell Library\, 247 1st Ave East\, Kalispell\, MT\, 59901\, United States
CATEGORIES:Teen Program
END:VEVENT
BEGIN:VEVENT
DTSTART;TZID=America/Denver:20260317T110000
DTEND;TZID=America/Denver:20260317T120000
DTSTAMP:20260420T095237
CREATED:20260214T225024Z
LAST-MODIFIED:20260404T155622Z
UID:10006369-1773745200-1773748800@flatheadcountylibrary.org
SUMMARY:Preschool Storytime-Kalispell
DESCRIPTION:Enjoy longer stories and musical activities that promote listening skills and following directions. Following storytime\, children can explore activities that highlight math\, art\, dramatic play\, and science. Especially for ages 4 and 5.
URL:https://flatheadcountylibrary.org/event/preschool-storytime-kalispell-3-2/2026-03-17/
LOCATION:Kalispell Library\, 247 1st Ave East\, Kalispell\, MT\, 59901\, United States
CATEGORIES:Storytime
END:VEVENT
BEGIN:VEVENT
DTSTART;TZID=America/Denver:20260317T103000
DTEND;TZID=America/Denver:20260317T123000
DTSTAMP:20260420T095237
CREATED:20251204T212438Z
LAST-MODIFIED:20251204T212438Z
UID:10004634-1773743400-1773750600@flatheadcountylibrary.org
SUMMARY:Genealogy Class
DESCRIPTION:Join instructors from Kalispell’s FamilySearch Center for genealogy classes geared toward individuals and families aged 13 and older. Learn personal researching skills\, connect with family history groups\, and get expert help navigating genealogical sites. This program will repeat every 1st and 3rd Tuesday in Kalispell.
URL:https://flatheadcountylibrary.org/event/genealogy-class-6/2026-03-17/
LOCATION:Kalispell Library\, 247 1st Ave East\, Kalispell\, MT\, 59901\, United States
CATEGORIES:Adult Program
END:VEVENT
BEGIN:VEVENT
DTSTART;TZID=America/Denver:20260316T170000
DTEND;TZID=America/Denver:20260316T170000
DTSTAMP:20260420T095237
CREATED:20260214T194500Z
LAST-MODIFIED:20260220T222843Z
UID:10006169-1773680400-1773680400@flatheadcountylibrary.org
SUMMARY:Toddler Storytime-Kalispell
DESCRIPTION:Sing\, dance\, read and explore while also building social and emotional skills. This fun and interactive program is for toddlers who love to move! Caregiver participation encouraged. Especially for ages 2-4.
URL:https://flatheadcountylibrary.org/event/toddler-storytime-kalispell-2-2/2026-03-16/
LOCATION:Kalispell Library\, 247 1st Ave East\, Kalispell\, MT\, 59901\, United States
CATEGORIES:Storytime
END:VEVENT
BEGIN:VEVENT
DTSTART;TZID=America/Denver:20260314T130000
DTEND;TZID=America/Denver:20260314T160000
DTSTAMP:20260420T095237
CREATED:20260212T214723Z
LAST-MODIFIED:20260214T223148Z
UID:10006138-1773493200-1773504000@flatheadcountylibrary.org
SUMMARY:Build a Bird Feeder with WORKSHOPMT (Grades 4-8)
DESCRIPTION:Calling all 4th through 8th graders! Come and learn the basics of woodworking and how to properly use tools and safety equipment as you build a bird feeder. Along the way\, practice critical thinking and problem solving as you build relationships and creativity through construction.  The program is free\, so sign up today!\nRegistration required and space is limited.  Register at: bit.ly/birdfeeder-workshop
URL:https://flatheadcountylibrary.org/event/build-a-bird-feeder-with-workshopmt-grades-4-8/
LOCATION:Kalispell Library\, 247 1st Ave East\, Kalispell\, MT\, 59901\, United States
CATEGORIES:Kids Program,Teen Program
END:VEVENT
BEGIN:VEVENT
DTSTART;TZID=America/Denver:20260314T100000
DTEND;TZID=America/Denver:20260314T120000
DTSTAMP:20260420T095237
CREATED:20260214T184717Z
LAST-MODIFIED:20260214T184717Z
UID:10004662-1773482400-1773489600@flatheadcountylibrary.org
SUMMARY:Sensory Play Saturday-Kalispell
DESCRIPTION:Sink your hands into a spectacular tub of fun! Mix\, measure\, pour\, or possibly search for tiny treasures. Children of all ages are welcome to join us at each library one Saturday a month!
URL:https://flatheadcountylibrary.org/event/sensory-play-saturday-2-2/2026-03-14/
LOCATION:Kalispell Library\, 247 1st Ave East\, Kalispell\, MT\, 59901\, United States
CATEGORIES:Kids Program
END:VEVENT
BEGIN:VEVENT
DTSTART;VALUE=DATE:20260313
DTEND;VALUE=DATE:20260314
DTSTAMP:20260420T095237
CREATED:20260213T222300Z
LAST-MODIFIED:20260213T222315Z
UID:10005999-1773360000-1773446399@flatheadcountylibrary.org
SUMMARY:Teen Switch Days-Kalispell
DESCRIPTION:Bring your friends or come solo and battle it out on the Nintendo Switch in our Teen Zone.
URL:https://flatheadcountylibrary.org/event/teen-switch-days-kalispell-2/2026-03-13/
LOCATION:Kalispell Library\, 247 1st Ave East\, Kalispell\, MT\, 59901\, United States
CATEGORIES:Teen Program
END:VEVENT
BEGIN:VEVENT
DTSTART;VALUE=DATE:20260312
DTEND;VALUE=DATE:20260313
DTSTAMP:20260420T095237
CREATED:20260213T222300Z
LAST-MODIFIED:20260213T222315Z
UID:10005998-1773273600-1773359999@flatheadcountylibrary.org
SUMMARY:Teen Switch Days-Kalispell
DESCRIPTION:Bring your friends or come solo and battle it out on the Nintendo Switch in our Teen Zone.
URL:https://flatheadcountylibrary.org/event/teen-switch-days-kalispell-2/2026-03-12/
LOCATION:Kalispell Library\, 247 1st Ave East\, Kalispell\, MT\, 59901\, United States
CATEGORIES:Teen Program
END:VEVENT
BEGIN:VEVENT
DTSTART;TZID=America/Denver:20260311T143000
DTEND;TZID=America/Denver:20260311T160000
DTSTAMP:20260420T095237
CREATED:20260207T172824Z
LAST-MODIFIED:20260207T172824Z
UID:10005978-1773239400-1773244800@flatheadcountylibrary.org
SUMMARY:LVL-Up (GRADES 6-12) Kalispell – Faux Stained Glass
DESCRIPTION:Join us every month for LVL-Up. We’ll explore unique DIY projects\, learn new skills\, and expand your creativity.
URL:https://flatheadcountylibrary.org/event/lvl-up-grades-6-12-kalispell-faux-stained-glass/
LOCATION:Kalispell Library\, 247 1st Ave East\, Kalispell\, MT\, 59901\, United States
CATEGORIES:Teen Program
END:VEVENT
BEGIN:VEVENT
DTSTART;TZID=America/Denver:20260311T140000
DTEND;TZID=America/Denver:20260311T170000
DTSTAMP:20260420T095237
CREATED:20260207T163740Z
LAST-MODIFIED:20260207T163741Z
UID:10004942-1773237600-1773248400@flatheadcountylibrary.org
SUMMARY:Kids Wednesday Workshop (Grades K-5)-Kalispell
DESCRIPTION:Join us every Wednesday for hands-on exploration\, including LEGO Club and STEAM Space (science\, technology\, engineering\, art\, and math activities). We’ll create art\, play games\, construct new worlds with LEGOs\, tackle an engineering challenge or learn a new craft. Especially for kids in grades K-5. Must be accompanied by an adult.
URL:https://flatheadcountylibrary.org/event/kids-wednesday-workshop-grades-k-5-kalispell-2/2026-03-11/
LOCATION:Kalispell Library\, 247 1st Ave East\, Kalispell\, MT\, 59901\, United States
CATEGORIES:Kids Program
END:VEVENT
BEGIN:VEVENT
DTSTART;TZID=America/Denver:20260311T110000
DTEND;TZID=America/Denver:20260311T120000
DTSTAMP:20260420T095238
CREATED:20260214T223817Z
LAST-MODIFIED:20260214T223818Z
UID:10004699-1773226800-1773230400@flatheadcountylibrary.org
SUMMARY:Baby Storytime-Kalispell
DESCRIPTION:Make connections with other parents and learn fun techniques for using books\, songs\, and rhymes at home. Rhythm and repetition will get your little one recognizing and requesting favorite songs. Especially for ages birth to 24 months.
URL:https://flatheadcountylibrary.org/event/baby-storytime-3-2/2026-03-11/
LOCATION:Kalispell Library\, 247 1st Ave East\, Kalispell\, MT\, 59901\, United States
CATEGORIES:Storytime
END:VEVENT
BEGIN:VEVENT
DTSTART;VALUE=DATE:20260311
DTEND;VALUE=DATE:20260312
DTSTAMP:20260420T095238
CREATED:20260213T222300Z
LAST-MODIFIED:20260213T222315Z
UID:10005997-1773187200-1773273599@flatheadcountylibrary.org
SUMMARY:Teen Switch Days-Kalispell
DESCRIPTION:Bring your friends or come solo and battle it out on the Nintendo Switch in our Teen Zone.
URL:https://flatheadcountylibrary.org/event/teen-switch-days-kalispell-2/2026-03-11/
LOCATION:Kalispell Library\, 247 1st Ave East\, Kalispell\, MT\, 59901\, United States
CATEGORIES:Teen Program
END:VEVENT
BEGIN:VEVENT
DTSTART;TZID=America/Denver:20260310T150000
DTEND;TZID=America/Denver:20260310T160000
DTSTAMP:20260420T095238
CREATED:20251016T223853Z
LAST-MODIFIED:20251211T235827Z
UID:10004421-1773154800-1773158400@flatheadcountylibrary.org
SUMMARY:Friends of the Library Book Club
DESCRIPTION:Meet with other book enthusiasts on the 2nd Tuesday of the month at 3pm in the Meeting Room at Flathead County Library Kalispell.  \n\n See this month’s book  HERE.
URL:https://flatheadcountylibrary.org/event/friends-of-the-library-book-club-2/2026-03-10/
LOCATION:Kalispell Library\, 247 1st Ave East\, Kalispell\, MT\, 59901\, United States
CATEGORIES:Book Club
END:VEVENT
BEGIN:VEVENT
DTSTART;TZID=America/Denver:20260310T110000
DTEND;TZID=America/Denver:20260310T120000
DTSTAMP:20260420T095238
CREATED:20260214T225024Z
LAST-MODIFIED:20260404T155622Z
UID:10006368-1773140400-1773144000@flatheadcountylibrary.org
SUMMARY:Preschool Storytime-Kalispell
DESCRIPTION:Enjoy longer stories and musical activities that promote listening skills and following directions. Following storytime\, children can explore activities that highlight math\, art\, dramatic play\, and science. Especially for ages 4 and 5.
URL:https://flatheadcountylibrary.org/event/preschool-storytime-kalispell-3-2/2026-03-10/
LOCATION:Kalispell Library\, 247 1st Ave East\, Kalispell\, MT\, 59901\, United States
CATEGORIES:Storytime
END:VEVENT
BEGIN:VEVENT
DTSTART;TZID=America/Denver:20260309T170000
DTEND;TZID=America/Denver:20260309T170000
DTSTAMP:20260420T095238
CREATED:20260214T194500Z
LAST-MODIFIED:20260220T222843Z
UID:10006168-1773075600-1773075600@flatheadcountylibrary.org
SUMMARY:Toddler Storytime-Kalispell
DESCRIPTION:Sing\, dance\, read and explore while also building social and emotional skills. This fun and interactive program is for toddlers who love to move! Caregiver participation encouraged. Especially for ages 2-4.
URL:https://flatheadcountylibrary.org/event/toddler-storytime-kalispell-2-2/2026-03-09/
LOCATION:Kalispell Library\, 247 1st Ave East\, Kalispell\, MT\, 59901\, United States
CATEGORIES:Storytime
END:VEVENT
BEGIN:VEVENT
DTSTART;VALUE=DATE:20260309
DTEND;VALUE=DATE:20260419
DTSTAMP:20260420T095238
CREATED:20260225T213327Z
LAST-MODIFIED:20260228T181216Z
UID:10006300-1773014400-1776556799@flatheadcountylibrary.org
SUMMARY:Spring Bookmark Contest for Teens (GRADES 6-12)
DESCRIPTION:Our Annual Spring Bookmark Contest for Teens is back and this year’s theme is Underwater. Create a bookmark with a deep-sea scene and submit your design using the form at: flatheadcountylibrary.org/programs/photo-gallery/.\nOr pick up a registration form in the Teen Zone at any Flathead County Library location.\n    Contest entry period: March 9 – April 18\n    Voting period:  April 1 – 18\n    Winners announced:  April 27
URL:https://flatheadcountylibrary.org/event/spring-bookmark-contest-for-teens-grades-6-12/
LOCATION:Kalispell Library\, 247 1st Ave East\, Kalispell\, MT\, 59901\, United States
CATEGORIES:Teen Program
END:VEVENT
BEGIN:VEVENT
DTSTART;VALUE=DATE:20260306
DTEND;VALUE=DATE:20260307
DTSTAMP:20260420T095238
CREATED:20260213T222300Z
LAST-MODIFIED:20260213T222315Z
UID:10005996-1772755200-1772841599@flatheadcountylibrary.org
SUMMARY:Teen Switch Days-Kalispell
DESCRIPTION:Bring your friends or come solo and battle it out on the Nintendo Switch in our Teen Zone.
URL:https://flatheadcountylibrary.org/event/teen-switch-days-kalispell-2/2026-03-06/
LOCATION:Kalispell Library\, 247 1st Ave East\, Kalispell\, MT\, 59901\, United States
CATEGORIES:Teen Program
END:VEVENT
BEGIN:VEVENT
DTSTART;VALUE=DATE:20260305
DTEND;VALUE=DATE:20260306
DTSTAMP:20260420T095238
CREATED:20260213T222300Z
LAST-MODIFIED:20260213T222315Z
UID:10005995-1772668800-1772755199@flatheadcountylibrary.org
SUMMARY:Teen Switch Days-Kalispell
DESCRIPTION:Bring your friends or come solo and battle it out on the Nintendo Switch in our Teen Zone.
URL:https://flatheadcountylibrary.org/event/teen-switch-days-kalispell-2/2026-03-05/
LOCATION:Kalispell Library\, 247 1st Ave East\, Kalispell\, MT\, 59901\, United States
CATEGORIES:Teen Program
END:VEVENT
BEGIN:VEVENT
DTSTART;TZID=America/Denver:20260304T143000
DTEND;TZID=America/Denver:20260304T160000
DTSTAMP:20260420T095238
CREATED:20260207T172617Z
LAST-MODIFIED:20260207T172617Z
UID:10005977-1772634600-1772640000@flatheadcountylibrary.org
SUMMARY:Fandom (GRADES 6-12) – Motif Stamp Making
DESCRIPTION:Come chill with us in the Teen Zone on the 1st Wednesday every month. We’ll watch anime\, create unique merchandise\, and totally geek out.
URL:https://flatheadcountylibrary.org/event/fandom-grades-6-12-motif-stamp-making/
LOCATION:Kalispell Library\, 247 1st Ave East\, Kalispell\, MT\, 59901\, United States
CATEGORIES:Teen Program
END:VEVENT
BEGIN:VEVENT
DTSTART;TZID=America/Denver:20260304T140000
DTEND;TZID=America/Denver:20260304T170000
DTSTAMP:20260420T095238
CREATED:20260115T220649Z
LAST-MODIFIED:20260207T171610Z
UID:10005975-1772632800-1772643600@flatheadcountylibrary.org
SUMMARY:Wednesday Workshop: Wild Explorers-Kalispell
DESCRIPTION:Join us for Wild Explorers\, an exciting hands-on workshop where kids dive into the wonders of the natural world with the help of special guest experts from our local outdoor education community.
URL:https://flatheadcountylibrary.org/event/wednesday-workshop-wild-explorers-kalispell/2026-03-04/
LOCATION:Kalispell Library\, 247 1st Ave East\, Kalispell\, MT\, 59901\, United States
CATEGORIES:Kids Program
END:VEVENT
BEGIN:VEVENT
DTSTART;TZID=America/Denver:20260304T110000
DTEND;TZID=America/Denver:20260304T120000
DTSTAMP:20260420T095238
CREATED:20260214T223817Z
LAST-MODIFIED:20260214T223818Z
UID:10004698-1772622000-1772625600@flatheadcountylibrary.org
SUMMARY:Baby Storytime-Kalispell
DESCRIPTION:Make connections with other parents and learn fun techniques for using books\, songs\, and rhymes at home. Rhythm and repetition will get your little one recognizing and requesting favorite songs. Especially for ages birth to 24 months.
URL:https://flatheadcountylibrary.org/event/baby-storytime-3-2/2026-03-04/
LOCATION:Kalispell Library\, 247 1st Ave East\, Kalispell\, MT\, 59901\, United States
CATEGORIES:Storytime
END:VEVENT
END:VCALENDAR